{"text_format":"1","workbook":"xlsx","n_sheets":11,"sheets":["Read before","Denominator estimations","Vaccination Table","Crude birth rate","Crude Death Rate","General Table","Annual growth rate","Ratio males-females","Notes UN","Country list","Vaccination-Ages for antigen"],"not_rendered":{"charts":0,"images":1,"macros":1,"external_links":0,"defined_names":24,"comments":4,"pivot_tables":0},"unopened":[],"bounds":{"document_bytes":16777216,"sheet_cells":100000,"rows_first":2000,"rows_last":500,"rows_between":2000,"halvings":0,"cell_chars":16384,"cell_head_chars":4096},"cells_cut":0,"cells_raw":0,"read":"whole","date_system":"1900"}

{"sheet":"Read before","index":0,"n_rows":19,"n_cols":3,"rows_kept":19,"cut":false,"hidden":false,"merged":[[11,1,11,2],[3,1,3,2],[20,1,20,2],[5,1,5,2],[16,1,16,2]]}
[null,null,"Population denominators estimation tool "]
[null,null,"MSF-OCBA. Emergency Preparedness and Response (v.6, October 2019)"]
[]
[null,"Introduction"]
[null,null,"This tool aims at facilitating the estimation of the most widely used population denominators in the MSF interventions (particularly in emergencies).\nFor a total population entered by the user, the tool provides with disaggregated data by age groups for that specific country/region.\nThe figures correspond to any one day and not to a period of time.\n\n"]
[null,"Data Sources / formulas:"]
[null,null,"Population data: United Nations, Department of Economic and Social Affairs, Population Division (2017). World Population Prospects: The 2017 Revision, DVD Edition:"]
[null,null,"Formula for Pregnant and Lactating Women (PLW):"]
[null,null,"Formula for 0-5 months (10% of children U5): \"...assuming that 90% of the children under five years old are aged between six and 59 months\".(From \"Measuring\nMortality, Nutritional Status, and Food Security in Crisis Situations: SMART Methodology. SMART Manual Version 2 published in 2017), page 41."]
[null,null,"Crude Mortality Rate has been extrapolated from Annual Crude Death Rate."]
[]
[null,"How to use the excel file"]
[null,null,"1. Choose the country or area of the intervention from the PULL-DOWN LIST, and enter the year of the intervention."]
[null,null,"2. Enter key figures of your intervention's target population: Total population, % of U5, % of U1, % of Crude Birth Rate:"]
[null,null,"        Use the most recent and reliable data if available locally.\n        In absence of reliable figures, enter the suggested % for the selected country/area. \n        In emergencies where there is not access to Family Planning (i.e. Chronic violent context), use 4,5% of Crude Birth Rate."]
[null,null,"3. For reactive vaccination campaigns, enter the antigen and the maximum targeted age."]
[null,"Support"]
[null,null,"Please, send any comment and/or contribution to improve the tool to:"]
[null,null,"carmen.ramirezdelapiscina@barcelona.msf.org"]

{"sheet":"Denominator estimations","index":1,"n_rows":102,"n_cols":31,"rows_kept":102,"cut":false,"hidden":false,"merged":[[8,17,24,17],[26,17,45,17],[29,3,29,6],[33,3,33,6],[40,8,41,9],[41,3,41,6],[42,8,43,9],[37,3,37,6],[32,8,34,9],[36,8,38,9],[5,3,5,9],[7,3,7,8],[6,7,6,9],[9,5,9,6],[12,3,13,8],[15,28,15,30],[16,28,16,30],[63,18,63,19],[66,18,66,19],[8,28,8,29],[10,28,10,29],[32,28,33,30],[64,18,65,18],[63,17,70,17],[47,17,56,17],[58,17,61,17],[67,18,67,19],[70,18,70,19],[68,18,68,19],[69,18,69,19]]}
[null,null,null,null,{"$f":"'Read before'!C1","v":"Population denominators estimation tool "}]
[null,null,null,null,{"$f":"'Read before'!C2","v":"MSF-OCBA. Emergency Preparedness and Response (v.6, October 2019)"}]
[]
[]
[]
[null,null,null,"Choose region/country from the pull-down list  ",null,null,null,null,null,null,null,null,null,null,null,null,null,"GENERAL EMERGENCY INTERVENTIONS",null,null,null,null,null,null,null,null,null,null,"REACTIVE VACCINATION CAMPAIGNS"]
[null,null,null,null,null,null,null,"                     ↓       "]
[]
[null,null,null,null,null,null,null,null,null,null,null,null,null,null,null,null,null,"ALL  AGES","Age group","%","Population","Male","Female",null,null,null,null,null,"Choose antigen →",null,"Meningitis_Polysacharide"]
[null,null,null,null,null,"Enter year →",null,2022,null,null,null,null,null,null,null,null,null,null,"All ages",{"$f":"SUM(T11:T15)","v":{"$error":"#N/A"}},{"$f":"SUM(U11:U15)","v":{"$error":"#N/A"}},{"$f":"U10*$I$18","v":{"$error":"#N/A"}},{"$f":"$I$19*U10","v":{"$error":"#N/A"}}]
[null,null,null,null,null,null,null,null,null,null,null,null,null,null,null,null,null,null,"0 - 4 y",{"$f":"H34","v":0.17169999999999999},{"$f":"$H$30*T11","v":50479.799999999996},{"$error":"#N/A"},{"$error":"#N/A"},null,null,null,null,null,"Enter maximum targeted age →",null,"<99 y.o."]
[null,null,null,null,null,null,null,null,null,null,null,null,null,null,null,null,null,null,"5 - 14 y",{"$f":"VLOOKUP($D$8,TABLAEDADES,20,FALSE)-$M$16","v":{"$error":"#N/A"}},{"$f":"$H$30*T12","v":{"$error":"#N/A"}},{"$error":"#N/A"},{"$error":"#N/A"}]
[null,null,null,{"$f":"\"General data for '\"&D8&\"'\"","v":"General data for ''"},null,null,null,null,null,null,null,null,null,null,null,null,null,null,"15 - 29 y",{"$f":"VLOOKUP($D$8,TABLAEDADES,29,FALSE)-$M$16","v":{"$error":"#N/A"}},{"$f":"$H$30*T13","v":{"$error":"#N/A"}},{"$error":"#N/A"},{"$error":"#N/A"},{"$f":"SUM(T11:T15)","v":{"$error":"#N/A"}}]
[null,null,null,null,null,null,null,null,null,null,null,null,null,null,null,null,null,null,"30 - 44 y",{"$f":"VLOOKUP($D$8,TABLAEDADES,34,FALSE)-$M$16","v":{"$error":"#N/A"}},{"$f":"$H$30*T14","v":{"$error":"#N/A"}},{"$error":"#N/A"},{"$error":"#N/A"}]
[null,null,null,null,null,null,null,"Total Population in 2015",{"$f":"VLOOKUP($D$8,'General Table'!$D$11:$F$251,3,FALSE)*1000","v":{"$error":"#N/A"}},null,null,null,{"$f":"H34-I20","v":{"$error":"#N/A"}},null,null,null,null,null,">= 45 y",{"$f":"VLOOKUP($D$8,TABLAEDADES,49,FALSE)-$M$16","v":{"$error":"#N/A"}},{"$f":"$H$30*T15","v":{"$error":"#N/A"}},{"$error":"#N/A"},{"$error":"#N/A"}]
[null,null,null,null,null,null,null,{"$f":" \"Total Population proyected to \"&H10","v":"Total Population proyected to 2022"},{"$f":"IF(H10=2015,I15,(100%+I22)^(H10-2015)*I15)","v":{"$error":"#N/A"}},null,null,null,{"$f":"M15/4","v":{"$error":"#N/A"}},null,null,null,null,null,null,null,null,null,null,null,null,null,null,null,{"$f":"AE9","v":"Meningitis_Polysacharide"}]
[null,null,null,null,null,null,null,"Ratio Male : Female (males per 100 females)",{"$f":"L22&\" : 100\"","v":{"$error":"#N/A"}},null,null,null,null,null,null,null,null,null,"5 - 9 y.o.",{"$f":"VLOOKUP(D8,TABLAEDADES,16,FALSE)-$M$16","v":{"$error":"#N/A"}},{"$f":"$H$30*T17","v":{"$error":"#N/A"}},{"$f":"U17*$I$18","v":{"$error":"#N/A"}},{"$f":"$I$19*U17","v":{"$error":"#N/A"}},null,null,null,null,null,{"$f":"\"Reactive vaccination campaign\"","v":"Reactive vaccination campaign"}]
[null,null,null,null,null,null,null,"% Male",{"$f":"L22/N22","v":{"$error":"#N/A"}},null,null,null,null,null,null,null,null,null,"10 - 17 y.o.",{"$f":"VLOOKUP(D8,TABLAEDADES,22,FALSE)-$M$16-T11-T17","v":{"$error":"#N/A"}},{"$f":"$H$30*T18","v":{"$error":"#N/A"}},{"$f":"U18*$I$18","v":{"$error":"#N/A"}},{"$f":"$I$19*U18","v":{"$error":"#N/A"}},null,null,null,null,null,"Age group","% Tot Pop","Population"]
[null,null,null,null,null,null,null,"% Female",{"$f":"M22/N22","v":{"$error":"#N/A"}},null,null,null,null,null,null,null,null,null,">= 18 y.o.",{"$f":"VLOOKUP(D8,TABLAEDADES,24,FALSE)-$M$16*2","v":{"$error":"#N/A"}},{"$f":"$H$30*T19","v":{"$error":"#N/A"}},{"$f":"U19*$I$18","v":{"$error":"#N/A"}},{"$f":"$I$19*U19","v":{"$error":"#N/A"}},null,null,null,null,null,{"$f":"'Vaccination-Ages for antigen'!B29","v":"2 - 99 y"},{"$f":"'Vaccination-Ages for antigen'!C29","v":{"$error":"#N/A"}},{"$f":"AD19*$H$30","v":{"$error":"#N/A"}}]
[null,null,null,null,null,null,null,"Children Under 5 (0-59m)",{"$f":"VLOOKUP(D8,TABLAEDADES,7,FALSE)","v":{"$error":"#N/A"}},null,null,null,null,null,null,null,null,null,null,null,null,null,null,null,null,null,null,null,{"$f":"'Vaccination-Ages for antigen'!B30","v":"2 - 4 y (24 - 59m)"},{"$f":"IF('Vaccination-Ages for antigen'!C30=0,\"\",'Vaccination-Ages for antigen'!C30)","v":9.9499999999999991E-2},{"$f":"IFERROR(AD20*$H$30,\"\")","v":29252.999999999996}]
[null,null,null,null,null,null,null,"Children Under 1 (0-11m)",{"$f":"VLOOKUP(D8,TABLAEDADES,5,FALSE)/2","v":{"$error":"#N/A"}},null,null,null,null,null,null,null,null,null,"0 - 14 y",{"$f":"T11+T12","v":{"$error":"#N/A"}},{"$f":"$H$30*T21","v":{"$error":"#N/A"}},{"$f":"U21*$I$18","v":{"$error":"#N/A"}},{"$f":"U21*$I$19","v":{"$error":"#N/A"}},null,null,null,null,null,{"$f":"'Vaccination-Ages for antigen'!B31","v":"5 - 14 y"},{"$f":"IF('Vaccination-Ages for antigen'!C31=0,\"\",'Vaccination-Ages for antigen'!C31)","v":{"$error":"#N/A"}},""]
[null,null,null,null,null,null,null,"Annual growth rate",{"$f":"VLOOKUP($D$8,'Annual growth rate'!$C$10:$E$282,3,FALSE)%","v":{"$error":"#N/A"}},null,null,{"$f":"ROUND(VLOOKUP($D$8,'Ratio males-females'!$C$10:$E$250,3,FALSE),1)","v":{"$error":"#N/A"}},100,{"$f":"M22+L22","v":{"$error":"#N/A"}},null,null,null,null,"15 - 44 y",{"$f":"T13+T14","v":{"$error":"#N/A"}},{"$f":"T22*$H$30","v":{"$error":"#N/A"}},{"$f":"U22*$I$18","v":{"$error":"#N/A"}},{"$f":"$I$19*U22","v":{"$error":"#N/A"}},{"$f":"SUM(T21:T22)","v":{"$error":"#N/A"}},null,null,null,null,{"$f":"IF('Vaccination-Ages for antigen'!B32=0,\"\",'Vaccination-Ages for antigen'!B32)","v":"15- 29 y"},{"$f":"IF('Vaccination-Ages for antigen'!C32=0,\"\",'Vaccination-Ages for antigen'!C32)","v":{"$error":"#N/A"}},""]
[null,null,null,null,null,null,null,"Crude Birth Rate",{"$f":"ROUND(L23,1)&\"/1000 (\"&ROUND(L23/10,2)&\"%)\"","v":{"$error":"#N/A"}},null,null,{"$f":"VLOOKUP(D8,Crude_birth_rate,3,FALSE)","v":{"$error":"#N/A"}},null,null,null,null,null,null,null,null,null,null,null,null,null,null,null,null,{"$f":"IF('Vaccination-Ages for antigen'!B33=0,\"\",'Vaccination-Ages for antigen'!B33)","v":"30-44 y"},{"$f":"IF('Vaccination-Ages for antigen'!C33=0,\"\",'Vaccination-Ages for antigen'!C33)","v":{"$error":"#N/A"}},""]
[null,null,null,null,null,null,null,"Crude Death Rate",{"$f":"ROUND(L24,1)&\"/1000 (\"&ROUND(L24/10,2)&\"%)\"","v":{"$error":"#N/A"}},null,null,{"$f":"VLOOKUP(D8,'Crude Death Rate'!D11:G251,4,FALSE)","v":{"$error":"#N/A"}},null,null,null,null,null,null,"15 - 49 y",{"$f":"T22+VLOOKUP($D$8,TABLAEDADES,36,FALSE)","v":{"$error":"#N/A"}},{"$f":"T24*$H$30","v":{"$error":"#N/A"}},{"$f":"U24*$I$18","v":{"$error":"#N/A"}},{"$f":"U24*$I$19","v":{"$error":"#N/A"}},{"$f":"SUM(T24:T25)","v":{"$error":"#N/A"}},null,null,null,null,{"$f":"IF('Vaccination-Ages for antigen'!B34=0,\"\",'Vaccination-Ages for antigen'!B34)","v":">= 45 y"},{"$f":"IF('Vaccination-Ages for antigen'!C34=0,\"\",'Vaccination-Ages for antigen'!C34)","v":{"$error":"#N/A"}},""]
[null,null,null,null,null,null,null,"Crude Mortality Rate (CMR)",{"$f":"ROUND(L25,2)&\" deaths/10000/day)\"","v":{"$error":"#N/A"}},null,null,{"$f":"L24/36.5","v":{"$error":"#N/A"}},null,null,null,null,null,null,">= 50 y",{"$f":"VLOOKUP($D$8,TABLAEDADES,53,FALSE)-$M$16","v":{"$error":"#N/A"}},{"$f":"T25*$H$30","v":{"$error":"#N/A"}},{"$f":"U25*$I$18","v":{"$error":"#N/A"}},{"$f":"U25*$I$19","v":{"$error":"#N/A"}},null,null,null,null,null,{"$f":"IF('Vaccination-Ages for antigen'!B35=0,\"\",'Vaccination-Ages for antigen'!B35)","v":""},{"$f":"IF('Vaccination-Ages for antigen'!C35=0,\"\",'Vaccination-Ages for antigen'!C35)","v":""},""]
[null,null,null,null,null,null,null,null,null,null,null,null,null,null,null,null,null,null,null,null,null,null,null,null,null,null,null,null,{"$f":"IF('Vaccination-Ages for antigen'!B36=0,\"\",'Vaccination-Ages for antigen'!B36)","v":""},{"$f":"IF('Vaccination-Ages for antigen'!C36=0,\"\",'Vaccination-Ages for antigen'!C36)","v":""},""]
[null,null,null,null,null,null,null,null,null,null,null,null,null,null,null,null,null,"UNDER 5 y.o.","Age group","% of total pop.","U5 Population","Male","Female",null,null,null,null,null,{"$f":"IF('Vaccination-Ages for antigen'!B37=0,\"\",'Vaccination-Ages for antigen'!B37)","v":""},{"$f":"IF('Vaccination-Ages for antigen'!C37=0,\"\",'Vaccination-Ages for antigen'!C37)","v":""},""]
[null,null,null,"Confirm figures of your intervention's target population:",null,null,null,null,null,null,null,null,null,null,null,null,null,null,"Total U5",{"$f":"$H$34","v":0.17169999999999999},{"$f":"U11","v":50479.799999999996},{"$f":"U28*$L$22/$N$22","v":{"$error":"#N/A"}},{"$f":"U28*$M$22/$N$22","v":{"$error":"#N/A"}},null,null,null,null,null,{"$f":"IF('Vaccination-Ages for antigen'!B38=0,\"\",'Vaccination-Ages for antigen'!B38)","v":""},{"$f":"IF('Vaccination-Ages for antigen'!C38=0,\"\",'Vaccination-Ages for antigen'!C38)","v":""},""]
[null,null,null,null,null,null,null,null,null,null,null,null,null,null,null,null,null,null,"U1 (0 - 11 m)",{"$f":"T34","v":3.61E-2},{"$f":"$H$30*T29","v":10613.4},{"$f":"U29*$I$18","v":{"$error":"#N/A"}},{"$f":"U29*$I$19","v":{"$error":"#N/A"}}]
[null,null,null,"Enter TOTAL population →",null,null,null,294000,null,null,null,null,null,null,null,null,null,null,"U2 (0 - 23 m)",{"$f":"T34+T35","v":7.22E-2},{"$f":"$H$30*T30","v":21226.799999999999},{"$f":"U30*$I$18","v":{"$error":"#N/A"}},{"$f":"U30*$I$19","v":{"$error":"#N/A"}}]
[null,null,null,null,null,null,null,null,null,null,null,null,null,null,null,null,null,null,"U3 (0 - 35 m)",{"$f":"T34+T35+T36","v":0.10536666666666666},{"$f":"$H$30*T31","v":30977.8},{"$error":"#N/A"},{"$error":"#N/A"}]
[null,null,null,null,null,null,null,null,null,null,null,null,null,null,null,null,null,null,"U4 (0 - 48 m)",{"$f":"T34+T35+T36+T37","v":0.13853333333333334},{"$f":"$H$30*T32","v":40728.800000000003},{"$error":"#N/A"},{"$error":"#N/A"}]
[null,null,null,null,null,null,null,null,{"$f":"\"(\"&(ROUND($I$20*100,2)&\"% is suggested for '\"&$D$8&\"', in absence of other reliable figures)\")","v":{"$error":"#N/A"}},null,null,null,null,null,null,null,null,null,null,null,null,null,null,null,null,null,null,null,"HMIS AGE GROUPS"]
[null,null,null,"Enter % of U5 population →",null,null,null,0.17169999999999999,null,null,null,null,null,null,null,null,null,null,"0 - 11 m",{"$f":"$H$38","v":3.61E-2},{"$f":"$H$30*T34","v":10613.4},{"$f":"U34*$I$18","v":{"$error":"#N/A"}},{"$f":"U34*$I$19","v":{"$error":"#N/A"}}]
[null,null,null,null,null,null,null,null,null,null,null,null,null,null,null,null,null,null,"12 - 23 m",{"$f":"H38","v":3.61E-2},10613.4,{"$f":"U35*$I$18","v":{"$error":"#N/A"}},{"$f":"U35*$I$19","v":{"$error":"#N/A"}}]
[null,null,null,null,null,null,null,null,null,null,null,null,null,null,null,null,null,null,"24 - 35 m",{"$f":"($H$34-$H$38*2)/3","v":3.3166666666666664E-2},9751,{"$error":"#N/A"},{"$error":"#N/A"},null,null,null,null,null,"Age group","%"]
[null,null,null,null,null,null,null,null,{"$f":"\"(\"&(ROUND($I$21*100,2)&\"% is suggested for \"&$D$8&\" ,in absence of other reliable figures)\")","v":{"$error":"#N/A"}},null,null,null,null,null,null,null,null,null,"36 - 47 m",{"$f":"($H$34-$H$38*2)/3","v":3.3166666666666664E-2},9751,{"$error":"#N/A"},{"$error":"#N/A"},null,null,null,null,null,"0 - 6 w",{"$f":"T55","v":3.9623076923076921E-3}]
[null,null,null,"Enter % of U1 population →",null,null,null,3.61E-2,null,null,null,null,null,null,null,null,null,null,"48 - 59 m",{"$f":"($H$34-$H$38*2)/3","v":3.3166666666666664E-2},9751,{"$error":"#N/A"},{"$error":"#N/A"},null,null,null,null,null,"7 w - 2 m",{"$f":"T56","v":4.6226923076923086E-3}]
[null,null,null,null,null,null,null,null,null,null,null,null,null,null,null,null,null,null,null,null,null,null,null,null,null,null,null,null,"3 - 5 m",{"$f":"T57","v":8.5850000000000006E-3}]
[null,null,null,null,null,null,null,null,null,null,null,null,null,null,null,null,null,null,"6 - 23 m",{"$f":"T30-T50","v":5.5029999999999996E-2},16178.819999999998,{"$error":"#N/A"},{"$f":"U40*$I$19","v":{"$error":"#N/A"}},null,null,null,null,null,"6 - 8 m",{"$f":"T51","v":9.4649999999999995E-3}]
[null,null,null,null,null,null,null,null,{"$f":"L42&\"% suggested for \"&D8&\" if Family Planning accessible.\"","v":{"$error":"#N/A"}},null,null,null,null,null,null,null,null,null,"24 - 47 m",{"$f":"T36+T37","v":6.6333333333333327E-2},19502,{"$error":"#N/A"},{"$error":"#N/A"},null,null,null,null,null,"9 - 11 m",{"$f":"T52","v":9.4649999999999995E-3}]
[null,null,null,"Enter Crude Birth Rate →",null,null,null,4.0500000000000001E-2,null,null,null,{"$f":"ROUND(L23/10,2)","v":{"$error":"#N/A"}},null,null,null,null,null,null,"24 - 59 m",{"$f":"T36+T37+T38","v":9.9499999999999991E-2},29252.999999999996,{"$error":"#N/A"},{"$error":"#N/A"},null,null,null,null,null,"12 - 23 m",{"$f":"T35","v":3.61E-2}]
[null,null,null,null,null,null,null,null,"4,50% suggested if Family Planning NOT accessible",null,null,4.5,null,null,null,null,null,null,null,null,null,null,null,null,null,null,null,null,"24 - 59 m",{"$f":"T42","v":9.9499999999999991E-2}]
[null,null,null,null,null,null,null,null,null,null,null,null,null,null,null,null,null,null,"6 - 23 m",{"$f":"T35+T51+T52","v":5.5030000000000003E-2},{"$f":"$H$30*T44","v":16178.820000000002},{"$f":"U44*$I$18","v":{"$error":"#N/A"}},{"$f":"U44*$I$19","v":{"$error":"#N/A"}},null,null,null,null,null,"5 - 14 y",{"$f":"T12","v":{"$error":"#N/A"}}]
[null,null,null,null,null,null,null,null,null,null,null,null,null,null,null,null,null,null,"6 - 35 m",{"$f":"T44+T36","v":8.8196666666666673E-2},{"$f":"$H$30*T45","v":25929.820000000003},{"$f":"U45*$I$18","v":{"$error":"#N/A"}},{"$f":"U45*$I$19","v":{"$error":"#N/A"}},null,null,null,null,null,"15 - 29 y",{"$f":"T13","v":{"$error":"#N/A"}}]
[null,null,null,null,null,null,null,null,null,null,null,null,null,null,null,null,null,null,"6 - 59 m",{"$f":"T45+T37+T38","v":0.15453},45431.82,{"$error":"#N/A"},{"$error":"#N/A"},null,null,null,null,null,">= 30 y",{"$f":"T14+T15","v":{"$error":"#N/A"}}]
[]
[null,null,null,null,null,null,null,null,null,null,null,null,null,null,null,null,null,"UNDER 1 y.o.","Age group","% of total pop.","U1 Population","Male","Female"]
[null,null,null,null,null,null,null,null,null,null,null,null,null,null,null,null,null,null,"Total U1",{"$f":"$H$38","v":3.61E-2},{"$f":"U34","v":10613.4},{"$f":"U49*$I$18","v":{"$error":"#N/A"}},{"$f":"U49*$I$19","v":{"$error":"#N/A"}}]
[null,null,null,null,null,null,null,null,null,null,null,null,null,null,null,null,null,null,"0 - 5 m (< 6 m)",{"$f":"T28*0.1","v":1.7170000000000001E-2},{"$f":"T50*$H$30","v":5047.9800000000005},{"$error":"#N/A"},{"$error":"#N/A"}]
[null,null,null,null,null,null,null,null,null,null,null,null,null,null,null,null,null,null,"6 - 8 m",{"$f":"($T$49-T50)/2","v":9.4649999999999995E-3},{"$f":"T51*$H$30","v":2782.71},{"$error":"#N/A"},{"$error":"#N/A"}]
[null,null,null,null,null,null,null,null,null,null,null,null,null,null,null,null,null,null,"9 - 11 m",{"$f":"($T$49-T50)/2","v":9.4649999999999995E-3},{"$f":"T52*$H$30","v":2782.71},{"$error":"#N/A"},{"$error":"#N/A"}]
[null,null,null,null,null,null,null,null," "]
[null,null,null,null,null,null,null,null,null,null,null,null,null,null,null,null,null,null,"0 - 4 weeks (< 1 m)",{"$f":"T50/26*4","v":2.6415384615384617E-3},{"$f":"T100","v":777},{"$f":"U54*$I$18","v":{"$error":"#N/A"}},{"$f":"U54*$I$19","v":{"$error":"#N/A"}}]
[null,null,null,null,null,null,null,null,null,null,null,null,null,null,null,null,null,null,"0 - 6 weeks",{"$f":"$T$50/26*6","v":3.9623076923076921E-3},{"$f":"T55*$H$30","v":1164.9184615384615},{"$error":"#N/A"},{"$error":"#N/A"}]
[null,null,null,null,null,null,null,null,null,null,null,null,null,null,null,null,null,null,"7 weeks - 2 m",{"$f":"T50-T55-T57","v":4.6226923076923086E-3},{"$f":"T56*$H$30","v":1359.0715384615387},{"$error":"#N/A"},{"$error":"#N/A"}]
[null,null,null,null,null,null,null,null,null,null,null,null,null,null,null,null,null,null,"3 - 5 m",{"$f":"$T$50/2","v":8.5850000000000006E-3},{"$f":"T57*$H$30","v":2523.9900000000002},{"$error":"#N/A"},{"$error":"#N/A"}]
[]
[null,null,null,null,null,null,null,null,null,null,null,null,null,null,null,null,null,"NUT","Age group","% of total pop.","1-23 m Pop.","Male","Female"]
[null,null,null,null,null,null,null,null,null,null,null,null,null,null,null,null,null,null,"Total 1 - 23 m",{"$f":"T34+T35-T54","v":6.9558461538461541E-2},{"$f":"T99&\" (\"&U99&\"%)\"","v":"20450 (100%)"},{"$f":"T99*$I$18","v":{"$error":"#N/A"}},{"$f":"T99*$I$19","v":{"$error":"#N/A"}}]
[null,null,null,null,null,null,null,null,null,null,null,null,null,null,null,null,null,null,"1 - 5 m",{"$f":"(T50-T54)","v":1.4528461538461539E-2},{"$f":"T101&\" (\"&U101&\"%)\"","v":"4271 (20,89%)"},{"$f":"T101*$I$18","v":{"$error":"#N/A"}},{"$f":"T101*$I$19","v":{"$error":"#N/A"}}]
[null,null,null,null,null,null,null,null,null,null,null,null,null,null,null,null,null,null,"6 - 23 m",{"$f":"T44","v":5.5030000000000003E-2},{"$f":"T102&\" (\"&U102&\"%)\"","v":"16179 (79,11%)"},{"$f":"T102*$I$18","v":{"$error":"#N/A"}},{"$f":"T102*$I$19","v":{"$error":"#N/A"}}]
[]
[null,null,null,null,null,null,null,null,null,null,null,null,null,null,null,null,null,"PLW","Women groups",null,"% of total pop","Female pop."]
[null,null,null,null,null,null,null,null,null,null,null,null,null,null,null,null,null,null,"Women child-bearing age ","15 - 44 y",{"$f":"T22*I19","v":{"$error":"#N/A"}},{"$f":"U65*$H$30","v":{"$error":"#N/A"}}]
[null,null,null,null,null,null,null,null,null,null,null,null,null,null,null,null,null,null,null,"15 - 49 y",{"$f":"I19*T24","v":{"$error":"#N/A"}},{"$error":"#N/A"}]
[null,null,null,null,null,null,null,null,null,null,null,null,null,null,null,null,null,null,"Total PLW",null,{"$f":"U69+U71","v":4.8217227926078035E-2},14175.865010266942]
[null,null,null,null,null,null,null,null,null,null,null,null,null,null,null,null,null,null,"PW 2nd-3rd trim. & LW",null,{"$f":"U70+U71","v":3.7868151950718687E-2},{"$f":"U68*$H$30","v":11133.236673511294}]
[null,null,null,null,null,null,null,null,null,null,null,null,null,null,null,null,null,null,"Total PW",null,{"$f":"H42/365.25*280","v":3.104722792607803E-2},9127.8850102669403]
[null,null,null,null,null,null,null,null,null,null,null,null,null,null,null,null,null,null,"PW 2nd and 3rd trimester",null,{"$f":"U69*2/3","v":2.0698151950718686E-2},6085.2566735112932]
[null,null,null,null,null,null,null,null,null,null,null,null,null,null,null,null,null,null,{"$f":"\"LW (6 months post-partum)\"","v":"LW (6 months post-partum)"},null,{"$f":"T50","v":1.7170000000000001E-2},5047.9800000000005]
[]
[]
[]
[]
[]
[]
[]
[]
[]
[]
[]
[]
[]
[]
[]
[]
[]
[]
[]
[]
[]
[]
[]
[]
[]
[]
[null,null,null,null,null,null,null,null,null,null,null,null,null,null,null,null,null,null,"Cálculos Nut"]
[null,null,null,null,null,null,null,null,null,null,null,null,null,null,null,null,null,null,"Total 1-23 m",{"$f":"ROUND(T60*$H$30,0)","v":20450},100]
[null,null,null,null,null,null,null,null,null,null,null,null,null,null,null,null,null,null,"0-4 w (<1 m)",{"$f":"ROUND(T54*$H$30,0)","v":777},{"$f":"ROUND(T100/$T$99*100,2)","v":3.8}]
[null,null,null,null,null,null,null,null,null,null,null,null,null,null,null,null,null,null,"1 - 5 m",{"$f":"ROUND(T61*$H$30,0)","v":4271},{"$f":"ROUND(T101/$T$99*100,2)","v":20.89}]
[null,null,null,null,null,null,null,null,null,null,null,null,null,null,null,null,null,null,"6 - 23 m",{"$f":"ROUND(T62*$H$30,0)","v":16179},{"$f":"ROUND(T102/$T$99*100,2)","v":79.11}]

{"sheet":"Vaccination Table","index":2,"n_rows":251,"n_cols":27,"rows_kept":251,"cut":false,"hidden":true,"merged":[[7,3,9,3],[7,4,9,4],[7,5,9,5],[8,6,8,7],[8,8,8,9],[8,16,8,17],[8,25,8,26],[8,18,8,19],[8,10,8,11],[8,14,8,15],[8,12,8,13],[8,20,8,21],[8,23,8,24]]}
[null,null,null,"MSF-OCBA. Emergency Preparedness"]
[null,null,null,"Total population (both sexes combined) by five-year age group, major area, region and country"]
[null,null,null,"Reference date (as of 1 July)"]
[null,null,null,"Source: United Nations, Department of Economic and Social Affairs, Population Division (2017). World Population Prospects: The 2017 Revision, DVD Edition."]
[]
[]
[null,null,null,1,2,3,4,5,6,7,8,9,10,11,12,13,14,15,16,17,18,19,20,21,22,23,24]
[null,null,null,"Major area, region, country","Notes","Total Population (Thousands)"]
[null,null,null,null,null,null,"5-9",null,"10-14",null,"5-11",null,"5-14",null,"15-19",null,"15-29",null,"30-44",null,">=45",null,"9","9-14",null,"FINAL"]
[null,"Order","Code",null,null,null,"#","%","#","%","#","%","#","%","#","%","#","%","#","%","#","%","#","#","%","#","%"]
[{"$f":"'General Table'!A11","v":1},null,{"$f":"'General Table'!C11","v":900},{"$f":"'General Table'!D11","v":"WORLD"},null,{"$f":"'General Table'!F11","v":7383008.8200000003},{"$f":"'General Table'!R11","v":644476},{"$f":"G11/F11","v":8.7291782484962541E-2},{"$f":"'General Table'!T11","v":612407},{"$f":"I11/F11","v":8.2948160422216588E-2},{"$f":"G11+I11/5*2","v":889438.8},{"$f":"K11/F11","v":0.12047104665384918},{"$f":"G11+I11","v":1256883},{"$f":"M11/F11","v":0.17023994290717914},{"$f":"'General Table'!AB11","v":593639},{"$f":"O11/F11","v":8.0406107384279141E-2},{"$f":"'General Table'!AE11","v":1806909},{"$f":"Q11/F11","v":0.2447388380608761},{"$f":"'General Table'!AJ11","v":1540189},{"$f":"S11/F11","v":0.20861264527109152},{"$f":"'General Table'!AY11","v":2105380},{"$f":"U11/F11","v":0.28516558104287892},{"$f":"G11/5","v":128895.2},{"$f":"W11+I11","v":741302.2},{"$f":"X11/F11","v":0.10040651691920909}]
[{"$f":"'General Table'!A12","v":2},null,{"$f":"'General Table'!C12","v":901},{"$f":"'General Table'!D12","v":"More developed regions"},null,{"$f":"'General Table'!F12","v":1253206.55},{"$f":"'General Table'!R12","v":69791},5.5689941933354879E-2,{"$f":"'General Table'!T12","v":67129},5.3565790890575858E-2,96642.6,7.7116258289585224E-2,136920,0.10925573282393074,{"$f":"'General Table'!AB12","v":68954},5.5022055223059599E-2,{"$f":"'General Table'!AE12","v":231492},0.18471974950976755,{"$f":"'General Table'!AJ12","v":257024},0.20509308700947979,{"$f":"'General Table'!AY12","v":558649},0.44577567839874438,13958.2,81087.199999999997,{"$f":"X12/F12","v":6.4703779277246826E-2}]
[{"$f":"'General Table'!A13","v":3},null,{"$f":"'General Table'!C13","v":902},{"$f":"'General Table'!D13","v":"Less developed regions"},null,{"$f":"'General Table'!F13","v":6129802.2699999996},{"$f":"'General Table'!R13","v":574685},9.3752616265059402E-2,{"$f":"'General Table'!T13","v":545278},8.895523476648784E-2,792796.2,0.12933471017165452,1119963,0.18270785103154724,{"$f":"'General Table'!AB13","v":524685},8.5595746304554132E-2,{"$f":"'General Table'!AE13","v":1575417},0.25700943205138654,{"$f":"'General Table'!AJ13","v":1283165},0.20933220085743484,{"$f":"'General Table'!AY13","v":1546730},0.25232950948024629,114937,660215,0.10770575801949972]
[{"$f":"'General Table'!A14","v":4},null,{"$f":"'General Table'!C14","v":941},{"$f":"'General Table'!D14","v":"Least developed countries"},null,{"$f":"'General Table'!F14","v":956631.11},{"$f":"'General Table'!R14","v":127648},0.13343492456564579,{"$f":"'General Table'!T14","v":115614},0.12085536294131183,173893.6,0.18177706974217053,243262,0.25429028750695765,{"$f":"'General Table'!AB14","v":102145},0.1067757455640346,{"$f":"'General Table'!AE14","v":265911},0.27796608036299386,{"$f":"'General Table'!AJ14","v":164227},0.17167223424293612,{"$f":"'General Table'!AY14","v":142461},0.14891947220909427,25529.599999999999,141143.6,0.14754234785444101]
[{"$f":"'General Table'!A15","v":5},null,{"$f":"'General Table'!C15","v":934},{"$f":"'General Table'!D15","v":"Less developed regions, excluding least developed countries"},null,{"$f":"'General Table'!F15","v":5173171.17},{"$f":"'General Table'!R15","v":447037},8.6414499986475421E-2,{"$f":"'General Table'!T15","v":429664},8.3056211727863621E-2,618902.6,0.11963698467762086,876701,0.16947071171433906,{"$f":"'General Table'!AB15","v":422540},8.1679106705452392E-2,{"$f":"'General Table'!AE15","v":1309506},0.25313409453644659,{"$f":"'General Table'!AJ15","v":1118937},0.21629614857688925,{"$f":"'General Table'!AY15","v":1404267},0.27145187233385126,89407.4,519071.4,0.10033911172515872]
[{"$f":"'General Table'!A16","v":6},null,{"$f":"'General Table'!C16","v":948},{"$f":"'General Table'!D16","v":"Less developed regions, excluding China"},null,{"$f":"'General Table'!F16","v":4701441.32},{"$f":"'General Table'!R16","v":491037},0.10444392827176666,{"$f":"'General Table'!T16","v":464951},9.8895417033515148E-2,677017.4,0.14400209508517273,955988,0.2033393453052818,{"$f":"'General Table'!AB16","v":441954},9.4003938349697405E-2,{"$f":"'General Table'!AE16","v":1257378},0.26744521826766093,{"$f":"'General Table'!AJ16","v":958714},0.20391916749478858,{"$f":"'General Table'!AY16","v":1012048},0.21526334821934986,98207.4,563158.4,0.11978420268786849]
[{"$f":"'General Table'!A17","v":7},null,{"$f":"'General Table'!C17","v":1503},{"$f":"'General Table'!D17","v":"High-income countries"},null,{"$f":"'General Table'!F17","v":1180060.96},{"$f":"'General Table'!R17","v":66832},5.663436234684012E-2,{"$f":"'General Table'!T17","v":65597},5.5587806243501188E-2,93070.8,7.8869484844240598E-2,132429,0.1122221685903413,{"$f":"'General Table'!AB17","v":68564},5.8102083133061193E-2,{"$f":"'General Table'!AE17","v":222317},0.18839450463643845,{"$f":"'General Table'!AJ17","v":247128},0.20941968964044028,{"$f":"'General Table'!AY17","v":513083},0.43479363981331948,13366.4,78963.399999999994,6.6914678712869199E-2]
[{"$f":"'General Table'!A18","v":8},null,{"$f":"'General Table'!C18","v":1517},{"$f":"'General Table'!D18","v":"Middle-income countries"},null,{"$f":"'General Table'!F18","v":5558263.9800000004},{"$f":"'General Table'!R18","v":485905},8.7420281179232506E-2,{"$f":"'General Table'!T18","v":466097},8.3856578542712529E-2,672343.8,0.12096291259631753,952002,0.17127685972194504,{"$f":"'General Table'!AB18","v":455397},8.1931517041765253E-2,{"$f":"'General Table'!AE18","v":1407317},0.25319362395594602,{"$f":"'General Table'!AJ18","v":1190346},0.21415787452398041,{"$f":"'General Table'!AY18","v":1503694},0.27053303071078677,97181,563278,0.10134063477855904]
[{"$f":"'General Table'!A19","v":9},null,{"$f":"'General Table'!C19","v":1502},{"$f":"'General Table'!D19","v":"Upper-middle-income countries"},null,{"$f":"'General Table'!F19","v":2588362.98},{"$f":"'General Table'!R19","v":177131},6.8433601225435542E-2,{"$f":"'General Table'!T19","v":170974},6.6054877666346476E-2,245520.6,9.4855552291974135E-2,348105,0.13448847889178203,{"$f":"'General Table'!AB19","v":174030},6.7235546692913997E-2,{"$f":"'General Table'!AE19","v":605396},0.23389146139000952,{"$f":"'General Table'!AJ19","v":583672},0.22549851180455377,{"$f":"'General Table'!AY19","v":866040},0.33458985725410118,35426.199999999997,206400.2,7.9741597911433593E-2]
[{"$f":"'General Table'!A20","v":10},null,{"$f":"'General Table'!C20","v":1501},{"$f":"'General Table'!D20","v":"Lower-middle-income countries"},null,{"$f":"'General Table'!F20","v":2969901},{"$f":"'General Table'!R20","v":308774},0.10396777535682165,{"$f":"'General Table'!T20","v":295123},9.9371325845541647E-2,426823.2,0.14371630569503832,603897,0.20333910120236331,{"$f":"'General Table'!AB20","v":281367},9.4739521620417655E-2,{"$f":"'General Table'!AE20","v":801922},0.27001640795433923,{"$f":"'General Table'!AJ20","v":606675},0.20427448591720734,{"$f":"'General Table'!AY20","v":637655},0.21470581005898851,61754.8,356877.8,0.12016488091690598]
[{"$f":"'General Table'!A21","v":11},null,{"$f":"'General Table'!C21","v":1500},{"$f":"'General Table'!D21","v":"Low-income countries"},null,{"$f":"'General Table'!F21","v":641858.61},{"$f":"'General Table'!R21","v":91494},0.14254541198722878,{"$f":"'General Table'!T21","v":80473},0.12537496381017621,123683.2,0.19269539751129924,171967,0.26792037579740496,{"$f":"'General Table'!AB21","v":69451},0.10820295765760625,{"$f":"'General Table'!AE21","v":176660},0.27523195490047253,{"$f":"'General Table'!AJ21","v":102155},0.1591549889780243,{"$f":"'General Table'!AY21","v":87677},0.13659861943738669,18298.8,98771.8,0.15388404620762197]
[{"$f":"'General Table'!A22","v":12},null,{"$f":"'General Table'!C22","v":947},{"$f":"'General Table'!D22","v":"Sub-Saharan Africa"},null,{"$f":"'General Table'!F22","v":969234.25},{"$f":"'General Table'!R22","v":138491},0.14288702653667057,{"$f":"'General Table'!T22","v":120081},0.12389265030615663,186523.4,0.19244408665913323,258572,0.26677967684282722,{"$f":"'General Table'!AB22","v":103123},0.10639636393369302,{"$f":"'General Table'!AE22","v":266003},0.27444655407090701,{"$f":"'General Table'!AJ22","v":157947},0.16296060524068356,{"$f":"'General Table'!AY22","v":127785},0.13184119318936574,27698.2,147779.20000000001,0.15247005561349075]
[{"$f":"'General Table'!A23","v":13},null,{"$f":"'General Table'!C23","v":903},{"$f":"'General Table'!D23","v":"AFRICA"},null,{"$f":"'General Table'!F23","v":1194369.9099999999},{"$f":"'General Table'!R23","v":162115},0.13573265589050215,{"$f":"'General Table'!T23","v":141159},0.11818700288589823,218578.6,0.18300745704486143,303274,0.25391965877640038,{"$f":"'General Table'!AB23","v":122872},0.10287600095350695,{"$f":"'General Table'!AE23","v":325348},0.2724013701919199,{"$f":"'General Table'!AJ23","v":203878},0.17069920992902443,{"$f":"'General Table'!AY23","v":174881},0.14642113681514299,32423,173582,0.14533353406399865]
[{"$f":"'General Table'!A24","v":14},null,{"$f":"'General Table'!C24","v":910},{"$f":"'General Table'!D24","v":"Eastern Africa"},null,{"$f":"'General Table'!F24","v":399458.03},{"$f":"'General Table'!R24","v":57617},0.14423793157944528,{"$f":"'General Table'!T24","v":50978},0.12761791270036554,78008.2,0.19528509665959148,108595,0.2718558442798108,{"$f":"'General Table'!AB24","v":44247},0.11076758176572392,{"$f":"'General Table'!AE24","v":112823},0.28244018526802428,{"$f":"'General Table'!AJ24","v":63883},0.15992418527673607,{"$f":"'General Table'!AY24","v":49469},0.12384029431076901,11523.4,62501.4,0.15646549901625459]
[{"$f":"'General Table'!A25","v":15},null,{"$f":"'General Table'!C25","v":108},{"$f":"'General Table'!D25","v":"Burundi"},null,{"$f":"'General Table'!F25","v":10199.27},{"$f":"'General Table'!R25","v":1512},0.1482459038735125,{"$f":"'General Table'!T25","v":1199},0.11755743303197189,1991.6,0.19526887708630125,2711,0.26580333690548441,{"$f":"'General Table'!AB25","v":1044},0.10236026696028244,{"$f":"'General Table'!AE25","v":2874},0.28178487283893844,{"$f":"'General Table'!AJ25","v":1482},0.14530451689189519,{"$f":"'General Table'!AY25","v":1280},0.12549917788233864,302.39999999999998,1501.4,0.14720661380667441]
[{"$f":"'General Table'!A26","v":16},null,{"$f":"'General Table'!C26","v":174},{"$f":"'General Table'!D26","v":"Comoros"},null,{"$f":"'General Table'!F26","v":777.42},{"$f":"'General Table'!R26","v":104},0.13377582259267834,{"$f":"'General Table'!T26","v":91},0.11705384476859355,140.4,0.18059736050011579,195,0.25082966736127194,{"$f":"'General Table'!AB26","v":81},0.10419078490391295,{"$f":"'General Table'!AE26","v":219},0.28170101103650536,{"$f":"'General Table'!AJ26","v":135},0.17365130817318825,{"$f":"'General Table'!AY26","v":111},0.14277996449795477,20.8,111.8,0.14380900928712922]
[{"$f":"'General Table'!A27","v":17},null,{"$f":"'General Table'!C27","v":262},{"$f":"'General Table'!D27","v":"Djibouti"},null,{"$f":"'General Table'!F27","v":927.41},{"$f":"'General Table'!R27","v":97},0.10459235936640753,{"$f":"'General Table'!T27","v":99},0.1067489028584984,136.6,0.14729192050980688,196,0.21134126222490593,{"$f":"'General Table'!AB27","v":97},0.10459235936640753,{"$f":"'General Table'!AE27","v":282},0.30407263238481363,{"$f":"'General Table'!AJ27","v":186},0.20055854476445154,{"$f":"'General Table'!AY27","v":163},0.17575829460540646,19.399999999999999,118.4,0.12766737473177991]
[{"$f":"'General Table'!A28","v":18},null,{"$f":"'General Table'!C28","v":232},{"$f":"'General Table'!D28","v":"Eritrea"},null,{"$f":"'General Table'!F28","v":4846.9799999999996},{"$f":"'General Table'!R28","v":704},0.14524508044184214,{"$f":"'General Table'!T28","v":602},0.12420104890055252,944.8,0.19492550000206316,1306,0.26944612934239465,{"$f":"'General Table'!AB28","v":483},9.9649678769047956E-2,{"$f":"'General Table'!AE28","v":1350},0.27852394687000981,{"$f":"'General Table'!AJ28","v":819},0.16897119443447262,{"$f":"'General Table'!AY28","v":626},0.12915258573379715,140.80000000000001,742.8,0.15325006498892094]
[{"$f":"'General Table'!A29","v":19},null,{"$f":"'General Table'!C29","v":231},{"$f":"'General Table'!D29","v":"Ethiopia"},null,{"$f":"'General Table'!F29","v":99873.03},{"$f":"'General Table'!R29","v":13661},0.13678367423117133,{"$f":"'General Table'!T29","v":12996},0.13012521999182361,18859.400000000001,0.18883376222790077,26657,0.26690889422299496,{"$f":"'General Table'!AB29","v":11776},0.11790970995873461,{"$f":"'General Table'!AE29","v":29176},0.29213091862738116,{"$f":"'General Table'!AJ29","v":15787},0.1580707023708002,{"$f":"'General Table'!AY29","v":13353},0.13369975858347344,2732.2,15728.2,0.15748195483805788]
[{"$f":"'General Table'!A30","v":20},null,{"$f":"'General Table'!C30","v":404},{"$f":"'General Table'!D30","v":"Kenya"},null,{"$f":"'General Table'!F30","v":47236.26},{"$f":"'General Table'!R30","v":6632},0.14040061596747921,{"$f":"'General Table'!T30","v":5901},0.12492521634862709,8992.4,0.19037070250693003,12533,0.26532583231610629,{"$f":"'General Table'!AB30","v":5164},0.10932279566587193,{"$f":"'General Table'!AE30","v":13567},0.28721579566206129,{"$f":"'General Table'!AJ30","v":8495},0.1798406563093691,{"$f":"'General Table'!AY30","v":5645},0.11950565095543127,1326.4,7227.4,0.15300533954212292]
[{"$f":"'General Table'!A31","v":21},null,{"$f":"'General Table'!C31","v":450},{"$f":"'General Table'!D31","v":"Madagascar"},null,{"$f":"'General Table'!F31","v":24234.09},{"$f":"'General Table'!R31","v":3356},0.13848260858980058,{"$f":"'General Table'!T31","v":3036},0.12527806903415808,4570.3999999999996,0.18859383620346379,6392,0.26376067762395866,{"$f":"'General Table'!AB31","v":2704},0.111578359245179,{"$f":"'General Table'!AE31","v":6810},0.28100910741851665,{"$f":"'General Table'!AJ31","v":4020},0.16588202816775871,{"$f":"'General Table'!AY31","v":3312},0.13666698440089972,671.2,3707.2,0.15297459075211819]
[{"$f":"'General Table'!A32","v":22},null,{"$f":"'General Table'!C32","v":454},{"$f":"'General Table'!D32","v":"Malawi"},null,{"$f":"'General Table'!F32","v":17573.61},{"$f":"'General Table'!R32","v":2678},0.15238758570379107,{"$f":"'General Table'!T32","v":2281},0.12979689432051808,3590.4,0.20430634343199833,4959,0.28218448002430918,{"$f":"'General Table'!AB32","v":1981},0.11272584289738989,{"$f":"'General Table'!AE32","v":5128},0.29180117232600472,{"$f":"'General Table'!AJ32","v":2692},0.15318423477020374,{"$f":"'General Table'!AY32","v":1907},0.1085149835463516,535.6,2816.6,0.1602744114612763]
[{"$f":"'General Table'!A33","v":23},null,{"$f":"'General Table'!C33","v":480},{"$f":"'General Table'!D33","v":"Mauritius"},null,{"$f":"'General Table'!F33","v":1259.46},{"$f":"'General Table'!R33","v":81},6.431327711876518E-2,{"$f":"'General Table'!T33","v":95},7.5429152176329534E-2,119,9.4484937989296996E-2,176,0.13974242929509473,{"$f":"'General Table'!AB33","v":94},7.463516110078923E-2,{"$f":"'General Table'!AE33","v":286},0.22708144760452892,{"$f":"'General Table'!AJ33","v":272},0.21596557254696458,{"$f":"'General Table'!AY33","v":455},0.36126593937084145,16.2,111.2,8.8291807600082581E-2]
[{"$f":"'General Table'!A34","v":24},null,{"$f":"'General Table'!C34","v":175},{"$f":"'General Table'!D34","v":"Mayotte"},null,{"$f":"'General Table'!F34","v":240.02},{"$f":"'General Table'!R34","v":35},0.14582118156820265,{"$f":"'General Table'!T34","v":30},0.12498958420131655,47,0.19581701524872927,65,0.27081076576951918,{"$f":"'General Table'!AB34","v":25},0.10415798683443046,{"$f":"'General Table'!AE34","v":61},0.25414548787601032,{"$f":"'General Table'!AJ34","v":44},0.18331805682859761,{"$f":"'General Table'!AY34","v":33},0.13748854262144822,7,37,0.15415382051495707]
[{"$f":"'General Table'!A35","v":25},null,{"$f":"'General Table'!C35","v":508},{"$f":"'General Table'!D35","v":"Mozambique"},null,{"$f":"'General Table'!F35","v":28010.69},{"$f":"'General Table'!R35","v":4197},0.14983565203142088,{"$f":"'General Table'!T35","v":3620},0.12923637368447546,5645,0.20153020150521106,7817,0.27907202571589634,{"$f":"'General Table'!AB35","v":3029},0.10813728615753486,{"$f":"'General Table'!AE35","v":7572},0.27032536506598021,{"$f":"'General Table'!AJ35","v":4256},0.15194199071854353,{"$f":"'General Table'!AY35","v":3520},0.12566630811308113,839.4,4459.3999999999996,0.15920350409075962]
[{"$f":"'General Table'!A36","v":26},null,{"$f":"'General Table'!C36","v":638},{"$f":"'General Table'!D36","v":"Réunion"},null,{"$f":"'General Table'!F36","v":863.36},{"$f":"'General Table'!R36","v":69},7.9920311341734621E-2,{"$f":"'General Table'!T36","v":72},8.3395107487027428E-2,97.8,0.11327835433654558,141,0.16331541882876205,{"$f":"'General Table'!AB36","v":68},7.8762045959970342E-2,{"$f":"'General Table'!AE36","v":178},0.20617123795404002,{"$f":"'General Table'!AJ36","v":165},0.19111378799110451,{"$f":"'General Table'!AY36","v":312},0.36137879911045218,13.8,85.8,9.937916975537435E-2]
[{"$f":"'General Table'!A37","v":27},null,{"$f":"'General Table'!C37","v":646},{"$f":"'General Table'!D37","v":"Rwanda"},null,{"$f":"'General Table'!F37","v":11629.55},{"$f":"'General Table'!R37","v":1611},0.13852642621597569,{"$f":"'General Table'!T37","v":1399},0.12029700203361265,2170.6,0.18664522702942074,3010,0.25882342824958837,{"$f":"'General Table'!AB37","v":1207},0.10378733484958576,{"$f":"'General Table'!AE37","v":3280},0.28204014772712616,{"$f":"'General Table'!AJ37","v":2026},0.1742113839314505,{"$f":"'General Table'!AY37","v":1578},0.13568882716872108,322.2,1721.2,0.14800228727680781]
[{"$f":"'General Table'!A38","v":28},null,{"$f":"'General Table'!C38","v":690},{"$f":"'General Table'!D38","v":"Seychelles"},null,{"$f":"'General Table'!F38","v":93.74},{"$f":"'General Table'!R38","v":7},7.4674631960742477E-2,{"$f":"'General Table'!T38","v":6},6.4006827394922125E-2,9.4,0.10027736291871134,13,0.13868145935566462,{"$f":"'General Table'!AB38","v":6},6.4006827394922125E-2,{"$f":"'General Table'!AE38","v":20},0.21335609131640709,{"$f":"'General Table'!AJ38","v":23},0.24535950501386816,{"$f":"'General Table'!AY38","v":31},0.33070194154043098,1.4,7.4,7.8941753787070634E-2]
[{"$f":"'General Table'!A39","v":29},null,{"$f":"'General Table'!C39","v":706},{"$f":"'General Table'!D39","v":"Somalia"},null,{"$f":"'General Table'!F39","v":13908.13},{"$f":"'General Table'!R39","v":2140},0.15386683903587328,{"$f":"'General Table'!T39","v":1796},0.12913310416281701,2858.4,0.20552008070100009,3936,0.28299994319869026,{"$f":"'General Table'!AB39","v":1537},0.11051090261595198,{"$f":"'General Table'!AE39","v":3758},0.27020167340972512,{"$f":"'General Table'!AJ39","v":1966},0.14135617081519947,{"$f":"'General Table'!AY39","v":1693},0.1217273637793147,428,2224,0.15990647196999166]
[{"$f":"'General Table'!A40","v":30},null,{"$f":"'General Table'!C40","v":728},{"$f":"'General Table'!D40","v":"South Sudan"},null,{"$f":"'General Table'!F40","v":11882.14},{"$f":"'General Table'!R40","v":1655},0.13928467430950991,{"$f":"'General Table'!T40","v":1463},0.12312596889112568,2240.1999999999998,0.18853506186596017,3118,0.26241064320063556,{"$f":"'General Table'!AB40","v":1305},0.10982870089058032,{"$f":"'General Table'!AE40","v":3347},0.28168326580902092,{"$f":"'General Table'!AJ40","v":1886},0.15872561676600344,{"$f":"'General Table'!AY40","v":1649},0.13877971476518541,331,1794,0.15098290375302767]
[{"$f":"'General Table'!A41","v":31},null,{"$f":"'General Table'!C41","v":800},{"$f":"'General Table'!D41","v":"Uganda"},null,{"$f":"'General Table'!F41","v":40144.870000000003},{"$f":"'General Table'!R41","v":6416},0.15982116768593346,{"$f":"'General Table'!T41","v":5433},0.1353348510033785,8589.2000000000007,0.21395510808728488,11849,0.29515601868931196,{"$f":"'General Table'!AB41","v":4487},0.11177019629158096,{"$f":"'General Table'!AE41","v":11170},0.27824227603676382,{"$f":"'General Table'!AJ41","v":5813},0.14480056854088702,{"$f":"'General Table'!AY41","v":3802},9.4706994941072167E-2,1283.2,6716.2,0.16729908454056519]
[{"$f":"'General Table'!A42","v":32},null,{"$f":"'General Table'!C42","v":834},{"$f":"'General Table'!D42","v":"United Republic of Tanzania"},null,{"$f":"'General Table'!F42","v":53879.96},{"$f":"'General Table'!R42","v":8078},0.14992587225380272,{"$f":"'General Table'!T42","v":6853},0.12719014639209086,10819.2,0.20080193081063907,14931,0.27711601864589358,{"$f":"'General Table'!AB42","v":5652},0.10489985515950644,{"$f":"'General Table'!AE42","v":14478},0.2687084400211136,{"$f":"'General Table'!AJ42","v":8432},0.1564960330334321,{"$f":"'General Table'!AY42","v":6620},0.1228657185343122,1615.6,8468.6,0.15717532084285141]
[{"$f":"'General Table'!A43","v":33},null,{"$f":"'General Table'!C43","v":894},{"$f":"'General Table'!D43","v":"Zambia"},null,{"$f":"'General Table'!F43","v":16100.59},{"$f":"'General Table'!R43","v":2414},0.14993239378184278,{"$f":"'General Table'!T43","v":2142},0.13303860293318442,3270.8,0.20314783495511657,4556,0.28297099671502723,{"$f":"'General Table'!AB43","v":1814},0.11266667867450821,{"$f":"'General Table'!AE43","v":4571},0.28390263959271056,{"$f":"'General Table'!AJ43","v":2567},0.15943515113421308,{"$f":"'General Table'!AY43","v":1656},0.10285337369624342,482.8,2624.8,0.16302508168955301]
[{"$f":"'General Table'!A44","v":34},null,{"$f":"'General Table'!C44","v":716},{"$f":"'General Table'!D44","v":"Zimbabwe"},null,{"$f":"'General Table'!F44","v":15777.45},{"$f":"'General Table'!R44","v":2173},0.13772821336781291,{"$f":"'General Table'!T44","v":1865},0.1182066810542895,2919,0.18501088578952871,4038,0.25593489442210243,{"$f":"'General Table'!AB44","v":1692},0.10724166452753771,{"$f":"'General Table'!AE44","v":4694},0.29751322298597049,{"$f":"'General Table'!AJ44","v":2817},0.17854596275063461,{"$f":"'General Table'!AY44","v":1724},0.1092698756769947,434.6,2299.6,0.14575232372785207]
[{"$f":"'General Table'!A45","v":35},null,{"$f":"'General Table'!C45","v":911},{"$f":"'General Table'!D45","v":"Middle Africa"},null,{"$f":"'General Table'!F45","v":153742.72},{"$f":"'General Table'!R45","v":23272},0.15136976892304232,{"$f":"'General Table'!T45","v":19356},0.12589864417645272,31014.400000000001,0.20172922659362344,42628,0.27726841309949507,{"$f":"'General Table'!AB45","v":16013},0.10415452517036254,{"$f":"'General Table'!AE45","v":40907},0.26607438713195658,{"$f":"'General Table'!AJ45","v":23427},0.15237794674115301,{"$f":"'General Table'!AY45","v":19166},0.12466281330263963,4654.3999999999996,24010.400000000001,0.1561725979610612]
[{"$f":"'General Table'!A46","v":36},null,{"$f":"'General Table'!C46","v":24},{"$f":"'General Table'!D46","v":"Angola"},null,{"$f":"'General Table'!F46","v":27859.31},{"$f":"'General Table'!R46","v":4377},0.15711085450429318,{"$f":"'General Table'!T46","v":3581},0.12853871829560745,5809.4,0.20852634182253615,7958,0.28564957279990061,{"$f":"'General Table'!AB46","v":2905},0.10427393930431156,{"$f":"'General Table'!AE46","v":7362},0.26425636528686458,{"$f":"'General Table'!AJ46","v":4161},0.14935761151299151,{"$f":"'General Table'!AY46","v":3221},0.11561664664343804,875.4,4456.3999999999996,0.15996088919646609]
[{"$f":"'General Table'!A47","v":37},null,{"$f":"'General Table'!C47","v":120},{"$f":"'General Table'!D47","v":"Cameroon"},null,{"$f":"'General Table'!F47","v":22834.52},{"$f":"'General Table'!R47","v":3275},0.14342320311528334,{"$f":"'General Table'!T47","v":2810},0.12305929794013624,4399,0.19264692229133784,6085,0.2664825010554196,{"$f":"'General Table'!AB47","v":2396},0.10492885333258592,{"$f":"'General Table'!AE47","v":6397},0.28014602452777637,{"$f":"'General Table'!AJ47","v":3737},0.16365572825704242,{"$f":"'General Table'!AY47","v":2873},0.1258182786412852,655,3465,0.1517439385631929]
[{"$f":"'General Table'!A48","v":38},null,{"$f":"'General Table'!C48","v":140},{"$f":"'General Table'!D48","v":"Central African Republic"},null,{"$f":"'General Table'!F48","v":4546.1000000000004},{"$f":"'General Table'!R48","v":658},0.1447394469985262,{"$f":"'General Table'!T48","v":601},0.13220122742570553,898.4,0.19761993796880842,1259,0.27694067442423176,{"$f":"'General Table'!AB48","v":516},0.11350388244869228,{"$f":"'General Table'!AE48","v":1258},0.27672070565979628,{"$f":"'General Table'!AJ48","v":680},0.1495787598161061,{"$f":"'General Table'!AY48","v":621},0.13660060271441454,131.6,732.6,0.16114911682541078]
[{"$f":"'General Table'!A49","v":39},null,{"$f":"'General Table'!C49","v":148},{"$f":"'General Table'!D49","v":"Chad"},null,{"$f":"'General Table'!F49","v":14009.41},{"$f":"'General Table'!R49","v":2195},0.1566804026722039,{"$f":"'General Table'!T49","v":1870},0.13348170979363158,2943,0.21007308658965654,4065,0.29016211246583545,{"$f":"'General Table'!AB49","v":1564},0.11163924819103731,{"$f":"'General Table'!AE49","v":3870},0.27624289673869207,{"$f":"'General Table'!AJ49","v":1958},0.13976320201921422,{"$f":"'General Table'!AY49","v":1516},0.10821297970435585,439,2309,0.16481779032807234]
[{"$f":"'General Table'!A50","v":40},null,{"$f":"'General Table'!C50","v":178},{"$f":"'General Table'!D50","v":"Congo"},null,{"$f":"'General Table'!F50","v":4995.6499999999996},{"$f":"'General Table'!R50","v":713},0.14272417002792431,{"$f":"'General Table'!T50","v":592},0.11850309769499466,949.8,0.19012540910592216,1305,0.26122726772291893,{"$f":"'General Table'!AB50","v":491},9.828550839230131E-2,{"$f":"'General Table'!AE50","v":1267},0.25362064996546996,{"$f":"'General Table'!AJ50","v":896},0.1793560397545865,{"$f":"'General Table'!AY50","v":712},0.14252399587641248,142.6,734.6,0.14704793170057953]
[{"$f":"'General Table'!A51","v":41},null,{"$f":"'General Table'!C51","v":180},{"$f":"'General Table'!D51","v":"Democratic Republic of the Congo"},null,{"$f":"'General Table'!F51","v":76196.62},{"$f":"'General Table'!R51","v":11652},0.15292016889988033,{"$f":"'General Table'!T51","v":9562},0.12549113070894746,15476.8,0.20311662118345933,21214,0.27841129960882782,{"$f":"'General Table'!AB51","v":7839},0.10287857912857552,{"$f":"'General Table'!AE51","v":19836},0.26032650792121753,{"$f":"'General Table'!AJ51","v":11315},0.14849740054086388,{"$f":"'General Table'!AY51","v":9732},0.12772220080103291,2330.4,11892.4,0.15607516448892353]
[{"$f":"'General Table'!A52","v":42},null,{"$f":"'General Table'!C52","v":226},{"$f":"'General Table'!D52","v":"Equatorial Guinea"},null,{"$f":"'General Table'!F52","v":1175.3900000000001},{"$f":"'General Table'!R52","v":145},0.12336330919949973,{"$f":"'General Table'!T52","v":118},0.10039221024511012,192.2,0.16352019329754378,263,0.22375551944460986,{"$f":"'General Table'!AB52","v":99},8.4227362832761887E-2,{"$f":"'General Table'!AE52","v":331},0.28160865755196146,{"$f":"'General Table'!AJ52","v":253},0.21524770501705814,{"$f":"'General Table'!AY52","v":150},0.12761721641327559,29,147,0.12506487208501008]
[{"$f":"'General Table'!A53","v":43},null,{"$f":"'General Table'!C53","v":266},{"$f":"'General Table'!D53","v":"Gabon"},null,{"$f":"'General Table'!F53","v":1930.18},{"$f":"'General Table'!R53","v":227},0.11760561191184242,{"$f":"'General Table'!T53","v":196},0.10154493363313266,305.39999999999998,0.15822358536509545,423,0.21915054554497507,{"$f":"'General Table'!AB53","v":183},9.480981048399631E-2,{"$f":"'General Table'!AE53","v":531},0.27510387632241551,{"$f":"'General Table'!AJ53","v":395},0.20464412645452756,{"$f":"'General Table'!AY53","v":317},0.16423338755970945,45.4,241.4,0.12506605601550114]
[{"$f":"'General Table'!A54","v":44},null,{"$f":"'General Table'!C54","v":678},{"$f":"'General Table'!D54","v":"Sao Tome and Principe"},null,{"$f":"'General Table'!F54","v":195.55},{"$f":"'General Table'!R54","v":28},0.14318588596266937,{"$f":"'General Table'!T54","v":26},0.13295832267962157,38.4,0.19636921503451801,54,0.27614420864229094,{"$f":"'General Table'!AB54","v":21},0.10738941447200204,{"$f":"'General Table'!AE54","v":54},0.27614420864229094,{"$f":"'General Table'!AJ54","v":32},0.16364101252876501,{"$f":"'General Table'!AY54","v":24},0.12273075939657375,5.6,31.6,0.16159549987215546]
[{"$f":"'General Table'!A55","v":45},null,{"$f":"'General Table'!C55","v":912},{"$f":"'General Table'!D55","v":"Northern Africa"},null,{"$f":"'General Table'!F55","v":225135.66},{"$f":"'General Table'!R55","v":23624},0.10493228838114761,{"$f":"'General Table'!T55","v":21078},9.3623551240172256E-2,32055.200000000001,0.14238170887721652,44702,0.19855583962131987,{"$f":"'General Table'!AB55","v":19749},8.7720443753779381E-2,{"$f":"'General Table'!AE55","v":59344},0.2635921825978168,{"$f":"'General Table'!AJ55","v":45930},0.20401032870581232,{"$f":"'General Table'!AY55","v":47094},0.20918054474355594,4724.8,25802.799999999999,0.11461000891640177]
[{"$f":"'General Table'!A56","v":46},null,{"$f":"'General Table'!C56","v":12},{"$f":"'General Table'!D56","v":"Algeria"},null,{"$f":"'General Table'!F56","v":39871.53},{"$f":"'General Table'!R56","v":3837},9.623407980581633E-2,{"$f":"'General Table'!T56","v":2924},7.3335535405839702E-2,5006.6000000000004,0.12556829396815222,6761,0.16956961521165603,{"$f":"'General Table'!AB56","v":3018},7.5693107337491183E-2,{"$f":"'General Table'!AE56","v":10386},0.26048661789502436,{"$f":"'General Table'!AJ56","v":9135},0.22911084676208815,{"$f":"'General Table'!AY56","v":8925},0.22384393074456888,767.4,3691.4,9.2582351367002977E-2]
[{"$f":"'General Table'!A57","v":47},null,{"$f":"'General Table'!C57","v":818},{"$f":"'General Table'!D57","v":"Egypt"},null,{"$f":"'General Table'!F57","v":93778.17},{"$f":"'General Table'!R57","v":9797},0.10446994220509954,{"$f":"'General Table'!T57","v":8903},9.4936806721649614E-2,13358.2,0.1424446648937594,18700,0.19940674892674917,{"$f":"'General Table'!AB57","v":8137},8.6768594439409513E-2,{"$f":"'General Table'!AE57","v":24775},0.26418728367166899,{"$f":"'General Table'!AJ57","v":18922},0.20177403760384746,{"$f":"'General Table'!AY57","v":19007},0.20268043191715088,1959.4,10862.4,0.11583079516266952]
[{"$f":"'General Table'!A58","v":48},null,{"$f":"'General Table'!C58","v":434},{"$f":"'General Table'!D58","v":"Libya"},null,{"$f":"'General Table'!F58","v":6234.96},{"$f":"'General Table'!R58","v":596},9.5590027843001399E-2,{"$f":"'General Table'!T58","v":557},8.9334975685489565E-2,818.8,0.13132401811719721,1153,0.18492500352849095,{"$f":"'General Table'!AB58","v":536},8.5966870677598575E-2,{"$f":"'General Table'!AE58","v":1654},0.26527836585960457,{"$f":"'General Table'!AJ58","v":1602},0.25693829631625542,{"$f":"'General Table'!AY58","v":1195},0.19166121354427293,119.2,676.2,0.10845298125408985]
[{"$f":"'General Table'!A59","v":49},null,{"$f":"'General Table'!C59","v":504},{"$f":"'General Table'!D59","v":"Morocco"},null,{"$f":"'General Table'!F59","v":34803.32},{"$f":"'General Table'!R59","v":3146},9.0393675086169939E-2,{"$f":"'General Table'!T59","v":3023},8.6859529493163293E-2,4355.2,0.12513748688343526,6169,0.17725320457933325,{"$f":"'General Table'!AB59","v":2958},8.4991891578159784E-2,{"$f":"'General Table'!AE59","v":8986},0.25819375852648541,{"$f":"'General Table'!AJ59","v":7304},0.20986503586439456,{"$f":"'General Table'!AY59","v":8886},0.25532046942648001,629.20000000000005,3652.2,0.10493826451039728]
[{"$f":"'General Table'!A60","v":50},null,{"$f":"'General Table'!C60","v":729},{"$f":"'General Table'!D60","v":"Sudan"},null,{"$f":"'General Table'!F60","v":38647.800000000003},{"$f":"'General Table'!R60","v":5341},0.13819674082353975,{"$f":"'General Table'!T60","v":4834},0.12507827094944601,7274.6,0.18822804920331818,10175,0.26327501177298579,{"$f":"'General Table'!AB60","v":4226},0.10934645697814623,{"$f":"'General Table'!AE60","v":10633},0.27512562163952409,{"$f":"'General Table'!AJ60","v":6286},0.16264832668353696,{"$f":"'General Table'!AY60","v":5694},0.14733050781674506,1068.2,5902.2,0.15271761911415396]
[{"$f":"'General Table'!A61","v":51},null,{"$f":"'General Table'!C61","v":788},{"$f":"'General Table'!D61","v":"Tunisia"},null,{"$f":"'General Table'!F61","v":11273.66},{"$f":"'General Table'!R61","v":857},7.6017903679905199E-2,{"$f":"'General Table'!T61","v":791},7.0163549370834313E-2,1173.4000000000001,0.10408332342823894,1648,0.14618145305073951,{"$f":"'General Table'!AB61","v":827},7.3356833539418437E-2,{"$f":"'General Table'!AE61","v":2762},0.24499585760081463,{"$f":"'General Table'!AJ61","v":2549},0.22610225960335864,{"$f":"'General Table'!AY61","v":3292},0.29200809674941414,171.4,962.4,8.5367130106815348E-2]
[{"$f":"'General Table'!A62","v":52},null,{"$f":"'General Table'!C62","v":732},{"$f":"'General Table'!D62","v":"Western Sahara"},null,{"$f":"'General Table'!F62","v":526.22},{"$f":"'General Table'!R62","v":49},9.3116947284405754E-2,{"$f":"'General Table'!T62","v":47},8.9316255558511651E-2,67.8,0.1288434495078104,96,0.18243320284291739,{"$f":"'General Table'!AB62","v":46},8.7415909695564592E-2,{"$f":"'General Table'!AE62","v":147},0.27935084185321729,{"$f":"'General Table'!AJ62","v":132},0.25084565390901142,{"$f":"'General Table'!AY62","v":97},0.18433354870586446,9.8000000000000007,56.8,0.10793964501539278]
[{"$f":"'General Table'!A63","v":53},null,{"$f":"'General Table'!C63","v":913},{"$f":"'General Table'!D63","v":"Southern Africa"},null,{"$f":"'General Table'!F63","v":63419.64},{"$f":"'General Table'!R63","v":6318},9.9622135981850421E-2,{"$f":"'General Table'!T63","v":6067},9.5664371478614507E-2,8744.7999999999993,0.1378878845732962,12385,0.19528650746046494,{"$f":"'General Table'!AB63","v":6019},9.4907508147318409E-2,{"$f":"'General Table'!AE63","v":17931},0.2827357581973029,{"$f":"'General Table'!AJ63","v":13456},0.21217402054000936,{"$f":"'General Table'!AY63","v":12936},0.20397466778430151,1263.5999999999999,7330.6,0.1155887986749846]
[{"$f":"'General Table'!A64","v":54},null,{"$f":"'General Table'!C64","v":72},{"$f":"'General Table'!D64","v":"Botswana"},null,{"$f":"'General Table'!F64","v":2209.1999999999998},{"$f":"'General Table'!R64","v":231},0.10456273764258556,{"$f":"'General Table'!T64","v":216},9.7772949483976107E-2,317.39999999999998,0.14367191743617599,447,0.20233568712656166,{"$f":"'General Table'!AB64","v":215},9.7320296940068815E-2,{"$f":"'General Table'!AE64","v":642},0.29060293318848457,{"$f":"'General Table'!AJ64","v":493},0.22315770414629732,{"$f":"'General Table'!AY64","v":371},0.16793409378960711,46.2,262.2,0.11868549701249322]
[{"$f":"'General Table'!A65","v":55},null,{"$f":"'General Table'!C65","v":426},{"$f":"'General Table'!D65","v":"Lesotho"},null,{"$f":"'General Table'!F65","v":2174.65},{"$f":"'General Table'!R65","v":251},0.11542087232428207,{"$f":"'General Table'!T65","v":244},0.11220196353436185,348.6,0.16030165773802682,495,0.2276228358586439,{"$f":"'General Table'!AB65","v":250},0.11496102821143632,{"$f":"'General Table'!AE65","v":694},0.31913181431494719,{"$f":"'General Table'!AJ65","v":382},0.17566045110707471,{"$f":"'General Table'!AY65","v":323},0.14852964844917571,50.2,294.2,0.13528613799921826]
[{"$f":"'General Table'!A66","v":56},null,{"$f":"'General Table'!C66","v":516},{"$f":"'General Table'!D66","v":"Namibia"},null,{"$f":"'General Table'!F66","v":2425.56},{"$f":"'General Table'!R66","v":291},0.11997229505763618,{"$f":"'General Table'!T66","v":272},0.112139052425007,399.8,0.16482791602763899,563,0.2321113474826432,{"$f":"'General Table'!AB66","v":267},0.11007767278484144,{"$f":"'General Table'!AE66","v":732},0.30178597932023948,{"$f":"'General Table'!AJ66","v":434},0.17892775276637149,{"$f":"'General Table'!AY66","v":363},0.14965616187602038,58.2,330.2,0.13613351143653424]
[{"$f":"'General Table'!A67","v":57},null,{"$f":"'General Table'!C67","v":710},{"$f":"'General Table'!D67","v":"South Africa"},null,{"$f":"'General Table'!F67","v":55291.23},{"$f":"'General Table'!R67","v":5380},9.7302953831918726E-2,{"$f":"'General Table'!T67","v":5182},9.3721915754089752E-2,7452.8,0.13479172013355464,10562,0.19102486958600848,{"$f":"'General Table'!AB67","v":5137},9.2908043463674067E-2,{"$f":"'General Table'!AE67","v":15430},0.27906776535808658,{"$f":"'General Table'!AJ67","v":11923},0.21563998485835817,{"$f":"'General Table'!AY67","v":11712},0.21182382811885356,1076,6258,0.1131825065204735]
[{"$f":"'General Table'!A68","v":58},null,{"$f":"'General Table'!C68","v":748},{"$f":"'General Table'!D68","v":"Swaziland"},null,{"$f":"'General Table'!F68","v":1319.01},{"$f":"'General Table'!R68","v":166},0.12585196473112409,{"$f":"'General Table'!T68","v":152},0.11523794360922207,226.8,0.17194714217481294,318,0.24108990834034616,{"$f":"'General Table'!AB68","v":150},0.11372165487752178,{"$f":"'General Table'!AE68","v":434},0.32903465477896299,{"$f":"'General Table'!AJ68","v":223},0.16906619358458239,{"$f":"'General Table'!AY68","v":167},0.12661010909697426,33.200000000000003,185.2,0.14040833655544688]
[{"$f":"'General Table'!A69","v":59},null,{"$f":"'General Table'!C69","v":914},{"$f":"'General Table'!D69","v":"Western Africa"},null,{"$f":"'General Table'!F69","v":352613.86},{"$f":"'General Table'!R69","v":51284},0.14543954681758681,{"$f":"'General Table'!T69","v":43679},0.12387204518846764,68755.600000000006,0.19498836489297389,94963,0.26931159200605448,{"$f":"'General Table'!AB69","v":36843},0.10448539941112922,{"$f":"'General Table'!AE69","v":94342},0.26755045873693112,{"$f":"'General Table'!AJ69","v":57181},0.16216322296576771,{"$f":"'General Table'!AY69","v":46213},0.13105837643477769,10256.799999999999,53935.8,0.15295995455198502]
[{"$f":"'General Table'!A70","v":60},null,{"$f":"'General Table'!C70","v":204},{"$f":"'General Table'!D70","v":"Benin"},null,{"$f":"'General Table'!F70","v":10575.95},{"$f":"'General Table'!R70","v":1507},0.14249310936606166,{"$f":"'General Table'!T70","v":1306},0.12348772450701827,2029.4,0.19188819916886898,2813,0.26598083387307991,{"$f":"'General Table'!AB70","v":1134},0.10722441010027467,{"$f":"'General Table'!AE70","v":2901},0.2743015993835069,{"$f":"'General Table'!AJ70","v":1679},0.15875642377280527,{"$f":"'General Table'!AY70","v":1444},0.13653619769382419,301.39999999999998,1607.4,0.15198634638023062]
[{"$f":"'General Table'!A71","v":61},null,{"$f":"'General Table'!C71","v":854},{"$f":"'General Table'!D71","v":"Burkina Faso"},null,{"$f":"'General Table'!F71","v":18110.62},{"$f":"'General Table'!R71","v":2755},0.15212068940765144,{"$f":"'General Table'!T71","v":2338},0.12909552516700146,3690.2,0.203758899474452,5093,0.2812162145746529,{"$f":"'General Table'!AB71","v":1968},0.10866552332277968,{"$f":"'General Table'!AE71","v":4977},0.27481113291538334,{"$f":"'General Table'!AJ71","v":2798},0.15449498691927721,{"$f":"'General Table'!AY71","v":2082},0.11496017253964802,551,2889,0.15951966304853177]
[{"$f":"'General Table'!A72","v":62},null,{"$f":"'General Table'!C72","v":132},{"$f":"'General Table'!D72","v":"Cabo Verde"},null,{"$f":"'General Table'!F72","v":532.91},{"$f":"'General Table'!R72","v":55},0.10320692049314144,{"$f":"'General Table'!T72","v":56},0.10508340995665311,77.400000000000006,0.1452402844758027,111,0.20829033044979453,{"$f":"'General Table'!AB72","v":58},0.10883638888367643,{"$f":"'General Table'!AE72","v":167},0.31337374040644761,{"$f":"'General Table'!AJ72","v":101},0.1895254358146779,{"$f":"'General Table'!AY72","v":100},0.18764894635116625,11,67,0.12572479405528139]
[{"$f":"'General Table'!A73","v":63},null,{"$f":"'General Table'!C73","v":384},{"$f":"'General Table'!D73","v":"Côte d'Ivoire"},null,{"$f":"'General Table'!F73","v":23108.47},{"$f":"'General Table'!R73","v":3239},0.14016505636245064,{"$f":"'General Table'!T73","v":2865},0.12398051450398923,4385,0.18975726216404634,6104,0.26414557086643986,{"$f":"'General Table'!AB73","v":2545},0.11013277815450352,{"$f":"'General Table'!AE73","v":6414},0.27756056545500413,{"$f":"'General Table'!AJ73","v":3685},0.15946533889954634,{"$f":"'General Table'!AY73","v":3144},0.13605400963369707,647.79999999999995,3512.8,0.15201352577647936]
[{"$f":"'General Table'!A74","v":64},null,{"$f":"'General Table'!C74","v":270},{"$f":"'General Table'!D74","v":"Gambia"},null,{"$f":"'General Table'!F74","v":1977.59},{"$f":"'General Table'!R74","v":298},0.15068846424182972,{"$f":"'General Table'!T74","v":253},0.12793349480933863,399.2,0.20186186216556515,551,0.27862195905116838,{"$f":"'General Table'!AB74","v":214},0.10821252130117973,{"$f":"'General Table'!AE74","v":543},0.27457663115205883,{"$f":"'General Table'!AJ74","v":307},0.15523945812832793,{"$f":"'General Table'!AY74","v":225},0.11377484716245531,59.6,312.60000000000002,0.15807118765770459]
[{"$f":"'General Table'!A75","v":65},null,{"$f":"'General Table'!C75","v":288},{"$f":"'General Table'!D75","v":"Ghana"},null,{"$f":"'General Table'!F75","v":27582.82},{"$f":"'General Table'!R75","v":3548},{"$f":"G75/F75","v":0.12863079264556707},{"$f":"'General Table'!T75","v":3130},{"$f":"I75/F75","v":0.11347643206894727},{"$f":"G75+I75/5*2","v":4800},{"$f":"K75/F75","v":0.17402136547314598},{"$f":"G75+I75","v":6678},{"$f":"M75/F75","v":0.24210722471451432},{"$f":"'General Table'!AB75","v":2879},{"$f":"O75/F75","v":0.10437656483274735},{"$f":"'General Table'!AE75","v":7693},{"$f":"Q75/F75","v":0.27890549262185665},{"$f":"'General Table'!AJ75","v":5010},{"$f":"S75/F75","v":0.18163480021259609},{"$f":"'General Table'!AY75","v":4179},{"$f":"U75/F75","v":0.15150735131505771},{"$f":"G75/5","v":709.6},{"$f":"W75+I75","v":3839.6},0.13920259059806067]
[{"$f":"'General Table'!A76","v":66},null,{"$f":"'General Table'!C76","v":324},{"$f":"'General Table'!D76","v":"Guinea"},null,{"$f":"'General Table'!F76","v":12091.53},{"$f":"'General Table'!R76","v":1713},0.14166941652545212,{"$f":"'General Table'!T76","v":1494},0.12355756467543809,2310.6,0.19109244239562734,3207,0.26522698120089022,{"$f":"'General Table'!AB76","v":1291},0.10676895314323331,{"$f":"'General Table'!AE76","v":3323},0.27482047350500721,{"$f":"'General Table'!AJ76","v":1908},0.15779640789875227,{"$f":"'General Table'!AY76","v":1702},0.14075968880695824,342.6,1836.6,{"$f":"X76/F76","v":0.1518914479805285}]
[{"$f":"'General Table'!A77","v":67},null,{"$f":"'General Table'!C77","v":624},{"$f":"'General Table'!D77","v":"Guinea-Bissau"},null,{"$f":"'General Table'!F77","v":1770.53},{"$f":"'General Table'!R77","v":244},0.13781184165193475,{"$f":"'General Table'!T77","v":209},0.1180437496116982,327.60000000000002,0.18502934149661401,453,0.25585559126363294,{"$f":"'General Table'!AB77","v":186},0.10505328912811418,{"$f":"'General Table'!AE77","v":502},0.28353092011996406,{"$f":"'General Table'!AJ77","v":295},0.16661677576770798,{"$f":"'General Table'!AY77","v":234},0.1321638153547243,48.8,257.8,0.14560611794208514]
[{"$f":"'General Table'!A78","v":68},null,{"$f":"'General Table'!C78","v":430},{"$f":"'General Table'!D78","v":"Liberia"},null,{"$f":"'General Table'!F78","v":4499.62},{"$f":"'General Table'!R78","v":637},0.14156751014530117,{"$f":"'General Table'!T78","v":565},0.1255661589200866,863,0.19179397371333579,1202,0.26713366906538777,{"$f":"'General Table'!AB78","v":476},0.10578671087780746,{"$f":"'General Table'!AE78","v":1210},0.2689115969793005,{"$f":"'General Table'!AJ78","v":759},0.1686809108324703,{"$f":"'General Table'!AY78","v":625},0.13890061827443206,127.4,692.4,0.15387966094914682]
[{"$f":"'General Table'!A79","v":69},null,{"$f":"'General Table'!C79","v":466},{"$f":"'General Table'!D79","v":"Mali"},null,{"$f":"'General Table'!F79","v":17467.91},{"$f":"'General Table'!R79","v":2805},0.16058017244192352,{"$f":"'General Table'!T79","v":2294},0.13132652961917024,3722.6,0.2131107842895916,5099,0.29190670206109376,{"$f":"'General Table'!AB79","v":1841},0.10539326112854944,{"$f":"'General Table'!AE79","v":4570},0.26162259823871314,{"$f":"'General Table'!AJ79","v":2601},0.14890161444614725,{"$f":"'General Table'!AY79","v":1922},0.11003033562687237,561,2855,0.16344256410755495]
[{"$f":"'General Table'!A80","v":70},null,{"$f":"'General Table'!C80","v":478},{"$f":"'General Table'!D80","v":"Mauritania"},null,{"$f":"'General Table'!F80","v":4182.34},{"$f":"'General Table'!R80","v":556},0.13293993314747246,{"$f":"'General Table'!T80","v":487},0.11644199180363146,750.8,0.17951672986892503,1043,0.24938192495110392,{"$f":"'General Table'!AB80","v":430},0.10281325765002367,{"$f":"'General Table'!AE80","v":1147},0.2742483872664585,{"$f":"'General Table'!AJ80","v":742},0.17741264459608735,{"$f":"'General Table'!AY80","v":610},0.14585136550352196,111.2,598.20000000000005,0.14302997843312595]
[{"$f":"'General Table'!A81","v":71},null,{"$f":"'General Table'!C81","v":562},{"$f":"'General Table'!D81","v":"Niger"},null,{"$f":"'General Table'!F81","v":19896.97},{"$f":"'General Table'!R81","v":3273},0.16449740839936935,{"$f":"'General Table'!T81","v":2650},0.13318610823658072,4333,0.21777185169400165,5923,0.29768351663595005,{"$f":"'General Table'!AB81","v":2054},0.1032317986105422,{"$f":"'General Table'!AE81","v":4816},0.24204690462919728,{"$f":"'General Table'!AJ81","v":2663},0.13383947405057151,{"$f":"'General Table'!AY81","v":2430},0.12212914830750611,654.6,3304.6,0.16608558991645461]
[{"$f":"'General Table'!A82","v":72},null,{"$f":"'General Table'!C82","v":566},{"$f":"'General Table'!D82","v":"Nigeria"},null,{"$f":"'General Table'!F82","v":181181.74},{"$f":"'General Table'!R82","v":26418},0.14580939558257913,{"$f":"'General Table'!T82","v":22401},0.12363828716955694,35378.400000000001,0.19526471045040192,48819,0.2694476827521361,{"$f":"'General Table'!AB82","v":18649},0.10292979855475502,{"$f":"'General Table'!AE82","v":47885},0.26429263787840873,{"$f":"'General Table'!AJ82","v":29644},0.16361472188091361,{"$f":"'General Table'!AY82","v":23724},0.1309403475206718,5283.6,27684.6,0.15280016628607276]
[{"$f":"'General Table'!A83","v":73},null,{"$f":"'General Table'!C83","v":686},{"$f":"'General Table'!D83","v":"Senegal"},null,{"$f":"'General Table'!F83","v":14976.99},{"$f":"'General Table'!R83","v":2147},0.1433532371991969,{"$f":"'General Table'!T83","v":1809},0.12078528462661724,2870.6,0.19166735104984378,3956,0.26413852182581415,{"$f":"'General Table'!AB83","v":1570},0.10482747200872805,{"$f":"'General Table'!AE83","v":4156},0.27749233991609795,{"$f":"'General Table'!AJ83","v":2472},0.16505319159590812,{"$f":"'General Table'!AY83","v":1901},0.1269280409481478,429.4,2238.4,0.14945593206645663]
[{"$f":"'General Table'!A84","v":74},null,{"$f":"'General Table'!C84","v":694},{"$f":"'General Table'!D84","v":"Sierra Leone"},null,{"$f":"'General Table'!F84","v":7237.03},{"$f":"'General Table'!R84","v":1042},0.14398171625653067,{"$f":"'General Table'!T84","v":915},0.12643308097382491,1408,0.19455494864606063,1957,0.27041479723035555,{"$f":"'General Table'!AB84","v":789},0.10902262392169164,{"$f":"'General Table'!AE84","v":2022},0.27939638221756719,{"$f":"'General Table'!AJ84","v":1219},0.16843926306786072,{"$f":"'General Table'!AY84","v":904},0.12491312043752756,208.4,1123.4000000000001,0.15522942422513106]
[{"$f":"'General Table'!A85","v":75},null,{"$f":"'General Table'!C85","v":768},{"$f":"'General Table'!D85","v":"Togo"},null,{"$f":"'General Table'!F85","v":7416.8},{"$f":"'General Table'!R85","v":1048},0.14130083054686657,{"$f":"'General Table'!T85","v":907},0.12228993636069464,1410.8,0.19021680509114441,1955,0.26359076690756122,{"$f":"'General Table'!AB85","v":759},0.10233523891705318,{"$f":"'General Table'!AE85","v":2015},0.27168050911444286,{"$f":"'General Table'!AJ85","v":1299},0.17514291877898824,{"$f":"'General Table'!AY85","v":988},0.13321108833998491,209.6,1116.5999999999999,0.15055010247006795]
[{"$f":"'General Table'!A86","v":76},null,{"$f":"'General Table'!C86","v":935},{"$f":"'General Table'!D86","v":"ASIA"},null,{"$f":"'General Table'!F86","v":4419897.5999999996},{"$f":"'General Table'!R86","v":363350},8.2207786895334409E-2,{"$f":"'General Table'!T86","v":353688},8.0021763400129453E-2,504825.2,0.1142164922553862,717038,0.16222955029546388,{"$f":"'General Table'!AB86","v":350920},7.9395504547435672E-2,{"$f":"'General Table'!AE86","v":1102574},0.24945691049493998,{"$f":"'General Table'!AJ86","v":964975},0.21832519377824502,{"$f":"'General Table'!AY86","v":1267196},0.2867025697608922,72670,426358,9.6463320779196338E-2]
[{"$f":"'General Table'!A87","v":77},null,{"$f":"'General Table'!C87","v":906},{"$f":"'General Table'!D87","v":"Eastern Asia"},null,{"$f":"'General Table'!F87","v":1635150.37},{"$f":"'General Table'!R87","v":93506},5.7184954800212039E-2,{"$f":"'General Table'!T87","v":90617},5.5418144815635513E-2,129752.8,7.9352212726466254E-2,184123,0.11260309961584755,{"$f":"'General Table'!AB87","v":94063},5.7525596254490032E-2,{"$f":"'General Table'!AE87","v":353545},0.21621558878404556,{"$f":"'General Table'!AJ87","v":368731},0.22550280803838241,{"$f":"'General Table'!AY87","v":631836},0.38640849893211959,18701.2,109318.2,6.6855135775677921E-2]
[{"$f":"'General Table'!A88","v":78},null,{"$f":"'General Table'!C88","v":156},{"$f":"'General Table'!D88","v":"China"},null,{"$f":"'General Table'!F88","v":1397028.55},{"$f":"'General Table'!R88","v":82367},5.8958709183144463E-2,{"$f":"'General Table'!T88","v":78821},5.6420464707038376E-2,113895.4,8.1526895065959809E-2,161188,0.11537917389018285,{"$f":"'General Table'!AB88","v":80820},5.7851358871656558E-2,{"$f":"'General Table'!AE88","v":311842},0.22321805807046677,{"$f":"'General Table'!AJ88","v":316894},0.22683430485368392,{"$f":"'General Table'!AY88","v":521218},0.3730904425682639,16473.400000000001,95294.399999999994,6.8212206543667261E-2]
[{"$f":"'General Table'!A89","v":79},null,{"$f":"'General Table'!C89","v":344},{"$f":"'General Table'!D89","v":"China, Hong Kong SAR"},null,{"$f":"'General Table'!F89","v":7245.7},{"$f":"'General Table'!R89","v":275},3.7953544861090024E-2,{"$f":"'General Table'!T89","v":260},3.5883351505030574E-2,379,5.2306885463102255E-2,535,7.3836896366120591E-2,{"$f":"'General Table'!AB89","v":359},4.9546627655022983E-2,{"$f":"'General Table'!AE89","v":1314},0.18134893799080834,{"$f":"'General Table'!AJ89","v":1703},0.23503595235795025,{"$f":"'General Table'!AY89","v":3419},0.47186607229115202,55,315,4.3474060477248576E-2]
[{"$f":"'General Table'!A90","v":80},null,{"$f":"'General Table'!C90","v":446},{"$f":"'General Table'!D90","v":"China, Macao SAR"},null,{"$f":"'General Table'!F90","v":600.94000000000005},{"$f":"'General Table'!R90","v":23},3.8273371717642356E-2,{"$f":"'General Table'!T90","v":19},3.1617133158052382E-2,30.6,5.0920224980863314E-2,42,6.9890504875694745E-2,{"$f":"'General Table'!AB90","v":31},5.1585848836822309E-2,{"$f":"'General Table'!AE90","v":143},0.23796052850534161,{"$f":"'General Table'!AJ90","v":152},0.25293706526441906,{"$f":"'General Table'!AY90","v":232},0.38606183645621855,4.5999999999999996,23.6,3.9271807501580852E-2]
[{"$f":"'General Table'!A91","v":81},null,{"$f":"'General Table'!C91","v":408},{"$f":"'General Table'!D91","v":"Dem. People's Republic of Korea"},null,{"$f":"'General Table'!F91","v":23485.759999999998},{"$f":"'General Table'!R91","v":982},4.1812570681127634E-2,{"$f":"'General Table'!T91","v":1227},5.224442385513605E-2,1472.8,6.2710340223182046E-2,2209,9.4056994536263677E-2,{"$f":"'General Table'!AB91","v":1519},6.4677489678852215E-2,{"$f":"'General Table'!AE91","v":4736},0.20165410870246483,{"$f":"'General Table'!AJ91","v":5702},0.24278541550284088,{"$f":"'General Table'!AY91","v":9813},0.4178276538634475,196.4,1423.4,6.0606937991361583E-2]
[{"$f":"'General Table'!A92","v":82},null,{"$f":"'General Table'!C92","v":392},{"$f":"'General Table'!D92","v":"Japan"},null,{"$f":"'General Table'!F92","v":25243.919999999998},{"$f":"'General Table'!R92","v":1733},6.8650193789237174E-2,{"$f":"'General Table'!T92","v":1885},7.4671445639187581E-2,2487,9.8518772044912203E-2,3618,0.14332163942842477,{"$f":"'General Table'!AB92","v":1954},7.7404777071072961E-2,{"$f":"'General Table'!AE92","v":5831},0.23098631274382112,{"$f":"'General Table'!AJ92","v":5577},0.22092448399456188,{"$f":"'General Table'!AY92","v":8508},0.33703164960117132,346.6,2231.6,8.8401484397035004E-2]
[{"$f":"'General Table'!A93","v":83},null,{"$f":"'General Table'!C93","v":496},{"$f":"'General Table'!D93","v":"Mongolia"},null,{"$f":"'General Table'!F93","v":127974.96},{"$f":"'General Table'!R93","v":5560},4.3445999123578549E-2,{"$f":"'General Table'!T93","v":5670},4.4305542271706903E-2,7828,6.1168216032261309E-2,11230,8.7751541395285446E-2,{"$f":"'General Table'!AB93","v":5980},4.6727891143704986E-2,{"$f":"'General Table'!AE93","v":18875},0.14748979019020594,{"$f":"'General Table'!AJ93","v":26136},0.20422745199529657,{"$f":"'General Table'!AY93","v":66338},0.51836703055035138,1112,6782,5.299474209642261E-2]
[{"$f":"'General Table'!A94","v":84},null,{"$f":"'General Table'!C94","v":410},{"$f":"'General Table'!D94","v":"Republic of Korea"},null,{"$f":"'General Table'!F94","v":2976.88},{"$f":"'General Table'!R94","v":279},9.3722286420682047E-2,{"$f":"'General Table'!T94","v":219},7.3566956007632148E-2,366.6,0.12314906882373491,498,0.16728924242831419,{"$f":"'General Table'!AB94","v":229},7.6926177743140464E-2,{"$f":"'General Table'!AE94","v":810},0.27209696057617372,{"$f":"'General Table'!AJ94","v":687},0.23077853322942141,{"$f":"'General Table'!AY94","v":624},0.20961543629571899,55.8,274.8,9.2311413291768563E-2]
[{"$f":"'General Table'!A95","v":85},null,{"$f":"'General Table'!C95","v":158},{"$f":"'General Table'!D95","v":"Other non-specified areas"},null,{"$f":"'General Table'!F95","v":50593.66},{"$f":"'General Table'!R95","v":2287},4.520329227021725E-2,{"$f":"'General Table'!T95","v":2515},4.9709785771576913E-2,3293,6.508720657884802E-2,4802,9.4913078041794163E-2,{"$f":"'General Table'!AB95","v":3171},6.2675837249173111E-2,{"$f":"'General Table'!AE95","v":9992},0.1974951011648495,{"$f":"'General Table'!AJ95","v":11879},0.23479226448531296,{"$f":"'General Table'!AY95","v":21688},0.42867031165565012,457.4,2972.4,5.8750444225620362E-2]
[{"$f":"'General Table'!A96","v":86},null,{"$f":"'General Table'!C96","v":921},{"$f":"'General Table'!D96","v":"South-Central Asia"},null,{"$f":"'General Table'!F96","v":1892013.48},{"$f":"'General Table'!R96","v":187997},9.9363456966490529E-2,{"$f":"'General Table'!T96","v":183514},9.699402353095285E-2,261402.6,0.13816106637887168,371511,0.19635748049744339,{"$f":"'General Table'!AB96","v":178967},9.4590763697941518E-2,{"$f":"'General Table'!AE96","v":518359},0.27397214950075305,{"$f":"'General Table'!AJ96","v":397107},0.20988592533706474,{"$f":"'General Table'!AY96","v":419179},0.22155180416579273,37599.4,221113.4,0.11686671492425096]
[{"$f":"'General Table'!A97","v":87},null,{"$f":"'General Table'!C97","v":5500},{"$f":"'General Table'!D97","v":"Central Asia"},null,{"$f":"'General Table'!F97","v":68705.009999999995},{"$f":"'General Table'!R97","v":6684},9.7285481801108839E-2,{"$f":"'General Table'!T97","v":5500},8.0052386281582677E-2,8884,0.12930643631374192,12184,0.1773378680826915,{"$f":"'General Table'!AB97","v":5784},8.4186000409577119E-2,{"$f":"'General Table'!AE97","v":19152},0.27875696401179478,{"$f":"'General Table'!AJ97","v":14134},0.20572007776434353,{"$f":"'General Table'!AY97","v":15454},0.2249326504719234,1336.8,6836.8,9.9509482641804439E-2]
[{"$f":"'General Table'!A98","v":88},null,{"$f":"'General Table'!C98","v":398},{"$f":"'General Table'!D98","v":"Kazakhstan"},null,{"$f":"'General Table'!F98","v":17749.650000000001},{"$f":"'General Table'!R98","v":1623},9.143842272946226E-2,{"$f":"'General Table'!T98","v":1139},6.4170279413960266E-2,2078.6,0.11710653449504636,2762,0.15560870214342254,{"$f":"'General Table'!AB98","v":1130},6.3663227162225736E-2,{"$f":"'General Table'!AE98","v":4344},0.24473722017053856,{"$f":"'General Table'!AJ98","v":3728},0.21003231049626328,{"$f":"'General Table'!AY98","v":4925},0.27747025997695729,324.60000000000002,1463.6,8.245796395985272E-2]
[{"$f":"'General Table'!A99","v":89},null,{"$f":"'General Table'!C99","v":417},{"$f":"'General Table'!D99","v":"Kyrgyzstan"},null,{"$f":"'General Table'!F99","v":5865.4},{"$f":"'General Table'!R99","v":598},0.1019538309407713,{"$f":"'General Table'!T99","v":478},8.1494868210181745E-2,789.2,0.13455177822484402,1076,0.18344869915095305,{"$f":"'General Table'!AB99","v":513},8.7462065673270376E-2,{"$f":"'General Table'!AE99","v":1665},0.28386810788693018,{"$f":"'General Table'!AJ99","v":1111},0.18941589661404168,{"$f":"'General Table'!AY99","v":1264},0.21550107409554337,119.6,597.6,0.10188563439833602]
[{"$f":"'General Table'!A100","v":90},null,{"$f":"'General Table'!C100","v":762},{"$f":"'General Table'!D100","v":"Tajikistan"},null,{"$f":"'General Table'!F100","v":8548.65},{"$f":"'General Table'!R100","v":995},0.11639264679218357,{"$f":"'General Table'!T100","v":842},9.8495084019114137E-2,1331.8,0.15579068039982921,1837,0.21488773081129769,{"$f":"'General Table'!AB100","v":867},0.10141952238072678,{"$f":"'General Table'!AE100","v":2524},0.2952512969884134,{"$f":"'General Table'!AJ100","v":1556},0.18201704362677149,{"$f":"'General Table'!AY100","v":1467},0.17160604305943045,199,1041,0.12177361337755084]
[{"$f":"'General Table'!A101","v":91},null,{"$f":"'General Table'!C101","v":795},{"$f":"'General Table'!D101","v":"Turkmenistan"},null,{"$f":"'General Table'!F101","v":5565.28},{"$f":"'General Table'!R101","v":527},9.4694247189719125E-2,{"$f":"'General Table'!T101","v":488},8.7686513526722826E-2,722.2,0.12976885260040827,1015,0.18238076071644194,{"$f":"'General Table'!AB101","v":466},8.3733432998878768E-2,{"$f":"'General Table'!AE101","v":1552},0.27887186269154474,{"$f":"'General Table'!AJ101","v":1156},0.20771641319035161,{"$f":"'General Table'!AY101","v":1161},0.20861484058304344,105.4,593.4,0.10662536296466665]
[{"$f":"'General Table'!A102","v":92},null,{"$f":"'General Table'!C102","v":860},{"$f":"'General Table'!D102","v":"Uzbekistan"},null,{"$f":"'General Table'!F102","v":30976.02},{"$f":"'General Table'!R102","v":2940},9.4912128801569726E-2,{"$f":"'General Table'!T102","v":2553},8.2418593479730448E-2,3961.2,0.12787956619346191,5493,0.17733072228130017,{"$f":"'General Table'!AB102","v":2807},9.0618484879593952E-2,{"$f":"'General Table'!AE102","v":9065},0.29264573047150666,{"$f":"'General Table'!AJ102","v":6583},0.21251923261929712,{"$f":"'General Table'!AY102","v":6639},0.21432708269170797,588,3141,0.1014010192400444]
[{"$f":"'General Table'!A103","v":93},null,{"$f":"'General Table'!C103","v":5501},{"$f":"'General Table'!D103","v":"Southern Asia"},null,{"$f":"'General Table'!F103","v":1823308.47},{"$f":"'General Table'!R103","v":181313},9.9441758201232952E-2,{"$f":"'General Table'!T103","v":178014},9.7632409945421911E-2,252518.6,0.13849472217940173,359327,0.19707416814665485,{"$f":"'General Table'!AB103","v":173184},9.498337930717779E-2,{"$f":"'General Table'!AE103","v":499208},0.27379239893510726,{"$f":"'General Table'!AJ103","v":382972},0.21004235229598864,{"$f":"'General Table'!AY103","v":403726},0.22142495723721395,36262.6,214276.6,0.1175207615856685]
[{"$f":"'General Table'!A104","v":94},null,{"$f":"'General Table'!C104","v":4},{"$f":"'General Table'!D104","v":"Afghanistan"},null,{"$f":"'General Table'!F104","v":33736.49},{"$f":"'General Table'!R104","v":5142},0.15241656734295714,{"$f":"'General Table'!T104","v":4642},0.13759581983780766,6998.8,0.20745489527808023,9784,0.29001238718076483,{"$f":"'General Table'!AB104","v":3945},0.11693569781562932,{"$f":"'General Table'!AE104","v":9573},0.28375803173359176,{"$f":"'General Table'!AJ104","v":5196},0.1540172080735133,{"$f":"'General Table'!AY104","v":3943},0.11687641482560872,1028.4000000000001,5670.4,0.16807913330639909]
[{"$f":"'General Table'!A105","v":95},null,{"$f":"'General Table'!C105","v":50},{"$f":"'General Table'!D105","v":"Bangladesh"},null,{"$f":"'General Table'!F105","v":161200.89000000001},{"$f":"'General Table'!R105","v":15716},9.7493258256824755E-2,{"$f":"'General Table'!T105","v":16458},0.10209621051099654,22299.200000000001,0.13833174246122337,32174,0.1995894687678213,{"$f":"'General Table'!AB105","v":16116},9.9974634135084478E-2,{"$f":"'General Table'!AE105","v":45795},0.28408652086226072,{"$f":"'General Table'!AJ105","v":35302},0.21899382813581239,{"$f":"'General Table'!AY105","v":32676},0.20270359549503728,3143.2,19601.2,0.12159486216236151]
[{"$f":"'General Table'!A106","v":96},null,{"$f":"'General Table'!C106","v":64},{"$f":"'General Table'!D106","v":"Bhutan"},null,{"$f":"'General Table'!F106","v":787.39},{"$f":"'General Table'!R106","v":73},9.2711362857034005E-2,{"$f":"'General Table'!T106","v":72},9.1441344187759566E-2,101.8,0.12928790053213782,145,0.18415270704479356,{"$f":"'General Table'!AB106","v":76},9.6521418864857308E-2,{"$f":"'General Table'!AE106","v":239},0.30353446195659078,{"$f":"'General Table'!AJ106","v":184},0.23368343514649667,{"$f":"'General Table'!AY106","v":150},0.19050280039116577,14.6,86.6,0.10998361675916636]
[{"$f":"'General Table'!A107","v":97},null,{"$f":"'General Table'!C107","v":356},{"$f":"'General Table'!D107","v":"India"},null,{"$f":"'General Table'!F107","v":1309053.98},{"$f":"'General Table'!R107","v":126977},9.6999055760863276E-2,{"$f":"'General Table'!T107","v":126752},9.6827175912180485E-2,177677.8,0.13572992612573548,253729,0.19382623167304378,{"$f":"'General Table'!AB107","v":123333},9.4215366122640726E-2,{"$f":"'General Table'!AE107","v":354322},0.27067027442214414,{"$f":"'General Table'!AJ107","v":276543},0.21125408441903978,{"$f":"'General Table'!AY107","v":303047},0.23150076668343347,25395.4,152147.4,0.11622698706435314]
[{"$f":"'General Table'!A108","v":98},null,{"$f":"'General Table'!C108","v":364},{"$f":"'General Table'!D108","v":"Iran (Islamic Republic of)"},null,{"$f":"'General Table'!F108","v":79360.490000000005},{"$f":"'General Table'!R108","v":6418},8.0871476473998574E-2,{"$f":"'General Table'!T108","v":5437},6.8510161668608641E-2,8592.7999999999993,0.10827554114144203,11855,0.14938163814260721,{"$f":"'General Table'!AB108","v":5491},6.9190601015694325E-2,{"$f":"'General Table'!AE108","v":21811},0.27483449257936787,{"$f":"'General Table'!AJ108","v":20911},0.26349383679460647,{"$f":"'General Table'!AY108","v":17881},0.22531362898590973,1283.5999999999999,6720.6,8.4684456963408358E-2]
[{"$f":"'General Table'!A109","v":99},null,{"$f":"'General Table'!C109","v":462},{"$f":"'General Table'!D109","v":"Maldives"},null,{"$f":"'General Table'!F109","v":418.4},{"$f":"'General Table'!R109","v":32},7.6481835564053538E-2,{"$f":"'General Table'!T109","v":27},6.4531548757170182E-2,42.8,0.1022944550669216,59,0.14101338432122371,{"$f":"'General Table'!AB109","v":31},7.4091778202676872E-2,{"$f":"'General Table'!AE109","v":135},0.32265774378585088,{"$f":"'General Table'!AJ109","v":109},0.26051625239005738,{"$f":"'General Table'!AY109","v":77},0.18403441682600383,6.4,33.4,7.9827915869980878E-2]
[{"$f":"'General Table'!A110","v":100},null,{"$f":"'General Table'!C110","v":524},{"$f":"'General Table'!D110","v":"Nepal"},null,{"$f":"'General Table'!F110","v":28656.28},{"$f":"'General Table'!R110","v":3150},0.10992354904404898,{"$f":"'General Table'!T110","v":3374},0.11774033475384803,4499.6000000000004,0.15701968294558821,6524,0.22766388379789701,{"$f":"'General Table'!AB110","v":3251},0.11344808188641373,{"$f":"'General Table'!AE110","v":8270},0.28859293669659847,{"$f":"'General Table'!AJ110","v":5263},0.18365956781550152,{"$f":"'General Table'!AY110","v":5792},0.20211974478194658,630,4004,0.13972504456265783]
[{"$f":"'General Table'!A111","v":101},null,{"$f":"'General Table'!C111","v":586},{"$f":"'General Table'!D111","v":"Pakistan"},null,{"$f":"'General Table'!F111","v":189380.51},{"$f":"'General Table'!R111","v":22056},0.11646393813175389,{"$f":"'General Table'!T111","v":19552},0.10324188059267556,29876.799999999999,0.15776069036882412,41608,0.21970581872442946,{"$f":"'General Table'!AB111","v":19355},0.10220164683261228,{"$f":"'General Table'!AE111","v":54491},0.28773288233303412,{"$f":"'General Table'!AJ111","v":35032},0.18498207656109913,{"$f":"'General Table'!AY111","v":33537},0.17708791680833472,4411.2,23963.200000000001,0.12653466821902634]
[{"$f":"'General Table'!A112","v":102},null,{"$f":"'General Table'!C112","v":144},{"$f":"'General Table'!D112","v":"Sri Lanka"},null,{"$f":"'General Table'!F112","v":20714.04},{"$f":"'General Table'!R112","v":1749},8.4435484338159048E-2,{"$f":"'General Table'!T112","v":1699},8.2021662601790862E-2,2428.6,0.11724414937887538,3448,0.1664571469399499,{"$f":"'General Table'!AB112","v":1585},7.6518149042871408E-2,{"$f":"'General Table'!AE112","v":4569},0.22057503026932457,{"$f":"'General Table'!AJ112","v":4433},0.21400943514640311,{"$f":"'General Table'!AY112","v":6622},0.31968655076460217,349.8,2048.8000000000002,9.890875946942268E-2]
[{"$f":"'General Table'!A113","v":103},null,{"$f":"'General Table'!C113","v":920},{"$f":"'General Table'!D113","v":"South-Eastern Asia"},null,{"$f":"'General Table'!F113","v":634609.85},{"$f":"'General Table'!R113","v":56147},8.8474832213839741E-2,{"$f":"'General Table'!T113","v":55666},8.7716886209692466E-2,78413.399999999994,0.1235615866977167,111813,0.17619171842353221,{"$f":"'General Table'!AB113","v":55089},8.6807666158979419E-2,{"$f":"'General Table'!AE113","v":163060},0.25694527117724381,{"$f":"'General Table'!AJ113","v":140507},0.22140690063351523,{"$f":"'General Table'!AY113","v":161444},0.25439882472671987,11229.4,66895.399999999994,0.10541185265246041]
[{"$f":"'General Table'!A114","v":104},null,{"$f":"'General Table'!C114","v":96},{"$f":"'General Table'!D114","v":"Brunei Darussalam"},null,{"$f":"'General Table'!F114","v":417.54},{"$f":"'General Table'!R114","v":31},7.4244383771614686E-2,{"$f":"'General Table'!T114","v":34},8.1429324136609665E-2,44.6,0.10681611342625856,65,0.15567370790822435,{"$f":"'General Table'!AB114","v":36},8.6219284379939642E-2,{"$f":"'General Table'!AE114","v":110},0.26344781338314893,{"$f":"'General Table'!AJ114","v":108},0.25865785313981893,{"$f":"'General Table'!AY114","v":99},0.23710303204483402,6.2,40.200000000000003,9.6278200890932614E-2]
[{"$f":"'General Table'!A115","v":105},null,{"$f":"'General Table'!C115","v":116},{"$f":"'General Table'!D115","v":"Cambodia"},null,{"$f":"'General Table'!F115","v":15517.64},{"$f":"'General Table'!R115","v":1654},0.10658837297424094,{"$f":"'General Table'!T115","v":1485},9.5697541636485958E-2,2248,0.14486738962883533,3139,0.2022859146107269,{"$f":"'General Table'!AB115","v":1567},0.10098185033291145,{"$f":"'General Table'!AE115","v":4472},0.28818815232213146,{"$f":"'General Table'!AJ115","v":3160},0.20363921317932368,{"$f":"'General Table'!AY115","v":2981},0.19210395395176072,330.8,1815.8,0.11701521623133415]
[{"$f":"'General Table'!A116","v":106},null,{"$f":"'General Table'!C116","v":360},{"$f":"'General Table'!D116","v":"Indonesia"},null,{"$f":"'General Table'!F116","v":258162.11},{"$f":"'General Table'!R116","v":23651},9.1612979147094833E-2,{"$f":"'General Table'!T116","v":23677},9.1713691060241187E-2,33121.800000000003,0.12829845557119132,47328,0.18332667020733601,{"$f":"'General Table'!AB116","v":22512},8.7201022644260232E-2,{"$f":"'General Table'!AE116","v":65614},0.25415813343019239,{"$f":"'General Table'!AJ116","v":58822},0.22784908288826738,{"$f":"'General Table'!AY116","v":61809},0.23941933229473528,4730.2,28407.200000000001,0.11003628688966015]
[{"$f":"'General Table'!A117","v":107},null,{"$f":"'General Table'!C117","v":418},{"$f":"'General Table'!D117","v":"Lao People's Democratic Republic"},null,{"$f":"'General Table'!F117","v":6663.97},{"$f":"'General Table'!R117","v":758},0.11374601026115064,{"$f":"'General Table'!T117","v":717},0.10759352157947889,1044.8,0.15678341889294217,1475,0.22133953184062952,{"$f":"'General Table'!AB117","v":715},0.10729340018037296,{"$f":"'General Table'!AE117","v":2020},0.30312261309699773,{"$f":"'General Table'!AJ117","v":1269},0.19042702773271789,{"$f":"'General Table'!AY117","v":1129},0.1694185297953022,151.6,868.6,0.13034272363170901]
[{"$f":"'General Table'!A118","v":108},null,{"$f":"'General Table'!C118","v":458},{"$f":"'General Table'!D118","v":"Malaysia"},null,{"$f":"'General Table'!F118","v":30723.16},{"$f":"'General Table'!R118","v":2486},8.0916155760019481E-2,{"$f":"'General Table'!T118","v":2615},8.5114942603560312E-2,3532,0.1149621328014436,5101,0.16603109836357979,{"$f":"'General Table'!AB118","v":2898},9.4326234671173154E-2,{"$f":"'General Table'!AE118","v":9121},0.29687701395299182,{"$f":"'General Table'!AJ118","v":6658},0.21670947910306101,{"$f":"'General Table'!AY118","v":7273},0.23672695126412777,497.2,3112.2,0.1012981737555642]
[{"$f":"'General Table'!A119","v":109},null,{"$f":"'General Table'!C119","v":104},{"$f":"'General Table'!D119","v":"Myanmar"},null,{"$f":"'General Table'!F119","v":52403.67},{"$f":"'General Table'!R119","v":4858},9.2703430885661256E-2,{"$f":"'General Table'!T119","v":5197},9.9172443456727363E-2,6936.8,0.1323724082683522,10055,0.19187587434238862,{"$f":"'General Table'!AB119","v":4845},9.2455356657272295E-2,{"$f":"'General Table'!AE119","v":13562},0.2587986681085504,{"$f":"'General Table'!AJ119","v":11469},0.21885871733792692,{"$f":"'General Table'!AY119","v":12762},0.24353256174615251,971.6,6168.6,0.11771312963385962]
[{"$f":"'General Table'!A120","v":110},null,{"$f":"'General Table'!C120","v":608},{"$f":"'General Table'!D120","v":"Philippines"},null,{"$f":"'General Table'!F120","v":101716.36},{"$f":"'General Table'!R120","v":10889},0.1070525921297223,{"$f":"'General Table'!T120","v":10459},0.10282515025114937,15072.6,0.14818265223018204,21348,0.20987774238087167,{"$f":"'General Table'!AB120","v":10208},0.10035750394528471,{"$f":"'General Table'!AE120","v":28133},0.27658284272067934,{"$f":"'General Table'!AJ120","v":19901},0.19565190889646464,{"$f":"'General Table'!AY120","v":20900},0.20547333781900964,2177.8000000000002,12636.8,0.12423566867709382]
[{"$f":"'General Table'!A121","v":111},null,{"$f":"'General Table'!C121","v":702},{"$f":"'General Table'!D121","v":"Singapore"},null,{"$f":"'General Table'!F121","v":5535.26},{"$f":"'General Table'!R121","v":281},5.076545636519332E-2,{"$f":"'General Table'!T121","v":313},5.6546575951265159E-2,406.2,7.3384086745699378E-2,594,0.10731203231645849,{"$f":"'General Table'!AB121","v":353},6.3772975433854961E-2,{"$f":"'General Table'!AE121","v":1086},0.19619674595231298,{"$f":"'General Table'!AJ121","v":1277},0.23070280348167926,{"$f":"'General Table'!AY121","v":2316},0.41840853004194922,56.2,369.2,6.6699667224303816E-2]
[{"$f":"'General Table'!A122","v":112},null,{"$f":"'General Table'!C122","v":764},{"$f":"'General Table'!D122","v":"Thailand"},null,{"$f":"'General Table'!F122","v":68657.600000000006},{"$f":"'General Table'!R122","v":4121},6.0022488406236155E-2,{"$f":"'General Table'!T122","v":4388},6.3911351401738481E-2,5876.2,8.5587028966931544E-2,8509,0.12393383980797464,{"$f":"'General Table'!AB122","v":4819},7.0188879308335853E-2,{"$f":"'General Table'!AE122","v":14125},0.20573104798303463,{"$f":"'General Table'!AJ122","v":15908},0.23170049637622053,{"$f":"'General Table'!AY122","v":26270},0.38262333667358017,824.2,5212.2,7.5915849082985709E-2]
[{"$f":"'General Table'!A123","v":113},null,{"$f":"'General Table'!C123","v":626},{"$f":"'General Table'!D123","v":"Timor-Leste"},null,{"$f":"'General Table'!F123","v":1240.98},{"$f":"'General Table'!R123","v":183},0.14746410095247303,{"$f":"'General Table'!T123","v":159},0.1281245467291979,246.6,0.19871391964415219,342,0.27558864768167091,{"$f":"'General Table'!AB123","v":155},0.12490128769198537,{"$f":"'General Table'!AE123","v":344},0.27720027720027718,{"$f":"'General Table'!AJ123","v":170},0.13698850908153234,{"$f":"'General Table'!AY123","v":180},0.14504665667456365,36.6,195.6,0.1576173669196925]
[{"$f":"'General Table'!A124","v":114},null,{"$f":"'General Table'!C124","v":704},{"$f":"'General Table'!D124","v":"Viet Nam"},null,{"$f":"'General Table'!F124","v":93571.57},{"$f":"'General Table'!R124","v":7233},7.7299119807437228E-2,{"$f":"'General Table'!T124","v":6623},7.0780045691228644E-2,9882.2000000000007,0.10561113808392869,13856,0.14807916549866587,{"$f":"'General Table'!AB124","v":6982},7.4616681113718622E-2,{"$f":"'General Table'!AE124","v":24473},0.26154311614093895,{"$f":"'General Table'!AJ124","v":21766},0.23261338887441985,{"$f":"'General Table'!AY124","v":25724},0.27491256158254052,1446.6,8069.6,8.62398696527161E-2]
[{"$f":"'General Table'!A125","v":115},null,{"$f":"'General Table'!C125","v":922},{"$f":"'General Table'!D125","v":"Western Asia"},null,{"$f":"'General Table'!F125","v":258123.91},{"$f":"'General Table'!R125","v":25700},9.9564585086286655E-2,{"$f":"'General Table'!T125","v":23891},9.2556323046555436E-2,35256.400000000001,0.13658711430490883,49591,0.19212090813284208,{"$f":"'General Table'!AB125","v":22800},8.8329670815849637E-2,{"$f":"'General Table'!AE125","v":67610},0.26192846683594712,{"$f":"'General Table'!AJ125","v":58628},0.22713122546454531,{"$f":"'General Table'!AY125","v":54730},0.21202995104173031,5140,29031,0.11246924006381276]
[{"$f":"'General Table'!A126","v":116},null,{"$f":"'General Table'!C126","v":51},{"$f":"'General Table'!D126","v":"Armenia"},null,{"$f":"'General Table'!F126","v":2916.95},{"$f":"'General Table'!R126","v":199},6.8221944153996475E-2,{"$f":"'General Table'!T126","v":174},5.9651348154750684E-2,268.60000000000002,9.2082483415896754E-2,373,0.12787329230874717,{"$f":"'General Table'!AB126","v":182},6.2393938874509336E-2,{"$f":"'General Table'!AE126","v":692},0.23723409725912342,{"$f":"'General Table'!AJ126","v":600},0.20569430398189892,{"$f":"'General Table'!AY126","v":1044},0.35790808892850412,39.799999999999997,213.8,7.3295736985549989E-2]
[{"$f":"'General Table'!A127","v":117},null,{"$f":"'General Table'!C127","v":31},{"$f":"'General Table'!D127","v":"Azerbaijan"},null,{"$f":"'General Table'!F127","v":9617.48},{"$f":"'General Table'!R127","v":699},7.2680161539197388E-2,{"$f":"'General Table'!T127","v":638},6.6337543722471998E-2,954.2,9.921517902818619E-2,1337,0.13901770526166937,{"$f":"'General Table'!AB127","v":720},7.4863685705611041E-2,{"$f":"'General Table'!AE127","v":2554},0.2655581295724036,{"$f":"'General Table'!AJ127","v":2122},0.22063991814903697,{"$f":"'General Table'!AY127","v":2737},0.28458598302257976,139.80000000000001,777.8,8.0873576030311478E-2]
[{"$f":"'General Table'!A128","v":118},null,{"$f":"'General Table'!C128","v":48},{"$f":"'General Table'!D128","v":"Bahrain"},null,{"$f":"'General Table'!F128","v":1371.86},{"$f":"'General Table'!R128","v":96},6.9977986091875263E-2,{"$f":"'General Table'!T128","v":84},6.1230737830390861E-2,129.6,9.4470281224031616E-2,180,0.13120872392226612,{"$f":"'General Table'!AB128","v":74},5.3941364279153851E-2,{"$f":"'General Table'!AE128","v":354},0.25804382371379003,{"$f":"'General Table'!AJ128","v":459},0.3345822460017786,{"$f":"'General Table'!AY128","v":271},0.19754202323852291,19.2,103.2,7.5226335048765913E-2]
[{"$f":"'General Table'!A129","v":119},null,{"$f":"'General Table'!C129","v":196},{"$f":"'General Table'!D129","v":"Cyprus"},null,{"$f":"'General Table'!F129","v":1160.99},{"$f":"'General Table'!R129","v":65},5.5986701005176616E-2,{"$f":"'General Table'!T129","v":65},5.5986701005176616E-2,91,7.8381381407247264E-2,130,0.11197340201035323,{"$f":"'General Table'!AB129","v":78},6.7184041206211936E-2,{"$f":"'General Table'!AE129","v":291},0.25064815373086763,{"$f":"'General Table'!AJ129","v":259},0.22308547015908836,{"$f":"'General Table'!AY129","v":417},0.35917622029474844,13,78,6.7184041206211936E-2]
[{"$f":"'General Table'!A130","v":120},null,{"$f":"'General Table'!C130","v":268},{"$f":"'General Table'!D130","v":"Georgia"},null,{"$f":"'General Table'!F130","v":3951.52},{"$f":"'General Table'!R130","v":250},6.3266793537676641E-2,{"$f":"'General Table'!T130","v":214},5.4156375268251206E-2,335.6,8.4929343644977132E-2,464,0.11742316880592785,{"$f":"'General Table'!AB130","v":236},5.9723853099566751E-2,{"$f":"'General Table'!AE130","v":803},0.20321294084301736,{"$f":"'General Table'!AJ130","v":804},0.20346600801716808,{"$f":"'General Table'!AY130","v":1606},0.40642588168603472,50,264,6.6809733975786531E-2]
[{"$f":"'General Table'!A131","v":121},null,{"$f":"'General Table'!C131","v":368},{"$f":"'General Table'!D131","v":"Iraq"},null,{"$f":"'General Table'!F131","v":36115.65},{"$f":"'General Table'!R131","v":4867},0.13476152305164105,{"$f":"'General Table'!T131","v":4215},0.11670840757400185,6553,0.18144488608124179,9082,0.25146993062564288,{"$f":"'General Table'!AB131","v":3804},0.10532829950450844,{"$f":"'General Table'!AE131","v":9980},0.2763344976485263,{"$f":"'General Table'!AJ131","v":6475},0.17928515754250579,{"$f":"'General Table'!AY131","v":4975},0.13775191641296777,973.4,5188.3999999999996,0.14366071218433005]
[{"$f":"'General Table'!A132","v":122},null,{"$f":"'General Table'!C132","v":376},{"$f":"'General Table'!D132","v":"Israel"},null,{"$f":"'General Table'!F132","v":8064.55},{"$f":"'General Table'!R132","v":745},9.237961200562958E-2,{"$f":"'General Table'!T132","v":672},8.3327650023869895E-2,1013.8,0.12571067201517752,1417,0.17570726202949946,{"$f":"'General Table'!AB132","v":624},7.73756750221649E-2,{"$f":"'General Table'!AE132","v":1759},0.21811508391664755,{"$f":"'General Table'!AJ132","v":1608},0.19939116255711725,{"$f":"'General Table'!AY132","v":2452},0.3040467230037634,149,821,0.10180357242499581]
[{"$f":"'General Table'!A133","v":123},null,{"$f":"'General Table'!C133","v":400},{"$f":"'General Table'!D133","v":"Jordan"},null,{"$f":"'General Table'!F133","v":9159.2999999999993},{"$f":"'General Table'!R133","v":1102},0.12031487122378348,{"$f":"'General Table'!T133","v":996},0.1087419344273034,1500.4,0.16381164499470485,2098,0.22905680565108688,{"$f":"'General Table'!AB133","v":922},0.10066271439957203,{"$f":"'General Table'!AE133","v":2521},0.27523937418798383,{"$f":"'General Table'!AJ133","v":1840},0.20088871420305046,{"$f":"'General Table'!AY133","v":1497},0.16344043758802529,220.4,1216.4000000000001,0.1328049086720601]
[{"$f":"'General Table'!A134","v":124},null,{"$f":"'General Table'!C134","v":414},{"$f":"'General Table'!D134","v":"Kuwait"},null,{"$f":"'General Table'!F134","v":3935.79},{"$f":"'General Table'!R134","v":280},7.1142007068466559E-2,{"$f":"'General Table'!T134","v":232},5.8946234428158009E-2,372.8,9.4720500839729771E-2,512,0.13008824149662457,{"$f":"'General Table'!AB134","v":218},5.5389134074734676E-2,{"$f":"'General Table'!AE134","v":804},0.20427919172516826,{"$f":"'General Table'!AJ134","v":1448},0.36790580798264133,{"$f":"'General Table'!AY134","v":861},0.21876167173553468,56,288,7.3174635841851313E-2]
[{"$f":"'General Table'!A135","v":125},null,{"$f":"'General Table'!C135","v":422},{"$f":"'General Table'!D135","v":"Lebanon"},null,{"$f":"'General Table'!F135","v":5851.48},{"$f":"'General Table'!R135","v":439},7.502375467403119E-2,{"$f":"'General Table'!T135","v":504},8.6132055479981137E-2,640.6,0.10947657686602365,943,0.16115581015401234,{"$f":"'General Table'!AB135","v":557},9.5189593060217251E-2,{"$f":"'General Table'!AE135","v":1684},0.28779043934184173,{"$f":"'General Table'!AJ135","v":1209},0.20661439499066905,{"$f":"'General Table'!AY135","v":1555},0.26574473466541798,87.8,591.79999999999995,0.10113680641478737]
[{"$f":"'General Table'!A136","v":126},null,{"$f":"'General Table'!C136","v":512},{"$f":"'General Table'!D136","v":"Oman"},null,{"$f":"'General Table'!F136","v":4199.8100000000004},{"$f":"'General Table'!R136","v":302},7.1908014886387706E-2,{"$f":"'General Table'!T136","v":245},5.8335972341605924E-2,400,9.5242403823030078E-2,547,0.13024398722799363,{"$f":"'General Table'!AB136","v":236},5.619301825558775E-2,{"$f":"'General Table'!AE136","v":1312},0.31239508453953868,{"$f":"'General Table'!AJ136","v":1350},0.32144311290272654,{"$f":"'General Table'!AY136","v":608},0.14476845381100573,60.4,305.39999999999998,7.2717575318883468E-2]
[{"$f":"'General Table'!A137","v":127},null,{"$f":"'General Table'!C137","v":634},{"$f":"'General Table'!D137","v":"Qatar"},null,{"$f":"'General Table'!F137","v":2481.54},{"$f":"'General Table'!R137","v":117},4.7148141879639255E-2,{"$f":"'General Table'!T137","v":98},3.9491606018843141E-2,156.19999999999999,6.2944784287176508E-2,215,8.6639747898482389E-2,{"$f":"'General Table'!AB137","v":102},4.1103508305326532E-2,{"$f":"'General Table'!AE137","v":794},0.31996260386695358,{"$f":"'General Table'!AJ137","v":955},0.38484167089791016,{"$f":"'General Table'!AY137","v":391},0.1575634485037517,23.4,121.4,4.8921234394770995E-2]
[{"$f":"'General Table'!A138","v":128},null,{"$f":"'General Table'!C138","v":682},{"$f":"'General Table'!D138","v":"Saudi Arabia"},null,{"$f":"'General Table'!F138","v":31557.14},{"$f":"'General Table'!R138","v":2765},8.7618839983598013E-2,{"$f":"'General Table'!T138","v":2479},7.8555914762871409E-2,3756.6,0.11904120588874657,5244,0.16617475474646942,{"$f":"'General Table'!AB138","v":2339},7.4119517801676582E-2,{"$f":"'General Table'!AE138","v":7700},0.24400183286571597,{"$f":"'General Table'!AJ138","v":9384},0.29736535059894531,{"$f":"'General Table'!AY138","v":6268},0.19862382966263736,553,3032,9.6079682759591015E-2]
[{"$f":"'General Table'!A139","v":129},null,{"$f":"'General Table'!C139","v":275},{"$f":"'General Table'!D139","v":"State of Palestine"},null,{"$f":"'General Table'!F139","v":4662.88},{"$f":"'General Table'!R139","v":619},{"$f":"G139/F139","v":0.13275057475208454},{"$f":"'General Table'!T139","v":553},{"$f":"I139/F139","v":0.11859623237140994},{"$f":"G139+I139/5*2","v":840.2},{"$f":"K139/F139","v":0.18018906770064852},{"$f":"G139+I139","v":1172},{"$f":"M139/F139","v":0.2513468071234945},{"$f":"'General Table'!AB139","v":530},{"$f":"O139/F139","v":0.11366365851147789},{"$f":"'General Table'!AE139","v":1398},{"$f":"Q139/F139","v":0.29981470679065297},{"$f":"'General Table'!AJ139","v":774},{"$f":"S139/F139","v":0.16599183337336582},{"$f":"'General Table'!AY139","v":620},{"$f":"U139/F139","v":0.13296503448512506},{"$f":"G139/5","v":123.8},{"$f":"W139+I139","v":676.8},0.14514634732182685]
[{"$f":"'General Table'!A140","v":130},null,{"$f":"'General Table'!C140","v":760},{"$f":"'General Table'!D140","v":"Syrian Arab Republic"},null,{"$f":"'General Table'!F140","v":18734.990000000002},{"$f":"'General Table'!R140","v":2472},0.131945626872499,{"$f":"'General Table'!T140","v":2427},0.12954370405321805,3442.8,0.18376310849378621,4899,0.26148933092571702,{"$f":"'General Table'!AB140","v":2159},0.11523891926283386,{"$f":"'General Table'!AE140","v":5073},0.27077676582693666,{"$f":"'General Table'!AJ140","v":3304},0.17635451099787081,{"$f":"'General Table'!AY140","v":3222},0.17197767386051446,494.4,2921.4,{"$f":"X140/F140","v":0.15593282942771786}]
[{"$f":"'General Table'!A141","v":131},null,{"$f":"'General Table'!C141","v":792},{"$f":"'General Table'!D141","v":"Turkey"},null,{"$f":"'General Table'!F141","v":78271.47},{"$f":"'General Table'!R141","v":6619},8.4564656828343715E-2,{"$f":"'General Table'!T141","v":6665},8.5152355002403812E-2,9285,0.11862559882930523,13284,0.16971701183074753,{"$f":"'General Table'!AB141","v":6670},8.5216235238714688E-2,{"$f":"'General Table'!AE141","v":19297},0.24653938401821252,{"$f":"'General Table'!AJ141","v":17615},0.22505007252323228,{"$f":"'General Table'!AY141","v":21335},0.27257696833852746,1323.8,7988.8,0.10206528636807255]
[{"$f":"'General Table'!A142","v":132},null,{"$f":"'General Table'!C142","v":784},{"$f":"'General Table'!D142","v":"United Arab Emirates"},null,{"$f":"'General Table'!F142","v":9154.2999999999993},{"$f":"'General Table'!R142","v":438},4.7846367280949938E-2,{"$f":"'General Table'!T142","v":353},3.8561113356564675E-2,579.20000000000005,6.3270812623575812E-2,791,8.6407480637514619E-2,{"$f":"'General Table'!AB142","v":329},3.593939460144413E-2,{"$f":"'General Table'!AE142","v":2260},0.24687851610718461,{"$f":"'General Table'!AJ142","v":4050},0.44241503992659192,{"$f":"'General Table'!AY142","v":1581},0.17270572299356587,87.6,440.6,4.8130386812754666E-2]
[{"$f":"'General Table'!A143","v":133},null,{"$f":"'General Table'!C143","v":887},{"$f":"'General Table'!D143","v":"Yemen"},null,{"$f":"'General Table'!F143","v":26916.21},{"$f":"'General Table'!R143","v":3626},0.13471435985972766,{"$f":"'General Table'!T143","v":3277},0.12174819560406165,4936.8,0.18341363810135233,6903,0.25646255546378932,{"$f":"'General Table'!AB143","v":3020},0.1122000459945884,{"$f":"'General Table'!AE143","v":8335},0.3096646964784418,{"$f":"'General Table'!AJ143","v":4374},0.16250430502659921,{"$f":"'General Table'!AY143","v":3286},0.12208256660205877,725.2,4002.2,0.14869106757600717]
[{"$f":"'General Table'!A144","v":134},null,{"$f":"'General Table'!C144","v":908},{"$f":"'General Table'!D144","v":"EUROPE"},null,{"$f":"'General Table'!F144","v":740813.96},{"$f":"'General Table'!R144","v":39534},5.3365625021429136E-2,{"$f":"'General Table'!T144","v":37172},5.017724018051712E-2,54402.8,7.3436521093635992E-2,76706,0.10354286520194625,{"$f":"'General Table'!AB144","v":37753},5.0961512658319781E-2,{"$f":"'General Table'!AE144","v":132963},0.17948230889169531,{"$f":"'General Table'!AJ144","v":156294},0.21097604586177077,{"$f":"'General Table'!AY144","v":334781},0.45190968053571778,7906.8,45078.8,6.0850365184802947E-2]
[{"$f":"'General Table'!A145","v":135},null,{"$f":"'General Table'!C145","v":923},{"$f":"'General Table'!D145","v":"Eastern Europe"},null,{"$f":"'General Table'!F145","v":293243.71000000002},{"$f":"'General Table'!R145","v":15777},5.3801665515690003E-2,{"$f":"'General Table'!T145","v":13894},4.7380385413893444E-2,21334.6,7.2753819681247375E-2,29671,0.10118205092958345,{"$f":"'General Table'!AB145","v":13824},4.7141676116428888E-2,{"$f":"'General Table'!AE145","v":55880},0.19055822203313413,{"$f":"'General Table'!AJ145","v":66667},0.22734332477242222,{"$f":"'General Table'!AY145","v":123966},0.42274052527844497,3155.4,17049.400000000001,5.8140718517031446E-2]
[{"$f":"'General Table'!A146","v":136},null,{"$f":"'General Table'!C146","v":112},{"$f":"'General Table'!D146","v":"Belarus"},null,{"$f":"'General Table'!F146","v":9485.77},{"$f":"'General Table'!R146","v":512},5.3975586589175152E-2,{"$f":"'General Table'!T146","v":443},4.6701532927743344E-2,689.2,7.2656199760272488E-2,955,0.10067711951691849,{"$f":"'General Table'!AB146","v":461},4.8599112143769031E-2,{"$f":"'General Table'!AE146","v":1843},0.19429102750751914,{"$f":"'General Table'!AJ146","v":2083},0.21959208372119501,{"$f":"'General Table'!AY146","v":4028},0.42463606011952637,102.4,545.4,5.7496650245578373E-2]
[{"$f":"'General Table'!A147","v":137},null,{"$f":"'General Table'!C147","v":100},{"$f":"'General Table'!D147","v":"Bulgaria"},null,{"$f":"'General Table'!F147","v":7177.4},{"$f":"'General Table'!R147","v":354},4.9321481316354117E-2,{"$f":"'General Table'!T147","v":315},4.3887758798450693E-2,480,6.6876584835734387E-2,669,9.3209240114804803E-2,{"$f":"'General Table'!AB147","v":305},4.2494496614372892E-2,{"$f":"'General Table'!AE147","v":1187},0.16538022125003485,{"$f":"'General Table'!AJ147","v":1560},0.21734890071613677,{"$f":"'General Table'!AY147","v":3423},0.47691364560983091,70.8,385.8,5.3752055061721517E-2]
[{"$f":"'General Table'!A148","v":138},null,{"$f":"'General Table'!C148","v":203},{"$f":"'General Table'!D148","v":"Czech Republic"},null,{"$f":"'General Table'!F148","v":10603.76},{"$f":"'General Table'!R148","v":571},5.3848823436215075E-2,{"$f":"'General Table'!T148","v":481},4.536126807849291E-2,763.4,7.1993330667612238E-2,1052,9.9210091514707985E-2,{"$f":"'General Table'!AB148","v":456},4.3003613812458978E-2,{"$f":"'General Table'!AE148","v":1772},0.16711053437648532,{"$f":"'General Table'!AJ148","v":2548},0.24029212279417866,{"$f":"'General Table'!AY148","v":4680},0.44135287860155265,114.2,595.20000000000005,5.613103276573593E-2]
[{"$f":"'General Table'!A149","v":139},null,{"$f":"'General Table'!C149","v":348},{"$f":"'General Table'!D149","v":"Hungary"},null,{"$f":"'General Table'!F149","v":9783.93},{"$f":"'General Table'!R149","v":483},4.9366665542374073E-2,{"$f":"'General Table'!T149","v":483},4.9366665542374073E-2,676.2,6.9113331759323715E-2,966,9.8733331084748147E-2,{"$f":"'General Table'!AB149","v":513},5.2432918060533955E-2,{"$f":"'General Table'!AE149","v":1753},0.17917135547780902,{"$f":"'General Table'!AJ149","v":2244},0.22935568835835907,{"$f":"'General Table'!AY149","v":4375},0.44716182556498257,96.6,579.6,5.9239998650848891E-2]
[{"$f":"'General Table'!A150","v":140},null,{"$f":"'General Table'!C150","v":616},{"$f":"'General Table'!D150","v":"Poland"},null,{"$f":"'General Table'!F150","v":38265.230000000003},{"$f":"'General Table'!R150","v":2003},5.2345170798659774E-2,{"$f":"'General Table'!T150","v":1790},4.6778759725212678E-2,2719,7.1056674688744839E-2,3793,9.9123930523872444E-2,{"$f":"'General Table'!AB150","v":2024},5.2893971890408079E-2,{"$f":"'General Table'!AE150","v":7357},0.19226331580915623,{"$f":"'General Table'!AJ150","v":8919},0.23308366368110159,{"$f":"'General Table'!AY150","v":16295},0.42584351381136343,400.6,2190.6,5.724779388494463E-2]
[{"$f":"'General Table'!A151","v":141},null,{"$f":"'General Table'!C151","v":498},{"$f":"'General Table'!D151","v":"Republic of Moldova"},null,{"$f":"'General Table'!F151","v":4065.98},{"$f":"'General Table'!R151","v":216},5.3123724169818837E-2,{"$f":"'General Table'!T151","v":201},4.9434576658025864E-2,296.39999999999998,7.2897554833029177E-2,417,0.1025583008278447,{"$f":"'General Table'!AB151","v":243},5.9764189691046195E-2,{"$f":"'General Table'!AE151","v":1001},0.24618911062031787,{"$f":"'General Table'!AJ151","v":929},0.22848120256371157,{"$f":"'General Table'!AY151","v":1498},0.36842286484439174,43.2,244.2,6.0059321491989628E-2]
[{"$f":"'General Table'!A152","v":142},null,{"$f":"'General Table'!C152","v":642},{"$f":"'General Table'!D152","v":"Romania"},null,{"$f":"'General Table'!F152","v":19876.62},{"$f":"'General Table'!R152","v":1049},5.2775572506794419E-2,{"$f":"'General Table'!T152","v":1044},5.2524020683597114E-2,1466.6,7.3785180780233259E-2,2093,0.10529959319039153,{"$f":"'General Table'!AB152","v":1088},5.4737676727733393E-2,{"$f":"'General Table'!AE152","v":3663},0.18428686567434505,{"$f":"'General Table'!AJ152","v":4359},0.21930287946340979,{"$f":"'General Table'!AY152","v":8791},0.44227841554550024,209.8,1253.8,6.3079135184955989E-2]
[{"$f":"'General Table'!A153","v":143},null,{"$f":"'General Table'!C153","v":643},{"$f":"'General Table'!D153","v":"Russian Federation"},null,{"$f":"'General Table'!F153","v":143888},{"$f":"'General Table'!R153","v":7938},5.5167908373179142E-2,{"$f":"'General Table'!T153","v":6927},4.8141610141220953E-2,10708.8,7.4424552429667515E-2,14865,0.10330951851440009,{"$f":"'General Table'!AB153","v":6333},4.4013399310574894E-2,{"$f":"'General Table'!AE153","v":27835},0.19344907150005561,{"$f":"'General Table'!AJ153","v":32552},0.22623151339931058,{"$f":"'General Table'!AY153","v":59281},0.41199405092849994,1587.6,8514.6,5.917519181585678E-2]
[{"$f":"'General Table'!A154","v":144},null,{"$f":"'General Table'!C154","v":703},{"$f":"'General Table'!D154","v":"Slovakia"},null,{"$f":"'General Table'!F154","v":5439.32},{"$f":"'General Table'!R154","v":283},5.2028562393828644E-2,{"$f":"'General Table'!T154","v":263},4.8351632189317782E-2,388.2,7.1369215269555752E-2,546,0.10038019458314643,{"$f":"'General Table'!AB154","v":290},5.3315487965407443E-2,{"$f":"'General Table'!AE154","v":1065},0.1957965333902032,{"$f":"'General Table'!AJ154","v":1308},0.24047123537501011,{"$f":"'General Table'!AY154","v":2234},0.41071310384386284,56.6,319.60000000000002,5.8757344668083515E-2]
[{"$f":"'General Table'!A155","v":145},null,{"$f":"'General Table'!C155","v":804},{"$f":"'General Table'!D155","v":"Ukraine"},null,{"$f":"'General Table'!F155","v":44657.7},{"$f":"'General Table'!R155","v":2369},5.3047962613390301E-2,{"$f":"'General Table'!T155","v":1946},4.3575911880817872E-2,3147.4,7.047832736571745E-2,4315,9.6623874494208173E-2,{"$f":"'General Table'!AB155","v":2113},4.7315468553015494E-2,{"$f":"'General Table'!AE155","v":8408},0.18827660179543507,{"$f":"'General Table'!AJ155","v":10166},0.22764271335066519,{"$f":"'General Table'!AY155","v":19359},0.43349747076092143,473.8,2419.8000000000002,5.4185504403495934E-2]
[{"$f":"'General Table'!A156","v":146},null,{"$f":"'General Table'!C156","v":924},{"$f":"'General Table'!D156","v":"Northern Europe"},null,{"$f":"'General Table'!F156","v":103097.29},{"$f":"'General Table'!R156","v":6185},5.9991877575055565E-2,{"$f":"'General Table'!T156","v":5623},5.4540715861687544E-2,8434.2000000000007,8.1808163919730587E-2,11808,0.1145325934367431,{"$f":"'General Table'!AB156","v":5899},5.7217798838359382E-2,{"$f":"'General Table'!AE156","v":19503},0.18917083077547434,{"$f":"'General Table'!AJ156","v":20320},0.19709538436946308,{"$f":"'General Table'!AY156","v":45218},0.43859542767806992,1237,6860,6.6539091376698653E-2]
[{"$f":"'General Table'!A157","v":147},null,{"$f":"'General Table'!C157","v":830},{"$f":"'General Table'!D157","v":"Channel Islands"},null,{"$f":"'General Table'!F157","v":163.76},{"$f":"'General Table'!R157","v":8},4.8851978505129463E-2,{"$f":"'General Table'!T157","v":8},4.8851978505129463E-2,11.2,6.8392769907181239E-2,16,9.7703957010258927E-2,{"$f":"'General Table'!AB157","v":9},5.4958475818270645E-2,{"$f":"'General Table'!AE157","v":29},0.17708842208109429,{"$f":"'General Table'!AJ157","v":35},0.21372740595994139,{"$f":"'General Table'!AY157","v":76},0.46409379579872989,1.6,9.6,5.8622374206155348E-2]
[{"$f":"'General Table'!A158","v":148},null,{"$f":"'General Table'!C158","v":208},{"$f":"'General Table'!D158","v":"Denmark"},null,{"$f":"'General Table'!F158","v":5688.7},{"$f":"'General Table'!R158","v":333},5.8537099864643942E-2,{"$f":"'General Table'!T158","v":330},5.800973860460211E-2,465,8.1740995306484793E-2,663,0.11654683846924606,{"$f":"'General Table'!AB158","v":360},6.3283351205020474E-2,{"$f":"'General Table'!AE158","v":1095},0.19248685991527062,{"$f":"'General Table'!AJ158","v":1048},0.18422486684128184,{"$f":"'General Table'!AY158","v":2587},0.45476119324274439,66.599999999999994,396.6,6.9717158577530899E-2]
[{"$f":"'General Table'!A159","v":149},null,{"$f":"'General Table'!C159","v":233},{"$f":"'General Table'!D159","v":"Estonia"},null,{"$f":"'General Table'!F159","v":1315.32},{"$f":"'General Table'!R159","v":77},5.8540887388620261E-2,{"$f":"'General Table'!T159","v":64},4.8657360946385675E-2,102.6,7.8003831767174528E-2,141,0.10719824833500594,{"$f":"'General Table'!AB159","v":58},4.4095733357662016E-2,{"$f":"'General Table'!AE159","v":233},0.17714320469543535,{"$f":"'General Table'!AJ159","v":275},0.20907459781650095,{"$f":"'General Table'!AY159","v":594},0.45160113128364204,15.4,79.400000000000006,6.036553842410973E-2]
[{"$f":"'General Table'!A160","v":150},null,{"$f":"'General Table'!C160","v":246},{"$f":"'General Table'!D160","v":"Finland"},null,{"$f":"'General Table'!F160","v":5481.97},{"$f":"'General Table'!R160","v":307},5.6001765788576005E-2,{"$f":"'General Table'!T160","v":292},5.3265523160469681E-2,423.8,7.7307975052763878E-2,599,0.10926728894904568,{"$f":"'General Table'!AB160","v":303},5.5272101087747653E-2,{"$f":"'General Table'!AE160","v":990},0.18059201345501708,{"$f":"'General Table'!AJ160","v":1012},0.18460516930957302,{"$f":"'General Table'!AY160","v":2581},0.47081614820949402,61.4,353.4,6.4465876318184873E-2]
[{"$f":"'General Table'!A161","v":151},null,{"$f":"'General Table'!C161","v":352},{"$f":"'General Table'!D161","v":"Iceland"},null,{"$f":"'General Table'!F161","v":330.24},{"$f":"'General Table'!R161","v":23},6.9646317829457363E-2,{"$f":"'General Table'!T161","v":21},6.3590116279069769E-2,31.4,9.508236434108526E-2,44,0.13323643410852712,{"$f":"'General Table'!AB161","v":22},6.6618217054263559E-2,{"$f":"'General Table'!AE161","v":70},0.21196705426356588,{"$f":"'General Table'!AJ161","v":66},0.19985465116279069,{"$f":"'General Table'!AY161","v":128},0.38759689922480617,4.5999999999999996,25.6,7.7519379844961239E-2]
[{"$f":"'General Table'!A162","v":152},null,{"$f":"'General Table'!C162","v":372},{"$f":"'General Table'!D162","v":"Ireland"},null,{"$f":"'General Table'!F162","v":4700.1099999999997},{"$f":"'General Table'!R162","v":356},7.5742908144702997E-2,{"$f":"'General Table'!T162","v":313},6.6594186093516972E-2,481.2,0.10238058258210979,669,0.14233709423821997,{"$f":"'General Table'!AB162","v":270},5.7445464042330925E-2,{"$f":"'General Table'!AE162","v":819},0.17425124092840383,{"$f":"'General Table'!AJ162","v":1117},0.2376540123529024,{"$f":"'General Table'!AY162","v":1739},0.36999134062819811,71.2,384.2,8.174276772245756E-2]
[{"$f":"'General Table'!A163","v":153},null,{"$f":"'General Table'!C163","v":428},{"$f":"'General Table'!D163","v":"Latvia"},null,{"$f":"'General Table'!F163","v":1992.66},{"$f":"'General Table'!R163","v":107},5.3697068240442423E-2,{"$f":"'General Table'!T163","v":94},4.7173125370108294E-2,144.6,7.2566318388485734E-2,201,0.10087019361055072,{"$f":"'General Table'!AB163","v":87},4.3660233055312997E-2,{"$f":"'General Table'!AE163","v":358},0.1796593498138167,{"$f":"'General Table'!AJ163","v":405},0.20324591249887083,{"$f":"'General Table'!AY163","v":927},0.46520731083074884,21.4,115.4,5.7912539018196783E-2]
[{"$f":"'General Table'!A164","v":154},null,{"$f":"'General Table'!C164","v":440},{"$f":"'General Table'!D164","v":"Lithuania"},null,{"$f":"'General Table'!F164","v":2931.93},{"$f":"'General Table'!R164","v":139},4.7409044554269718E-2,{"$f":"'General Table'!T164","v":138},4.706797229128936E-2,194.2,6.6236233470785458E-2,277,9.4477016845559078E-2,{"$f":"'General Table'!AB164","v":170},5.7982284706660801E-2,{"$f":"'General Table'!AE164","v":573},0.19543440668774495,{"$f":"'General Table'!AJ164","v":560},0.1910004672690003,{"$f":"'General Table'!AY164","v":1371},0.46761007254607034,27.8,165.8,5.6549781202143302E-2]
[{"$f":"'General Table'!A165","v":155},null,{"$f":"'General Table'!C165","v":578},{"$f":"'General Table'!D165","v":"Norway"},null,{"$f":"'General Table'!F165","v":5199.84},{"$f":"'General Table'!R165","v":318},6.1155727868549802E-2,{"$f":"'General Table'!T165","v":307},5.9040278162404994E-2,440.8,8.47718391335118E-2,625,0.12019600603095479,{"$f":"'General Table'!AB165","v":327},6.2886550355395546E-2,{"$f":"'General Table'!AE165","v":1034},0.19885227237761161,{"$f":"'General Table'!AJ165","v":1064},0.20462168066709743,{"$f":"'General Table'!AY165","v":2168},0.41693590572017597,63.6,370.6,7.1271423736114961E-2]
[{"$f":"'General Table'!A166","v":156},null,{"$f":"'General Table'!C166","v":752},{"$f":"'General Table'!D166","v":"Sweden"},null,{"$f":"'General Table'!F166","v":9763.57},{"$f":"'General Table'!R166","v":582},5.96093437134163E-2,{"$f":"'General Table'!T166","v":520},5.3259207441540342E-2,790,8.0913026690032433E-2,1102,0.11286855115495664,{"$f":"'General Table'!AB166","v":506},5.182530570272964E-2,{"$f":"'General Table'!AE166","v":1871},0.19163072523677302,{"$f":"'General Table'!AJ166","v":1859},0.19040166660350671,{"$f":"'General Table'!AY166","v":4343},0.44481680368963405,116.4,636.4,6.5181076184223599E-2]
[{"$f":"'General Table'!A167","v":157},null,{"$f":"'General Table'!C167","v":826},{"$f":"'General Table'!D167","v":"United Kingdom"},null,{"$f":"'General Table'!F167","v":65397.08},{"$f":"'General Table'!R167","v":3928},6.006384382911286E-2,{"$f":"'General Table'!T167","v":3529},5.3962653990055821E-2,5339.6,8.1648905425135199E-2,7457,0.11402649781916868,{"$f":"'General Table'!AB167","v":3780},5.7800745843698216E-2,{"$f":"'General Table'!AE167","v":12409},0.18974853311493417,{"$f":"'General Table'!AJ167","v":12854},0.19655311827378225,{"$f":"'General Table'!AY167","v":28635},0.43786358656992025,785.6,4314.6000000000004,6.5975422755878407E-2]
[{"$f":"'General Table'!A168","v":158},null,{"$f":"'General Table'!C168","v":925},{"$f":"'General Table'!D168","v":"Southern Europe"},null,{"$f":"'General Table'!F168","v":152440.65},{"$f":"'General Table'!R168","v":7657},5.0229384353845254E-2,{"$f":"'General Table'!T168","v":7557},4.9573391349354651E-2,10679.8,7.0058740893587115E-2,15214,9.9802775703199911E-2,{"$f":"'General Table'!AB168","v":7556},4.9566831419309745E-2,{"$f":"'General Table'!AE168","v":23874},0.15661176989208589,{"$f":"'General Table'!AJ168","v":32875},0.2156577002262848,{"$f":"'General Table'!AY168","v":73509},0.48221389767099526,1531.4,9088.4,5.96192682201237E-2]
[{"$f":"'General Table'!A169","v":159},null,{"$f":"'General Table'!C169","v":8},{"$f":"'General Table'!D169","v":"Albania"},null,{"$f":"'General Table'!F169","v":2923.35},{"$f":"'General Table'!R169","v":159},5.4389655703217202E-2,{"$f":"'General Table'!T169","v":196},6.7046368036670259E-2,237.4,8.1208202917885303E-2,355,0.12143602373988746,{"$f":"'General Table'!AB169","v":250},8.5518326577385534E-2,{"$f":"'General Table'!AE169","v":680},0.23260984829048867,{"$f":"'General Table'!AJ169","v":586},0.2004549574973917,{"$f":"'General Table'!AY169","v":1132},0.38722698274240169,31.8,227.8,7.7924299177313708E-2]
[{"$f":"'General Table'!A170","v":160},null,{"$f":"'General Table'!C170","v":70},{"$f":"'General Table'!D170","v":"Bosnia and Herzegovina"},null,{"$f":"'General Table'!F170","v":3535.96},{"$f":"'General Table'!R170","v":173},4.8925892826841934E-2,{"$f":"'General Table'!T170","v":177},5.0057127343069489E-2,243.8,6.8948743764069731E-2,350,9.8983020169911423E-2,{"$f":"'General Table'!AB170","v":233},6.5894410570255316E-2,{"$f":"'General Table'!AE170","v":716},0.2024909784047331,{"$f":"'General Table'!AJ170","v":739},0.20899557687304154,{"$f":"'General Table'!AY170","v":1567},0.44316112173214628,34.6,211.6,5.9842305908437879E-2]
[{"$f":"'General Table'!A171","v":161},null,{"$f":"'General Table'!C171","v":191},{"$f":"'General Table'!D171","v":"Croatia"},null,{"$f":"'General Table'!F171","v":4236.0200000000004},{"$f":"'General Table'!R171","v":217},5.1227331315716162E-2,{"$f":"'General Table'!T171","v":206},4.863055415224668E-2,299.39999999999998,7.0679552976614823E-2,423,9.9857885467962842E-2,{"$f":"'General Table'!AB171","v":241},5.6893026945104126E-2,{"$f":"'General Table'!AE171","v":757},0.17870548297694533,{"$f":"'General Table'!AJ171","v":869},0.20514539591408915,{"$f":"'General Table'!AY171","v":1984},0.46836417202940489,43.4,249.4,5.8876020415389911E-2]
[{"$f":"'General Table'!A172","v":162},null,{"$f":"'General Table'!C172","v":300},{"$f":"'General Table'!D172","v":"Greece"},null,{"$f":"'General Table'!F172","v":11217.8},{"$f":"'General Table'!R172","v":579},5.161439854516929E-2,{"$f":"'General Table'!T172","v":549},4.8940077377025805E-2,798.6,7.1190429495979604E-2,1128,0.10055447592219509,{"$f":"'General Table'!AB172","v":559},4.9831517766406964E-2,{"$f":"'General Table'!AE172","v":1745},0.15555634794701279,{"$f":"'General Table'!AJ172","v":2522},0.2248212662019291,{"$f":"'General Table'!AY172","v":5317},0.47397885503396392,115.8,664.8,5.9262957086059657E-2]
[{"$f":"'General Table'!A173","v":163},null,{"$f":"'General Table'!C173","v":380},{"$f":"'General Table'!D173","v":"Italy"},null,{"$f":"'General Table'!F173","v":59504.21},{"$f":"'General Table'!R173","v":2810},4.7223549392555589E-2,{"$f":"'General Table'!T173","v":2804},4.7122716191005644E-2,3931.6,6.6072635868957841E-2,5614,9.4346265583561226E-2,{"$f":"'General Table'!AB173","v":2788},4.685382765353914E-2,{"$f":"'General Table'!AE173","v":8750},0.14704841892699694,{"$f":"'General Table'!AJ173","v":11955},0.20091015408825696,{"$f":"'General Table'!AY173","v":30630},0.51475349391244751,562,3366,5.6567426069516764E-2]
[{"$f":"'General Table'!A174","v":164},null,{"$f":"'General Table'!C174","v":470},{"$f":"'General Table'!D174","v":"Malta"},null,{"$f":"'General Table'!F174","v":427.62},{"$f":"'General Table'!R174","v":20},4.6770497170384923E-2,{"$f":"'General Table'!T174","v":20},4.6770497170384923E-2,28,6.5478696038538883E-2,40,9.3540994340769845E-2,{"$f":"'General Table'!AB174","v":24},5.6124596604461903E-2,{"$f":"'General Table'!AE174","v":84},0.19643608811561666,{"$f":"'General Table'!AJ174","v":91},0.2128057621252514,{"$f":"'General Table'!AY174","v":193},0.45133529769421449,4,24,5.6124596604461903E-2]
[{"$f":"'General Table'!A175","v":165},null,{"$f":"'General Table'!C175","v":499},{"$f":"'General Table'!D175","v":"Montenegro"},null,{"$f":"'General Table'!F175","v":628.17999999999995},{"$f":"'General Table'!R175","v":39},6.2084116017701939E-2,{"$f":"'General Table'!T175","v":39},6.2084116017701939E-2,54.6,8.6917762424782719E-2,78,0.12416823203540388,{"$f":"'General Table'!AB175","v":42},6.6859817249832851E-2,{"$f":"'General Table'!AE175","v":128},0.20376325257091918,{"$f":"'General Table'!AJ175","v":131},0.2085389538030501,{"$f":"'General Table'!AY175","v":253},0.40275080390970747,7.8,46.8,7.4500939221242318E-2]
[{"$f":"'General Table'!A176","v":166},null,{"$f":"'General Table'!C176","v":620},{"$f":"'General Table'!D176","v":"Portugal"},null,{"$f":"'General Table'!F176","v":10418.469999999999},{"$f":"'General Table'!R176","v":493},4.7319807994839938E-2,{"$f":"'General Table'!T176","v":531},5.0967176562393524E-2,705.4,6.7706678619797345E-2,1024,9.8286984557233462E-2,{"$f":"'General Table'!AB176","v":549},5.2694877462813643E-2,{"$f":"'General Table'!AE176","v":1662},0.15952438313879103,{"$f":"'General Table'!AJ176","v":2260},0.21692244638608166,{"$f":"'General Table'!AY176","v":5030},0.48279641828406672,98.6,629.6,6.043113816136151E-2]
[{"$f":"'General Table'!A177","v":167},null,{"$f":"'General Table'!C177","v":688},{"$f":"'General Table'!D177","v":"Serbia"},null,{"$f":"'General Table'!F177","v":8851.2800000000007},{"$f":"'General Table'!R177","v":483},5.4568378810748275E-2,{"$f":"'General Table'!T177","v":524},5.9200477219114069E-2,692.6,7.8248569698393902E-2,1007,0.11376885602986234,{"$f":"'General Table'!AB177","v":539},6.0895147368516186E-2,{"$f":"'General Table'!AE177","v":1730},0.19545195723104453,{"$f":"'General Table'!AJ177","v":1824},0.20607189016729782,{"$f":"'General Table'!AY177","v":3823},0.43191493207762038,96.6,620.6,7.0114152981263722E-2]
[{"$f":"'General Table'!A178","v":168},null,{"$f":"'General Table'!C178","v":705},{"$f":"'General Table'!D178","v":"Slovenia"},null,{"$f":"'General Table'!F178","v":2074.79},{"$f":"'General Table'!R178","v":105},5.0607531364620033E-2,{"$f":"'General Table'!T178","v":91},4.3859860516004032E-2,141.4,6.815147557102165E-2,196,9.4467391880624071E-2,{"$f":"'General Table'!AB178","v":95},4.5787766472751457E-2,{"$f":"'General Table'!AE178","v":336},0.16194410036678411,{"$f":"'General Table'!AJ178","v":455},0.21929930258002014,{"$f":"'General Table'!AY178","v":978},0.47137300642474661,21,112,5.3981366788928037E-2]
[{"$f":"'General Table'!A179","v":169},null,{"$f":"'General Table'!C179","v":724},{"$f":"'General Table'!D179","v":"Spain"},null,{"$f":"'General Table'!F179","v":46397.66},{"$f":"'General Table'!R179","v":2457},5.2955256795278037E-2,{"$f":"'General Table'!T179","v":2290},4.935593734684033E-2,3373,7.2697631734014168E-2,4747,0.10231119414211837,{"$f":"'General Table'!AB179","v":2096},4.5174691999553422E-2,{"$f":"'General Table'!AE179","v":6810},0.14677464337641163,{"$f":"'General Table'!AJ179","v":10942},0.23583085871140913,{"$f":"'General Table'!AY179","v":21729},0.46832103170720246,491.4,2781.4,5.9946988705895939E-2]
[{"$f":"'General Table'!A180","v":170},null,{"$f":"'General Table'!C180","v":807},{"$f":"'General Table'!D180","v":"TFYR Macedonia"},null,{"$f":"'General Table'!F180","v":2079.31},{"$f":"'General Table'!R180","v":112},5.3864022199672006E-2,{"$f":"'General Table'!T180","v":122},5.8673309896071293E-2,160.80000000000001,7.733334615810053E-2,234,0.11253733209574331,{"$f":"'General Table'!AB180","v":131},6.3001668822830648E-2,{"$f":"'General Table'!AE180","v":448},0.21545608879868802,{"$f":"'General Table'!AJ180","v":468},0.22507466419148661,{"$f":"'General Table'!AY180","v":813},0.39099508971726199,22.4,144.4,6.9446114336005699E-2]
[{"$f":"'General Table'!A181","v":171},null,{"$f":"'General Table'!C181","v":926},{"$f":"'General Table'!D181","v":"Western Europe"},null,{"$f":"'General Table'!F181","v":192032.31},{"$f":"'General Table'!R181","v":9915},5.1631936313217289E-2,{"$f":"'General Table'!T181","v":10098},5.258490094713749E-2,13954.2,7.2665896692072296E-2,20013,0.10421683726035479,{"$f":"'General Table'!AB181","v":10473},5.4537697328121505E-2,{"$f":"'General Table'!AE181","v":33704},0.1755121312658271,{"$f":"'General Table'!AJ181","v":36430},0.18970765909132686,{"$f":"'General Table'!AY181","v":92090},0.47955471659951393,1983,12081,6.2911288209780952E-2]
[{"$f":"'General Table'!A182","v":172},null,{"$f":"'General Table'!C182","v":40},{"$f":"'General Table'!D182","v":"Austria"},null,{"$f":"'General Table'!F182","v":8678.66},{"$f":"'General Table'!R182","v":402},4.6320514918201661E-2,{"$f":"'General Table'!T182","v":416},4.793366717903455E-2,568.4,6.5493981789815484E-2,818,9.4254182097236211E-2,{"$f":"'General Table'!AB182","v":457},5.2657898800045171E-2,{"$f":"'General Table'!AE182","v":1585},0.18263188095858116,{"$f":"'General Table'!AJ182","v":1744},0.20095268163518332,{"$f":"'General Table'!AY182","v":4123},0.47507334081528718,80.400000000000006,496.4,5.7197770162674882E-2]
[{"$f":"'General Table'!A183","v":173},null,{"$f":"'General Table'!C183","v":56},{"$f":"'General Table'!D183","v":"Belgium"},null,{"$f":"'General Table'!F183","v":11287.94},{"$f":"'General Table'!R183","v":653},5.7849350722983993E-2,{"$f":"'General Table'!T183","v":622},5.510305689080558E-2,901.8,7.9890573479306226E-2,1275,0.11295240761378958,{"$f":"'General Table'!AB183","v":631},5.5900368003373509E-2,{"$f":"'General Table'!AE183","v":2042},0.18090103242930064,{"$f":"'General Table'!AJ183","v":2242},0.19861905715303235,{"$f":"'General Table'!AY183","v":5086},0.4505693687244971,130.6,752.6,6.6672927035402382E-2]
[{"$f":"'General Table'!A184","v":174},null,{"$f":"'General Table'!C184","v":250},{"$f":"'General Table'!D184","v":"France"},null,{"$f":"'General Table'!F184","v":64457.2},{"$f":"'General Table'!R184","v":3978},6.1715370819706725E-2,{"$f":"'General Table'!T184","v":3922},6.0846577263672638E-2,5546.8,8.6054001725175785E-2,7900,0.12256194808337936,{"$f":"'General Table'!AB184","v":3801},5.8969362615813287E-2,{"$f":"'General Table'!AE184","v":11421},0.17718734291902224,{"$f":"'General Table'!AJ184","v":12356},0.19169309247066271,{"$f":"'General Table'!AY184","v":28908},0.44848364496130766,795.6,4717.6000000000004,7.3189651427613994E-2]
[{"$f":"'General Table'!A185","v":175},null,{"$f":"'General Table'!C185","v":276},{"$f":"'General Table'!D185","v":"Germany"},null,{"$f":"'General Table'!F185","v":81707.789999999994},{"$f":"'General Table'!R185","v":3508},4.2933482841721701E-2,{"$f":"'General Table'!T185","v":3693},4.5197648841071338E-2,4985.2,6.1012542378150236E-2,7201,8.8131131682793046E-2,{"$f":"'General Table'!AB185","v":4102},5.0203291509903769E-2,{"$f":"'General Table'!AE185","v":13886},0.16994707603767034,{"$f":"'General Table'!AJ185","v":15031},0.18396042776337485,{"$f":"'General Table'!AY185","v":42071},0.51489582572236992,701.6,4394.6000000000004,5.3784345409415686E-2]
[{"$f":"'General Table'!A186","v":176},null,{"$f":"'General Table'!C186","v":442},{"$f":"'General Table'!D186","v":"Luxembourg"},null,{"$f":"'General Table'!F186","v":566.74},{"$f":"'General Table'!R186","v":30},5.2934326146028159E-2,{"$f":"'General Table'!T186","v":31},5.4698803684229101E-2,42.4,7.4813847619719792E-2,61,0.10763312983025726,{"$f":"'General Table'!AB186","v":34},5.9992236298831915E-2,{"$f":"'General Table'!AE186","v":110},0.19409252920210326,{"$f":"'General Table'!AJ186","v":131},0.23114655750432297,{"$f":"'General Table'!AY186","v":232},0.40935878886261778,6,37,6.5285668913434736E-2]
[{"$f":"'General Table'!A187","v":177},null,{"$f":"'General Table'!C187","v":528},{"$f":"'General Table'!D187","v":"Netherlands"},null,{"$f":"'General Table'!F187","v":16938.5},{"$f":"'General Table'!R187","v":936},5.5258730111875314E-2,{"$f":"'General Table'!T187","v":1011},5.9686512973403785E-2,1340.4,7.9133335301236826E-2,1947,0.11494524308527909,{"$f":"'General Table'!AB187","v":1010},5.9627475868583406E-2,{"$f":"'General Table'!AE187","v":3139},0.1853174720311716,{"$f":"'General Table'!AJ187","v":3166},0.18691147386132184,{"$f":"'General Table'!AY187","v":7796},0.4602532691796794,187.2,1198.2,7.0738258995778847E-2]
[{"$f":"'General Table'!A188","v":178},null,{"$f":"'General Table'!C188","v":756},{"$f":"'General Table'!D188","v":"Switzerland"},null,{"$f":"'General Table'!F188","v":8319.77},{"$f":"'General Table'!R188","v":405},4.867923031526112E-2,{"$f":"'General Table'!T188","v":398},4.7837860902404751E-2,564.20000000000005,6.7814374676223019E-2,803,9.6517091217665871E-2,{"$f":"'General Table'!AB188","v":435},5.2285099227502678E-2,{"$f":"'General Table'!AE188","v":1510},0.18149540191615873,{"$f":"'General Table'!AJ188","v":1747},0.20998176632286708,{"$f":"'General Table'!AY188","v":3832},0.46058965572365579,81,479,5.7573706965456974E-2]
[{"$f":"'General Table'!A189","v":179},null,{"$f":"'General Table'!C189","v":904},{"$f":"'General Table'!D189","v":"LATIN AMERICA AND THE CARIBBEAN"},null,{"$f":"'General Table'!F189","v":632380.82999999996},{"$f":"'General Table'!R189","v":53466},8.4547154916128631E-2,{"$f":"'General Table'!T189","v":54876},8.6776824022322119E-2,75416.399999999994,0.11925788452505746,108342,0.17132397893845075,{"$f":"'General Table'!AB189","v":55744},8.8149414649397267E-2,{"$f":"'General Table'!AE189","v":163380},0.25835697770914406,{"$f":"'General Table'!AJ189","v":138316},0.21872263268954564,{"$f":"'General Table'!AY189","v":168896},0.26707956975862157,10693.2,65569.2,0.10368625500554784]
[{"$f":"'General Table'!A190","v":180},null,{"$f":"'General Table'!C190","v":915},{"$f":"'General Table'!D190","v":"Caribbean"},null,{"$f":"'General Table'!F190","v":43309.61},{"$f":"'General Table'!R190","v":3609},8.3330235483533563E-2,{"$f":"'General Table'!T190","v":3606},8.3260966792358559E-2,5051.3999999999996,0.11663462220047698,7215,0.16659120227589211,{"$f":"'General Table'!AB190","v":3634},8.3907474576658619E-2,{"$f":"'General Table'!AE190","v":10663},0.24620401799970029,{"$f":"'General Table'!AJ190","v":8713},0.20117936873594566,{"$f":"'General Table'!AY190","v":13109},0.3026810908710561,721.8,4327.8,9.9927013889065275E-2]
[{"$f":"'General Table'!A191","v":181},null,{"$f":"'General Table'!C191","v":28},{"$f":"'General Table'!D191","v":"Antigua and Barbuda"},null,{"$f":"'General Table'!F191","v":99.92},{"$f":"'General Table'!R191","v":8},8.0064051240992792E-2,{"$f":"'General Table'!T191","v":8},8.0064051240992792E-2,11.2,0.1120896717373899,16,0.16012810248198558,{"$f":"'General Table'!AB191","v":9},9.0072057646116893E-2,{"$f":"'General Table'!AE191","v":25},0.25020016012810248,{"$f":"'General Table'!AJ191","v":21},0.21016813450760607,{"$f":"'General Table'!AY191","v":30},0.300240192153723,1.6,9.6,9.6076861489191354E-2]
[{"$f":"'General Table'!A192","v":182},null,{"$f":"'General Table'!C192","v":533},{"$f":"'General Table'!D192","v":"Aruba"},null,{"$f":"'General Table'!F192","v":104.34},{"$f":"'General Table'!R192","v":7},6.7088364960705388E-2,{"$f":"'General Table'!T192","v":7},6.7088364960705388E-2,9.8000000000000007,9.392371094498754E-2,14,0.13417672992141078,{"$f":"'General Table'!AB192","v":8},7.6672417097949017E-2,{"$f":"'General Table'!AE192","v":20},0.19168104274487252,{"$f":"'General Table'!AJ192","v":21},0.20126509488211616,{"$f":"'General Table'!AY192","v":44},0.42169829403871956,1.4,8.4,8.0506037952846471E-2]
[{"$f":"'General Table'!A193","v":183},null,{"$f":"'General Table'!C193","v":44},{"$f":"'General Table'!D193","v":"Bahamas"},null,{"$f":"'General Table'!F193","v":386.84},{"$f":"'General Table'!R193","v":27},6.9796298211146732E-2,{"$f":"'General Table'!T193","v":25},6.4626202047358083E-2,37,9.564677903008996E-2,52,0.13442250025850483,{"$f":"'General Table'!AB193","v":31},8.0136490538724028E-2,{"$f":"'General Table'!AE193","v":98},0.25333471202564367,{"$f":"'General Table'!AJ193","v":88},0.22748423120670047,{"$f":"'General Table'!AY193","v":122},0.31537586599110745,5.4,30.4,7.8585461689587424E-2]
[{"$f":"'General Table'!A194","v":184},null,{"$f":"'General Table'!C194","v":52},{"$f":"'General Table'!D194","v":"Barbados"},null,{"$f":"'General Table'!F194","v":284.22000000000003},{"$f":"'General Table'!R194","v":19},6.6849623531067479E-2,{"$f":"'General Table'!T194","v":19},6.6849623531067479E-2,26.6,9.358947294349447E-2,38,0.13369924706213496,{"$f":"'General Table'!AB194","v":18},6.3331222292590236E-2,{"$f":"'General Table'!AE194","v":54},0.18999366687777072,{"$f":"'General Table'!AJ194","v":58},0.20406727183167966,{"$f":"'General Table'!AY194","v":117},0.41165294490183657,3.8,22.8,8.0219548237280974E-2]
[{"$f":"'General Table'!A195","v":185},null,{"$f":"'General Table'!C195","v":192},{"$f":"'General Table'!D195","v":"Cuba"},null,{"$f":"'General Table'!F195","v":11461.43},{"$f":"'General Table'!R195","v":602},5.2523986971957252E-2,{"$f":"'General Table'!T195","v":636},5.5490457996951514E-2,856.4,7.4720170170737857E-2,1238,0.10801444496890876,{"$f":"'General Table'!AB195","v":700},6.1074403455764245E-2,{"$f":"'General Table'!AE195","v":2269},0.1979683163444701,{"$f":"'General Table'!AJ195","v":2376},0.20730397515842264,{"$f":"'General Table'!AY195","v":4950},0.43188328158004713,120.4,756.4,6.5995255391342961E-2]
[{"$f":"'General Table'!A196","v":186},null,{"$f":"'General Table'!C196","v":531},{"$f":"'General Table'!D196","v":"Curaçao"},null,{"$f":"'General Table'!F196","v":158.01},{"$f":"'General Table'!R196","v":10},6.3287133725713568E-2,{"$f":"'General Table'!T196","v":10},6.3287133725713568E-2,14,8.860198721599899E-2,20,0.12657426745142714,{"$f":"'General Table'!AB196","v":11},6.9615847098284916E-2,{"$f":"'General Table'!AE196","v":29},0.18353268780456933,{"$f":"'General Table'!AJ196","v":29},0.18353268780456933,{"$f":"'General Table'!AY196","v":73},0.46199607619770905,2,12,7.5944560470856279E-2]
[{"$f":"'General Table'!A197","v":187},null,{"$f":"'General Table'!C197","v":214},{"$f":"'General Table'!D197","v":"Dominican Republic"},null,{"$f":"'General Table'!F197","v":10528.39},{"$f":"'General Table'!R197","v":1059},0.10058517969034203,{"$f":"'General Table'!T197","v":1033},9.8115666307954028E-2,1472.2,0.13983144621352364,2092,0.19870084599829604,{"$f":"'General Table'!AB197","v":975},9.2606751839550028E-2,{"$f":"'General Table'!AE197","v":2783},0.26433291319945407,{"$f":"'General Table'!AJ197","v":2097},0.19917575241798605,{"$f":"'General Table'!AY197","v":2493},0.23678834085743405,211.8,1244.8,0.11823270224602242]
[{"$f":"'General Table'!A198","v":188},null,{"$f":"'General Table'!C198","v":308},{"$f":"'General Table'!D198","v":"Grenada"},null,{"$f":"'General Table'!F198","v":106.82},{"$f":"'General Table'!R198","v":9},8.4253885040254634E-2,{"$f":"'General Table'!T198","v":9},8.4253885040254634E-2,12.6,0.1179554390563565,18,0.16850777008050927,{"$f":"'General Table'!AB198","v":10},9.3615427822505148E-2,{"$f":"'General Table'!AE198","v":31},0.29020782624976599,{"$f":"'General Table'!AJ198","v":22},0.20595394120951135,{"$f":"'General Table'!AY198","v":26},0.24340011233851341,1.8,10.8,0.10110466204830558]
[{"$f":"'General Table'!A199","v":189},null,{"$f":"'General Table'!C199","v":312},{"$f":"'General Table'!D199","v":"Guadeloupe"},null,{"$f":"'General Table'!F199","v":450.42},{"$f":"'General Table'!R199","v":29},6.4384352382221038E-2,{"$f":"'General Table'!T199","v":32},7.1044802628657699E-2,41.8,9.2802273433684107E-2,61,0.13542915501087874,{"$f":"'General Table'!AB199","v":34},7.5485102792948802E-2,{"$f":"'General Table'!AE199","v":83},0.18427245681808088,{"$f":"'General Table'!AJ199","v":77},0.17095155632520759,{"$f":"'General Table'!AY199","v":202},0.4484703165934017,5.8,37.799999999999997,8.3921673105101902E-2]
[{"$f":"'General Table'!A200","v":190},null,{"$f":"'General Table'!C200","v":332},{"$f":"'General Table'!D200","v":"Haiti"},null,{"$f":"'General Table'!F200","v":10711.06},{"$f":"'General Table'!R200","v":1212},0.11315406691774671,{"$f":"'General Table'!T200","v":1164},0.10867271773288545,1677.6,0.15662315401090088,2376,0.22182678465063216,{"$f":"'General Table'!AB200","v":1121},0.10465817575478058,{"$f":"'General Table'!AE200","v":3129},0.29212794998814312,{"$f":"'General Table'!AJ200","v":2038},0.19027061747390081,{"$f":"'General Table'!AY200","v":1931},0.18028094324931426,242.4,1406.4,0.13130353111643481]
[{"$f":"'General Table'!A201","v":191},null,{"$f":"'General Table'!C201","v":388},{"$f":"'General Table'!D201","v":"Jamaica"},null,{"$f":"'General Table'!F201","v":2871.93},{"$f":"'General Table'!R201","v":224},7.799632999411546E-2,{"$f":"'General Table'!T201","v":243},8.4612090127544892E-2,321.2,0.11184116604513342,467,0.16260842012166035,{"$f":"'General Table'!AB201","v":277},9.6450818787365999E-2,{"$f":"'General Table'!AE201","v":793},0.27612093609523913,{"$f":"'General Table'!AJ201","v":577},0.20091018931519919,{"$f":"'General Table'!AY201","v":829},0.28865606055857906,44.8,287.8,0.10021135612636799]
[{"$f":"'General Table'!A202","v":192},null,{"$f":"'General Table'!C202","v":474},{"$f":"'General Table'!D202","v":"Martinique"},null,{"$f":"'General Table'!F202","v":385.84},{"$f":"'General Table'!R202","v":26},6.7385444743935319E-2,{"$f":"'General Table'!T202","v":25},6.4793696869168568E-2,36,9.3302923491602741E-2,51,0.13217914161310387,{"$f":"'General Table'!AB202","v":24},6.2201948994401832E-2,{"$f":"'General Table'!AE202","v":63},0.1632801161103048,{"$f":"'General Table'!AJ202","v":66},0.17105535973460503,{"$f":"'General Table'!AY202","v":186},0.48206510470661418,5.2,30.2,7.8270785817955629E-2]
[{"$f":"'General Table'!A203","v":193},null,{"$f":"'General Table'!C203","v":630},{"$f":"'General Table'!D203","v":"Puerto Rico"},null,{"$f":"'General Table'!F203","v":3673.73},{"$f":"'General Table'!R203","v":231},{"$f":"G203/F203","v":6.2878872426661736E-2},{"$f":"'General Table'!T203","v":251},{"$f":"I203/F203","v":6.8322930645420318E-2},{"$f":"G203+I203/5*2","v":331.4},{"$f":"K203/F203","v":9.0208044684829847E-2},{"$f":"G203+I203","v":482},{"$f":"M203/F203","v":0.13120180307208204},{"$f":"'General Table'!AB203","v":275},{"$f":"O203/F203","v":7.4855800507930628E-2},{"$f":"'General Table'!AE203","v":819},{"$f":"Q203/F203","v":0.22293418405816431},{"$f":"'General Table'!AJ203","v":766},{"$f":"S203/F203","v":0.20850742977845405},{"$f":"'General Table'!AY203","v":1402},{"$f":"U203/F203","v":0.38162848113497727},{"$f":"G203/5","v":46.2},{"$f":"W203+I203","v":297.2},8.089870513075266E-2]
[{"$f":"'General Table'!A204","v":194},null,{"$f":"'General Table'!C204","v":662},{"$f":"'General Table'!D204","v":"Saint Lucia"},null,{"$f":"'General Table'!F204","v":177.21},{"$f":"'General Table'!R204","v":11},6.2073246430788327E-2,{"$f":"'General Table'!T204","v":13},7.3359291236386209E-2,16.2,9.1416962925342807E-2,24,0.13543253766717453,{"$f":"'General Table'!AB204","v":16},9.0288358444783015E-2,{"$f":"'General Table'!AE204","v":46},0.2595790305287512,{"$f":"'General Table'!AJ204","v":40},0.22572089611195756,{"$f":"'General Table'!AY204","v":56},0.31600925455674056,2.2000000000000002,15.2,{"$f":"X204/F204","v":8.5773940522543862E-2}]
[{"$f":"'General Table'!A205","v":195},null,{"$f":"'General Table'!C205","v":670},{"$f":"'General Table'!D205","v":"Saint Vincent and the Grenadines"},null,{"$f":"'General Table'!F205","v":109.46},{"$f":"'General Table'!R205","v":9},8.222181618856203E-2,{"$f":"'General Table'!T205","v":9},8.222181618856203E-2,12.6,0.11511054266398685,18,0.16444363237712406,{"$f":"'General Table'!AB205","v":10},9.135757354284671E-2,{"$f":"'General Table'!AE205","v":29},0.26493696327425548,{"$f":"'General Table'!AJ205","v":23},0.21012241914854743,{"$f":"'General Table'!AY205","v":32},0.29234423533710946,1.8,10.8,9.8666179426274453E-2]
[{"$f":"'General Table'!A206","v":196},null,{"$f":"'General Table'!C206","v":780},{"$f":"'General Table'!D206","v":"Trinidad and Tobago"},null,{"$f":"'General Table'!F206","v":1360.09},{"$f":"'General Table'!R206","v":96},7.0583564322949224E-2,{"$f":"'General Table'!T206","v":90},6.6172091552764892E-2,132,9.7052400944055178E-2,186,0.13675565587571412,{"$f":"'General Table'!AB206","v":86},6.3231109705975341E-2,{"$f":"'General Table'!AE206","v":299},0.21983839304751893,{"$f":"'General Table'!AJ206","v":322},0.23674903866655886,{"$f":"'General Table'!AY206","v":456},0.33527193053400878,19.2,109.2,8.0288804417354739E-2]
[{"$f":"'General Table'!A207","v":197},null,{"$f":"'General Table'!C207","v":850},{"$f":"'General Table'!D207","v":"United States Virgin Islands"},null,{"$f":"'General Table'!F207","v":104.98},{"$f":"'General Table'!R207","v":7},6.667936749857116E-2,{"$f":"'General Table'!T207","v":7},6.667936749857116E-2,9.8000000000000007,9.3351114497999627E-2,14,0.13335873499714232,{"$f":"'General Table'!AB207","v":7},6.667936749857116E-2,{"$f":"'General Table'!AE207","v":19},0.18098685463897884,{"$f":"'General Table'!AJ207","v":17},0.16193560678224422,{"$f":"'General Table'!AY207","v":48},0.45722994856163079,1.4,8.4,8.0015240998285386E-2]
[{"$f":"'General Table'!A208","v":198},null,{"$f":"'General Table'!C208","v":916},{"$f":"'General Table'!D208","v":"Central America"},null,{"$f":"'General Table'!F208","v":172635.11},{"$f":"'General Table'!R208","v":16296},9.4395630182064358E-2,{"$f":"'General Table'!T208","v":16600},9.6156569773089617E-2,22936,0.1328582580913002,32896,0.19055219995515399,{"$f":"'General Table'!AB208","v":16622},9.6284006190861179E-2,{"$f":"'General Table'!AE208","v":46978},0.27212309245784361,{"$f":"'General Table'!AJ208","v":37325},0.2162074678783476,{"$f":"'General Table'!AY208","v":38995},0.22588105050009818,3259.2,19859.2,0.1150356958095025]
[{"$f":"'General Table'!A209","v":199},null,{"$f":"'General Table'!C209","v":84},{"$f":"'General Table'!D209","v":"Belize"},null,{"$f":"'General Table'!F209","v":359.29},{"$f":"'General Table'!R209","v":38},0.10576414595452141,{"$f":"'General Table'!T209","v":39},0.10854741295332461,53.6,0.14918311113585125,77,0.21431155890784601,{"$f":"'General Table'!AB209","v":38},0.10576414595452141,{"$f":"'General Table'!AE209","v":106},0.29502630187313866,{"$f":"'General Table'!AJ209","v":72},0.20039522391383005,{"$f":"'General Table'!AY209","v":64},0.17812908792340448,7.6,46.6,0.1297002421442289]
[{"$f":"'General Table'!A210","v":200},null,{"$f":"'General Table'!C210","v":188},{"$f":"'General Table'!D210","v":"Costa Rica"},null,{"$f":"'General Table'!F210","v":4807.8500000000004},{"$f":"'General Table'!R210","v":360},7.4877544016556247E-2,{"$f":"'General Table'!T210","v":362},7.5293530372203779E-2,504.8,0.10499495616543777,722,0.15017107438876004,{"$f":"'General Table'!AB210","v":397},8.2573291596035645E-2,{"$f":"'General Table'!AE210","v":1224},0.25458364965629127,{"$f":"'General Table'!AJ210","v":1041},0.21652089811454184,{"$f":"'General Table'!AY210","v":1469},0.30554197822311424,72,434,9.0269039175515042E-2]
[{"$f":"'General Table'!A211","v":201},null,{"$f":"'General Table'!C211","v":222},{"$f":"'General Table'!D211","v":"El Salvador"},null,{"$f":"'General Table'!F211","v":6312.48},{"$f":"'General Table'!R211","v":590},9.3465642663422305E-2,{"$f":"'General Table'!T211","v":617},9.7742883937850106E-2,836.8,0.13256279623856235,1207,0.19120852660127241,{"$f":"'General Table'!AB211","v":673},0.10661419917370037,{"$f":"'General Table'!AE211","v":1796},0.28451575292119741,{"$f":"'General Table'!AJ211","v":1187},0.18804019973132591,{"$f":"'General Table'!AY211","v":1542},0.24427800167287661,118,735,0.11643601247053458]
[{"$f":"'General Table'!A212","v":202},null,{"$f":"'General Table'!C212","v":320},{"$f":"'General Table'!D212","v":"Guatemala"},null,{"$f":"'General Table'!F212","v":16252.43},{"$f":"'General Table'!R212","v":1934},0.11899758989886436,{"$f":"'General Table'!T212","v":1960},0.12059735067309935,2718,0.16723653016810408,3894,0.2395949405719637,{"$f":"'General Table'!AB212","v":1827},0.1124139590202819,{"$f":"'General Table'!AE212","v":4846},0.29817079661318335,{"$f":"'General Table'!AJ212","v":2940},0.18089602600964902,{"$f":"'General Table'!AY212","v":2578},0.15862243369145412,386.8,2346.8000000000002,0.14439686865287221]
[{"$f":"'General Table'!A213","v":203},null,{"$f":"'General Table'!C213","v":340},{"$f":"'General Table'!D213","v":"Honduras"},null,{"$f":"'General Table'!F213","v":8960.83},{"$f":"'General Table'!R213","v":989},0.11036924034938728,{"$f":"'General Table'!T213","v":1012},0.11293596686914047,1393.8,0.15554362709704347,2001,0.22330520721852776,{"$f":"'General Table'!AB213","v":977},0.10903007868690735,{"$f":"'General Table'!AE213","v":2686},0.29974901878509025,{"$f":"'General Table'!AJ213","v":1773},0.19786113563140914,{"$f":"'General Table'!AY213","v":1545},0.17241706404429055,197.8,1209.8,0.13500981493901792]
[{"$f":"'General Table'!A214","v":204},null,{"$f":"'General Table'!C214","v":484},{"$f":"'General Table'!D214","v":"Mexico"},null,{"$f":"'General Table'!F214","v":125890.95},{"$f":"'General Table'!R214","v":11399},9.0546619911915829E-2,{"$f":"'General Table'!T214","v":11653},9.2564239129182838E-2,16060.2,0.12757231556358897,23052,0.18311085904109867,{"$f":"'General Table'!AB214","v":11762},9.3430067848403714E-2,{"$f":"'General Table'!AE214","v":33583},0.26676262273022805,{"$f":"'General Table'!AJ214","v":28173},0.22378892207898979,{"$f":"'General Table'!AY214","v":29548},0.23471107335356514,2279.8000000000002,13932.8,0.110673563111566]
[{"$f":"'General Table'!A215","v":205},null,{"$f":"'General Table'!C215","v":558},{"$f":"'General Table'!D215","v":"Nicaragua"},null,{"$f":"'General Table'!F215","v":6082.04},{"$f":"'General Table'!R215","v":617},0.10144622527967589,{"$f":"'General Table'!T215","v":604},9.9308784552551446E-2,858.6,0.1411697391006965,1221,0.20075500983222735,{"$f":"'General Table'!AB215","v":603},9.9144366035080339E-2,{"$f":"'General Table'!AE215","v":1758},0.28904775371421432,{"$f":"'General Table'!AJ215","v":1291},0.21226430605520516,{"$f":"'General Table'!AY215","v":1204},0.19795989503521844,123.4,727.4,0.11959802960848662]
[{"$f":"'General Table'!A216","v":206},null,{"$f":"'General Table'!C216","v":591},{"$f":"'General Table'!D216","v":"Panama"},null,{"$f":"'General Table'!F216","v":3969.25},{"$f":"'General Table'!R216","v":368},9.2712729104994646E-2,{"$f":"'General Table'!T216","v":352},8.868174088303836E-2,508.8,0.12818542545820999,720,0.18139446998803299,{"$f":"'General Table'!AB216","v":343},8.6414310008187945E-2,{"$f":"'General Table'!AE216","v":977},0.2461422183032059,{"$f":"'General Table'!AJ216","v":848},0.21364237576368331,{"$f":"'General Table'!AY216","v":1038},0.26151036089941426,73.599999999999994,425.6,0.10722428670403729]
[{"$f":"'General Table'!A217","v":207},null,{"$f":"'General Table'!C217","v":931},{"$f":"'General Table'!D217","v":"South America"},null,{"$f":"'General Table'!F217","v":416436.11},{"$f":"'General Table'!R217","v":33562},8.0593395226941297E-2,{"$f":"'General Table'!T217","v":34670},8.3254067472679064E-2,47430,0.11389502221601293,68232,0.16384746269962036,{"$f":"'General Table'!AB217","v":35489},8.5220755712082708E-2,{"$f":"'General Table'!AE217","v":105741},0.25391890246981702,{"$f":"'General Table'!AJ217","v":92278},0.22158981362110985,{"$f":"'General Table'!AY217","v":116795},0.28046319037991208,6712.4,41382.400000000001,9.9372746518067323E-2]
[{"$f":"'General Table'!A218","v":208},null,{"$f":"'General Table'!C218","v":32},{"$f":"'General Table'!D218","v":"Argentina"},null,{"$f":"'General Table'!F218","v":43417.77},{"$f":"'General Table'!R218","v":3639},8.3813609036115858E-2,{"$f":"'General Table'!T218","v":3582},8.2500782513703491E-2,5071.8,0.11681392204159727,7221,0.16631439154981936,{"$f":"'General Table'!AB218","v":3438},7.918416814129331E-2,{"$f":"'General Table'!AE218","v":10231},0.23564084475089347,{"$f":"'General Table'!AJ218","v":9104},0.20968373087793318,{"$f":"'General Table'!AY218","v":13143},0.30271015761518844,727.8,4309.8,9.9263504320926677E-2]
[{"$f":"'General Table'!A219","v":209},null,{"$f":"'General Table'!C219","v":68},{"$f":"'General Table'!D219","v":"Bolivia (Plurinational State of)"},null,{"$f":"'General Table'!F219","v":10724.71},{"$f":"'General Table'!R219","v":1160},0.10816143280331124,{"$f":"'General Table'!T219","v":1134},0.10573712482668531,1613.6,0.15045628273398534,2294,0.21389855762999654,{"$f":"'General Table'!AB219","v":1082},0.10088850887343341,{"$f":"'General Table'!AE219","v":2957},0.27571841103395806,{"$f":"'General Table'!AJ219","v":2077},0.19366491028661847,{"$f":"'General Table'!AY219","v":2210},0.20606617801320504,232,1366,0.12736941138734756]
[{"$f":"'General Table'!A220","v":210},null,{"$f":"'General Table'!C220","v":76},{"$f":"'General Table'!D220","v":"Brazil"},null,{"$f":"'General Table'!F220","v":205962.11},{"$f":"'General Table'!R220","v":15132},7.3469824134157494E-2,{"$f":"'General Table'!T220","v":16355},7.9407809523800277E-2,21674,0.10523294794367762,31487,0.15287763365795778,{"$f":"'General Table'!AB220","v":17405},8.4505834592585996E-2,{"$f":"'General Table'!AE220","v":52106},0.2529882802229983,{"$f":"'General Table'!AJ220","v":47925},0.23268842992529065,{"$f":"'General Table'!AY220","v":59569},0.28922310030713905,3026.4,19381.400000000001,9.4101774350631787E-2]
[{"$f":"'General Table'!A221","v":211},null,{"$f":"'General Table'!C221","v":152},{"$f":"'General Table'!D221","v":"Chile"},null,{"$f":"'General Table'!F221","v":17762.68},{"$f":"'General Table'!R221","v":1244},7.0034476779404914E-2,{"$f":"'General Table'!T221","v":1260},7.093524175405963E-2,1748,9.8408573481028758E-2,2504,0.14096971853346454,{"$f":"'General Table'!AB221","v":1331},7.4932386329089981E-2,{"$f":"'General Table'!AE221","v":4188},0.23577523211587439,{"$f":"'General Table'!AJ221","v":3794},0.21359389461500178,{"$f":"'General Table'!AY221","v":6081},0.3423469881797116,248.8,1508.8,8.4942137109940613E-2]
[{"$f":"'General Table'!A222","v":212},null,{"$f":"'General Table'!C222","v":170},{"$f":"'General Table'!D222","v":"Colombia"},null,{"$f":"'General Table'!F222","v":48228.7},{"$f":"'General Table'!R222","v":3905},8.0968386043994561E-2,{"$f":"'General Table'!T222","v":4070},8.4389585454304181E-2,5533,0.11472422022571623,7975,0.16535797149829873,{"$f":"'General Table'!AB222","v":4070},8.4389585454304181E-2,{"$f":"'General Table'!AE222","v":12362},0.25632040672877354,{"$f":"'General Table'!AJ222","v":10640},0.22061552561026943,{"$f":"'General Table'!AY222","v":13512},0.28016512989153763,781,4851,0.10058326266310309]
[{"$f":"'General Table'!A223","v":213},null,{"$f":"'General Table'!C223","v":218},{"$f":"'General Table'!D223","v":"Ecuador"},null,{"$f":"'General Table'!F223","v":16144.37},{"$f":"'General Table'!R223","v":1568},9.7123641244594855E-2,{"$f":"'General Table'!T223","v":1507},9.3345234282910999E-2,2170.8000000000002,0.13446173495775926,3075,0.19046887552750585,{"$f":"'General Table'!AB223","v":1499},9.284970550105083E-2,{"$f":"'General Table'!AE223","v":4297},0.26616089695664802,{"$f":"'General Table'!AJ223","v":3310},0.2050250334946486,{"$f":"'General Table'!AY223","v":3852},0.23859710846567564,313.60000000000002,1820.6,0.11276996253182997]
[{"$f":"'General Table'!A224","v":214},null,{"$f":"'General Table'!C224","v":254},{"$f":"'General Table'!D224","v":"French Guiana"},null,{"$f":"'General Table'!F224","v":268.69},{"$f":"'General Table'!R224","v":31},0.11537459525847631,{"$f":"'General Table'!T224","v":28},0.1042093118463657,42.2,0.15705831999702261,59,0.21958390710484202,{"$f":"'General Table'!AB224","v":24},8.9322267296884889E-2,{"$f":"'General Table'!AE224","v":63},0.23447095165432283,{"$f":"'General Table'!AJ224","v":55},0.20469686255536121,{"$f":"'General Table'!AY224","v":60},0.22330566824221221,6.2,34.200000000000003,0.12728423089806098]
[{"$f":"'General Table'!A225","v":215},null,{"$f":"'General Table'!C225","v":328},{"$f":"'General Table'!D225","v":"Guyana"},null,{"$f":"'General Table'!F225","v":768.51},{"$f":"'General Table'!R225","v":73},9.4989004697401472E-2,{"$f":"'General Table'!T225","v":81},0.10539875863684273,105.4,0.13714850815213855,154,0.20038776333424418,{"$f":"'General Table'!AB225","v":84},0.1093024163641332,{"$f":"'General Table'!AE225","v":209},0.2719548216679028,{"$f":"'General Table'!AJ225","v":152},0.19778532484938388,{"$f":"'General Table'!AY225","v":179},0.23291824439499811,14.6,95.6,0.12439655957632301]
[{"$f":"'General Table'!A226","v":216},null,{"$f":"'General Table'!C226","v":600},{"$f":"'General Table'!D226","v":"Paraguay"},null,{"$f":"'General Table'!F226","v":6639.12},{"$f":"'General Table'!R226","v":670},0.10091698899854197,{"$f":"'General Table'!T226","v":657},9.8958898167226986E-2,932.8,0.14050054826543276,1327,0.19987588716576896,{"$f":"'General Table'!AB226","v":685},0.1031763245731362,{"$f":"'General Table'!AE226","v":1942},0.2925086457241321,{"$f":"'General Table'!AJ226","v":1287},0.19385099230018438,{"$f":"'General Table'!AY226","v":1409},0.21222692164021739,134,791,0.11914229596693537]
[{"$f":"'General Table'!A227","v":217},null,{"$f":"'General Table'!C227","v":604},{"$f":"'General Table'!D227","v":"Peru"},null,{"$f":"'General Table'!F227","v":31376.67},{"$f":"'General Table'!R227","v":2904},9.2552842605668484E-2,{"$f":"'General Table'!T227","v":2829},9.0162531587960101E-2,4035.6,0.12861785524085254,5733,0.1827153741936286,{"$f":"'General Table'!AB227","v":2777},8.8505249282348958E-2,{"$f":"'General Table'!AE227","v":8298},0.26446401099925521,{"$f":"'General Table'!AJ227","v":6692},0.21327948440672642,{"$f":"'General Table'!AY227","v":7633},0.24326991997557423,580.79999999999995,3409.8,0.10867310010909381]
[{"$f":"'General Table'!A228","v":218},null,{"$f":"'General Table'!C228","v":740},{"$f":"'General Table'!D228","v":"Suriname"},null,{"$f":"'General Table'!F228","v":553.21},{"$f":"'General Table'!R228","v":49},8.8573959255978732E-2,{"$f":"'General Table'!T228","v":49},8.8573959255978732E-2,68.599999999999994,0.12400354295837022,98,0.17714791851195746,{"$f":"'General Table'!AB228","v":50},9.0381591077529327E-2,{"$f":"'General Table'!AE228","v":142},0.2566837186601833,{"$f":"'General Table'!AJ228","v":115},0.20787765947831743,{"$f":"'General Table'!AY228","v":148},0.26752950958948679,9.8000000000000007,58.8,0.10628875110717448]
[{"$f":"'General Table'!A229","v":219},null,{"$f":"'General Table'!C229","v":858},{"$f":"'General Table'!D229","v":"Uruguay"},null,{"$f":"'General Table'!F229","v":3431.55},{"$f":"'General Table'!R229","v":245},7.1396307790939945E-2,{"$f":"'General Table'!T229","v":250},7.2853375296877507E-2,345,0.10053765790969095,495,0.14424968308781744,{"$f":"'General Table'!AB229","v":258},7.5184683306377578E-2,{"$f":"'General Table'!AE229","v":763},0.22234850140607013,{"$f":"'General Table'!AJ229","v":687},0.20020107531581938,{"$f":"'General Table'!AY229","v":1247},0.363392635980825,49,299,8.713263685506549E-2]
[{"$f":"'General Table'!A230","v":220},null,{"$f":"'General Table'!C230","v":862},{"$f":"'General Table'!D230","v":"Venezuela (Bolivarian Republic of)"},null,{"$f":"'General Table'!F230","v":31155.13},{"$f":"'General Table'!R230","v":2940},9.4366481539316316E-2,{"$f":"'General Table'!T230","v":2868},9.2055465664884081E-2,4087.2,0.13118866780526994,5808,0.18642194720420038,{"$f":"'General Table'!AB230","v":2787},8.9455572806147812E-2,{"$f":"'General Table'!AE230","v":8184},0.26268547106046419,{"$f":"'General Table'!AJ230","v":6441},0.20673962843358382,{"$f":"'General Table'!AY230","v":7748},0.248690986043069,588,3456,0.11092876197274734]
[{"$f":"'General Table'!A231","v":221},null,{"$f":"'General Table'!C231","v":905},{"$f":"'General Table'!D231","v":"NORTHERN AMERICA"},null,{"$f":"'General Table'!F231","v":356003.54},{"$f":"'General Table'!R231","v":22860},6.421284462508435E-2,{"$f":"'General Table'!T231","v":22573},6.3406672866230487E-2,31889.200000000001,8.9575513771576548E-2,45433,0.12761951749131484,{"$f":"'General Table'!AB231","v":23422},6.5791480612805139E-2,{"$f":"'General Table'!AE231","v":73772},0.20722265851626084,{"$f":"'General Table'!AJ231","v":68738},0.19308234968674751,{"$f":"'General Table'!AY231","v":146258},0.41083299340225665,4572,27145,7.6249241791247355E-2]
[{"$f":"'General Table'!A232","v":222},null,{"$f":"'General Table'!C232","v":124},{"$f":"'General Table'!D232","v":"Canada"},null,{"$f":"'General Table'!F232","v":35949.71},{"$f":"'General Table'!R232","v":1949},5.4214623706283029E-2,{"$f":"'General Table'!T232","v":1852},5.1516410007201731E-2,2689.8,7.4821187709163725E-2,3801,0.10573103371348476,{"$f":"'General Table'!AB232","v":2117},5.8887818566547546E-2,{"$f":"'General Table'!AE232","v":7062},0.19644108394754783,{"$f":"'General Table'!AJ232","v":7261},0.20197659452607547,{"$f":"'General Table'!AY232","v":15882},0.44178381411143514,389.8,2241.8000000000002,6.2359334748458339E-2]
[{"$f":"'General Table'!A233","v":223},null,{"$f":"'General Table'!C233","v":840},{"$f":"'General Table'!D233","v":"United States of America"},null,{"$f":"'General Table'!F233","v":319929.15999999997},{"$f":"'General Table'!R233","v":20904},6.5339464523959001E-2,{"$f":"'General Table'!T233","v":20713},6.4742457361498404E-2,29189.200000000001,9.1236447468558357E-2,41617,0.13008192188545739,{"$f":"'General Table'!AB233","v":21297},6.6567861460330779E-2,{"$f":"'General Table'!AE233","v":66685},0.20843676768944727,{"$f":"'General Table'!AJ233","v":61455},0.19208939879065728,{"$f":"'General Table'!AY233","v":130322},0.40734642631512552,4180.8,24893.8,7.7810350266290199E-2]
[{"$f":"'General Table'!A234","v":224},null,{"$f":"'General Table'!C234","v":909},{"$f":"'General Table'!D234","v":"OCEANIA"},null,{"$f":"'General Table'!F234","v":39542.980000000003},{"$f":"'General Table'!R234","v":3150},7.966015712523436E-2,{"$f":"'General Table'!T234","v":2939},7.4324191044782148E-2,4325.6000000000004,0.10938983354314723,6089,0.15398434817001652,{"$f":"'General Table'!AB234","v":2928},7.4046012718313084E-2,{"$f":"'General Table'!AE234","v":8873},0.22438875370546174,{"$f":"'General Table'!AJ234","v":7990},0.2020586207716262,{"$f":"'General Table'!AY234","v":13367},0.33803724453746276,630,3569,9.025622246982902E-2]
[{"$f":"'General Table'!A235","v":225},null,{"$f":"'General Table'!C235","v":927},{"$f":"'General Table'!D235","v":"Australia/New Zealand"},null,{"$f":"'General Table'!F235","v":28414.09},{"$f":"'General Table'!R235","v":1837},6.4651023488698736E-2,{"$f":"'General Table'!T235","v":1714},6.0322185225710201E-2,2522.6,8.8779897578982817E-2,3551,0.12497320871440894,{"$f":"'General Table'!AB235","v":1799},6.3313658822084395E-2,{"$f":"'General Table'!AE235","v":5881},0.20697477906207801,{"$f":"'General Table'!AJ235","v":5857},0.20613012769368999,{"$f":"'General Table'!AY235","v":11271},0.39666939887921804,367.4,2081.4,7.3252389923449956E-2]
[{"$f":"'General Table'!A236","v":226},null,{"$f":"'General Table'!C236","v":36},{"$f":"'General Table'!D236","v":"Australia"},null,{"$f":"'General Table'!F236","v":23799.56},{"$f":"'General Table'!R236","v":1521},6.3908744531411502E-2,{"$f":"'General Table'!T236","v":1416},5.949689826198467E-2,2087.4,8.7707503836205375E-2,2937,0.12340564279339618,{"$f":"'General Table'!AB236","v":1480},6.2186023607159122E-2,{"$f":"'General Table'!AE236","v":4907},0.20618028232454716,{"$f":"'General Table'!AJ236","v":4983},0.20937361867194182,{"$f":"'General Table'!AY236","v":9428},0.39614177741101092,304.2,1720.2,7.2278647168266971E-2]
[{"$f":"'General Table'!A237","v":227},null,{"$f":"'General Table'!C237","v":554},{"$f":"'General Table'!D237","v":"New Zealand"},null,{"$f":"'General Table'!F237","v":4614.53},{"$f":"'General Table'!R237","v":316},6.8479346759041548E-2,{"$f":"'General Table'!T237","v":297},6.4361917681757405E-2,434.8,9.4224113831744519E-2,613,0.13284126444079897,{"$f":"'General Table'!AB237","v":319},6.9129467139665363E-2,{"$f":"'General Table'!AE237","v":974},0.2110724169091977,{"$f":"'General Table'!AJ237","v":874},0.18940173755507062,{"$f":"'General Table'!AY237","v":1844},0.39960732729010323,63.2,360.2,7.8057787033565723E-2]
[{"$f":"'General Table'!A238","v":228},null,{"$f":"'General Table'!C238","v":928},{"$f":"'General Table'!D238","v":"Melanesia"},null,{"$f":"'General Table'!F238","v":9933.15},{"$f":"'General Table'!R238","v":1191},0.11990154180697966,{"$f":"'General Table'!T238","v":1104},0.11114299089412724,1632.6,0.16435873816463056,2295,0.23104453270110692,{"$f":"'General Table'!AB238","v":1010},0.1016797289882867,{"$f":"'General Table'!AE238","v":2681},0.26990431031445211,{"$f":"'General Table'!AJ238","v":1917},0.19299013907974813,{"$f":"'General Table'!AY238","v":1789},0.18010399520796525,238.2,1342.2,0.13512329925552319]
[{"$f":"'General Table'!A239","v":229},null,{"$f":"'General Table'!C239","v":242},{"$f":"'General Table'!D239","v":"Fiji"},null,{"$f":"'General Table'!F239","v":892.15},{"$f":"'General Table'!R239","v":88},9.8638121392142578E-2,{"$f":"'General Table'!T239","v":80},8.9671019447402342E-2,120,0.13450652917110351,168,0.18830914083954492,{"$f":"'General Table'!AB239","v":77},8.6308356218124757E-2,{"$f":"'General Table'!AE239","v":225},0.25219974219581909,{"$f":"'General Table'!AJ239","v":185},0.20736423247211791,{"$f":"'General Table'!AY239","v":224},0.25107885445272654,17.600000000000001,97.6,0.10939864372583086]
[{"$f":"'General Table'!A240","v":230},null,{"$f":"'General Table'!C240","v":540},{"$f":"'General Table'!D240","v":"New Caledonia"},null,{"$f":"'General Table'!F240","v":269.08999999999997},{"$f":"'General Table'!R240","v":20},7.4324575420862918E-2,{"$f":"'General Table'!T240","v":20},7.4324575420862918E-2,28,0.10405440558920809,40,0.14864915084172584,{"$f":"'General Table'!AB240","v":21},7.8040804191906066E-2,{"$f":"'General Table'!AE240","v":63},0.23412241257571817,{"$f":"'General Table'!AJ240","v":56},0.20810881117841618,{"$f":"'General Table'!AY240","v":87},0.32331190308075369,4,24,8.9189490505035496E-2]
[{"$f":"'General Table'!A241","v":231},null,{"$f":"'General Table'!C241","v":598},{"$f":"'General Table'!D241","v":"Papua New Guinea"},null,{"$f":"'General Table'!F241","v":7919.83},{"$f":"'General Table'!R241","v":971},0.12260364174483543,{"$f":"'General Table'!T241","v":904},0.11414386419910529,1332.6,0.16826118742447754,1875,0.23674750594394073,{"$f":"'General Table'!AB241","v":824},0.10404263727883048,{"$f":"'General Table'!AE241","v":2163},0.27311192285693003,{"$f":"'General Table'!AJ241","v":1516},0.19141825013920755,{"$f":"'General Table'!AY241","v":1342},0.16944808158760985,194.2,1098.2,0.13866459254807237]
[{"$f":"'General Table'!A242","v":232},null,{"$f":"'General Table'!C242","v":90},{"$f":"'General Table'!D242","v":"Solomon Islands"},null,{"$f":"'General Table'!F242","v":587.48},{"$f":"'General Table'!R242","v":79},0.13447266289916252,{"$f":"'General Table'!T242","v":71},0.12085517804861441,107.4,0.1828147341186083,150,0.25532784094777694,{"$f":"'General Table'!AB242","v":63},0.10723769319806631,{"$f":"'General Table'!AE242","v":158},0.26894532579832503,{"$f":"'General Table'!AJ242","v":109},0.18553823108871792,{"$f":"'General Table'!AY242","v":87},0.14809014774971063,15.8,86.8,0.14774971062844691]
[{"$f":"'General Table'!A243","v":233},null,{"$f":"'General Table'!C243","v":548},{"$f":"'General Table'!D243","v":"Vanuatu"},null,{"$f":"'General Table'!F243","v":264.60000000000002},{"$f":"'General Table'!R243","v":33},0.12471655328798185,{"$f":"'General Table'!T243","v":28},0.10582010582010581,44.2,0.16704459561602419,61,0.23053665910808765,{"$f":"'General Table'!AB243","v":26},9.8261526832955401E-2,{"$f":"'General Table'!AE243","v":72},0.27210884353741494,{"$f":"'General Table'!AJ243","v":49},0.18518518518518517,{"$f":"'General Table'!AY243","v":46},0.17384731670445955,6.6,34.6,0.13076341647770218]
[{"$f":"'General Table'!A244","v":234},null,{"$f":"'General Table'!C244","v":954},{"$f":"'General Table'!D244","v":"Micronesia"},null,{"$f":"'General Table'!F244","v":519},{"$f":"'General Table'!R244","v":52},0.1001926782273603,{"$f":"'General Table'!T244","v":52},0.1001926782273603,72.8,0.14026974951830443,104,0.20038535645472061,{"$f":"'General Table'!AB244","v":53},0.10211946050096339,{"$f":"'General Table'!AE244","v":139},0.26782273603082851,{"$f":"'General Table'!AJ244","v":88},0.16955684007707128,{"$f":"'General Table'!AY244","v":135},0.26011560693641617,10.4,62.4,0.12023121387283237]
[{"$f":"'General Table'!A245","v":235},null,{"$f":"'General Table'!C245","v":316},{"$f":"'General Table'!D245","v":"Guam"},null,{"$f":"'General Table'!F245","v":161.80000000000001},{"$f":"'General Table'!R245","v":14},8.6526576019777493E-2,{"$f":"'General Table'!T245","v":14},8.6526576019777493E-2,19.600000000000001,0.12113720642768851,28,0.17305315203955499,{"$f":"'General Table'!AB245","v":14},8.6526576019777493E-2,{"$f":"'General Table'!AE245","v":39},0.24103831891223731,{"$f":"'General Table'!AJ245","v":31},0.19159456118665016,{"$f":"'General Table'!AY245","v":51},0.31520395550061803,2.8,16.8,0.103831891223733]
[{"$f":"'General Table'!A246","v":236},null,{"$f":"'General Table'!C246","v":296},{"$f":"'General Table'!D246","v":"Kiribati"},null,{"$f":"'General Table'!F246","v":112.41},{"$f":"'General Table'!R246","v":14},0.12454407970821102,{"$f":"'General Table'!T246","v":11},9.7856062627880089E-2,18.399999999999999,0.16368650475936303,25,0.22240014233609109,{"$f":"'General Table'!AB246","v":12},0.10675206832132372,{"$f":"'General Table'!AE246","v":32},0.28467218219019663,{"$f":"'General Table'!AJ246","v":19},0.16902410817542923,{"$f":"'General Table'!AY246","v":22},0.19571212525576018,2.8,13.8,0.1227648785695223]
[{"$f":"'General Table'!A247","v":237},null,{"$f":"'General Table'!C247","v":583},{"$f":"'General Table'!D247","v":"Micronesia (Fed. States of)"},null,{"$f":"'General Table'!F247","v":104.43},{"$f":"'General Table'!R247","v":12},0.11490950876185003,{"$f":"'General Table'!T247","v":12},0.11490950876185003,16.8,0.16087331226659005,24,0.22981901752370007,{"$f":"'General Table'!AB247","v":13},0.12448530115867087,{"$f":"'General Table'!AE247","v":35},0.33515273388872929,{"$f":"'General Table'!AJ247","v":15},0.14363688595231255,{"$f":"'General Table'!AY247","v":20},0.19151584793641674,2.4,14.4,0.13789141051422005]
[{"$f":"'General Table'!A248","v":238},null,{"$f":"'General Table'!C248","v":957},{"$f":"'General Table'!D248","v":"Polynesia"},null,{"$f":"'General Table'!F248","v":676.75},{"$f":"'General Table'!R248","v":70},0.10343553749538234,{"$f":"'General Table'!T248","v":68},0.1004802364240857,97.2,0.14362763206501664,138,0.20391577391946805,{"$f":"'General Table'!AB248","v":65},9.6047284817140741E-2,{"$f":"'General Table'!AE248","v":172},0.25415589213151091,{"$f":"'General Table'!AJ248","v":128},0.18913926856298485,{"$f":"'General Table'!AY248","v":170},0.25120059106021425,14,82,0.12116734392316217]
[{"$f":"'General Table'!A249","v":239},null,{"$f":"'General Table'!C249","v":258},{"$f":"'General Table'!D249","v":"French Polynesia"},null,{"$f":"'General Table'!F249","v":277.69},{"$f":"'General Table'!R249","v":22},7.9225035111095105E-2,{"$f":"'General Table'!T249","v":23},8.2826173070690345E-2,31.2,0.11235550433937123,45,0.16205120818178545,{"$f":"'General Table'!AB249","v":23},8.2826173070690345E-2,{"$f":"'General Table'!AE249","v":68},0.2448773812524758,{"$f":"'General Table'!AJ249","v":61},0.21966941553530916,{"$f":"'General Table'!AY249","v":82},0.29529331268680903,4.4000000000000004,27.4,9.8671180092909358E-2]
[{"$f":"'General Table'!A250","v":240},null,{"$f":"'General Table'!C250","v":882},{"$f":"'General Table'!D250","v":"Samoa"},null,{"$f":"'General Table'!F250","v":193.76},{"$f":"'General Table'!R250","v":25},0.12902559867877789,{"$f":"'General Table'!T250","v":23},0.11870355078447564,34.200000000000003,0.17650701899256815,48,0.24772914946325353,{"$f":"'General Table'!AB250","v":21},0.10838150289017341,{"$f":"'General Table'!AE250","v":50},0.25805119735755577,{"$f":"'General Table'!AJ250","v":31},0.15999174236168456,{"$f":"'General Table'!AY250","v":40},0.20644095788604461,5,28,0.14450867052023122]
[{"$f":"'General Table'!A251","v":241},null,{"$f":"'General Table'!C251","v":776},{"$f":"'General Table'!D251","v":"Tonga"},null,{"$f":"'General Table'!F251","v":106.36},{"$f":"'General Table'!R251","v":13},0.12222640090259496,{"$f":"'General Table'!T251","v":13},0.12222640090259496,18.2,0.17111696126363293,26,0.24445280180518991,{"$f":"'General Table'!AB251","v":11},0.10342233922527266,{"$f":"'General Table'!AE251","v":28},0.2632568634825122,{"$f":"'General Table'!AJ251","v":19},0.17863858593456186,{"$f":"'General Table'!AY251","v":21},0.19744264761188418,2.6,15.6,0.14667168108311396]

{"sheet":"Crude birth rate","index":3,"n_rows":250,"n_cols":14,"rows_kept":250,"cut":false,"hidden":true,"merged":[[6,1,8,1],[6,2,8,2],[6,4,8,4]]}
[null,null,"MSF-OCBA. Emergency Preparedness",null,null,null,null,null,null,null,null,null,null,"File: POP/DB/WPP/Rev.2017/FERT/F03"]
[null,null,"Crude birth rate by major area, region and country, 2010-2015 (births per 1000 population)"]
[null,null,"Estimates 2015 (as of 1 July)"]
[null,null,"Source: United Nations, Department of Economic and Social Affairs, Population Division (2017). World Population Prospects: The 2017 Revision, DVD Edition."]
[null,null,"http://esa.un.org/unpd/wpp/Excel-Data/population.htm"]
[null,null,1,2,3]
[null,"Index","Major area, region, country or area",null,"2010-2015"]
[]
[]
[null,1,"WORLD",null,19.600000000000001]
[null,2,"More developed regions","a",11.1]
[null,3,"Less developed regions","b",21.3]
[null,4,"Least developed countries","c",33.5]
[null,5,"Less developed regions, excluding least developed countries","d",19.2]
[null,6,"Less developed regions, excluding China",null,24.1]
[null,7,"High-income countries","e",11.2]
[null,8,"Middle-income countries","e",19.399999999999999]
[null,9,"Upper-middle-income countries","e",14.8]
[null,10,"Lower-middle-income countries","e",23.5,null,null," "]
[null,11,"Low-income countries","e",37.1]
[null,12,"Sub-Saharan Africa","f",37.9]
[null,13,"AFRICA",null,35.9]
[null,14,"Eastern Africa",null,37]
[null,15,"Burundi",null,43.3]
[null,16,"Comoros",null,34.4]
[null,17,"Djibouti",null,24.3]
[null,18,"Eritrea",null,34.299999999999997]
[null,19,"Ethiopia",null,33.6]
[null,20,"Kenya",null,33.1]
[null,21,"Madagascar",null,34.1]
[null,22,"Malawi",null,38.1]
[null,23,"Mauritius",1,11.1]
[null,24,"Mayotte",null,31.7]
[null,25,"Mozambique",null,40.4]
[null,26,"Réunion",null,16.600000000000001]
[null,27,"Rwanda",null,33.5]
[null,28,"Seychelles",null,17.7]
[null,29,"Somalia",null,44.4]
[null,30,"South Sudan",null,37.299999999999997]
[null,31,"Uganda",null,43.9]
[null,32,"United Republic of Tanzania",2,39.799999999999997]
[null,33,"Zambia",null,39.299999999999997]
[null,34,"Zimbabwe",null,35.6]
[null,35,"Middle Africa",null,42.5]
[null,36,"Angola",null,43.7]
[null,37,"Cameroon",null,38.200000000000003]
[null,38,"Central African Republic",null,37.299999999999997]
[null,39,"Chad",null,45.2]
[null,40,"Congo",null,36.799999999999997]
[null,41,"Democratic Republic of the Congo",null,44]
[null,42,"Equatorial Guinea",null,36]
[null,43,"Gabon",null,31.3]
[null,44,"Sao Tome and Principe",null,35.6]
[null,45,"Northern Africa",null,27.1]
[null,46,"Algeria",null,25.3]
[null,47,"Egypt",null,28.5]
[null,48,"Libya",null,21.3]
[null,49,"Morocco",null,21.3]
[null,50,"Sudan",null,34.4]
[null,51,"Tunisia",null,19.100000000000001]
[null,52,"Western Sahara",null,22.2]
[null,53,"Southern Africa",null,22.8]
[null,54,"Botswana",null,25.1]
[null,55,"Lesotho",null,28.7]
[null,56,"Namibia",null,30.4]
[null,57,"South Africa",null,22]
[null,58,"Swaziland",null,30.2]
[null,59,"Western Africa",3,39.799999999999997]
[null,60,"Benin",null,38.4]
[null,61,"Burkina Faso",null,40.799999999999997]
[null,62,"Cabo Verde",null,21.8]
[null,63,"Côte d'Ivoire",null,37.700000000000003]
[null,64,"Gambia",null,41.2]
[null,65,"Ghana",null,32.700000000000003]
[null,66,"Guinea",null,37.5]
[null,67,"Guinea-Bissau",null,38.4]
[null,68,"Liberia",null,35.799999999999997]
[null,69,"Mali",null,44.7]
[null,70,"Mauritania",null,35.5]
[null,71,"Niger",null,49.2]
[null,72,"Nigeria",null,40.5]
[null,73,"Senegal",null,37.6]
[null,74,"Sierra Leone",null,37.299999999999997]
[null,75,"Togo",null,35.799999999999997]
[null,76,"ASIA",null,17.7]
[null,77,"Eastern Asia",null,12.2]
[null,78,"China",4,12.6]
[null,79,"China, Hong Kong SAR",5,10.5]
[null,80,"China, Macao SAR",6,11.3]
[null,81,"Dem. People's Republic of Korea",null,8.6999999999999993]
[null,82,"Japan",null,14]
[null,83,"Mongolia",null,8.4]
[null,84,"Republic of Korea",null,26]
[null,85,"Other non-specified areas",null,8.9]
[null,86,"South-Central Asia",7,21.3]
[null,87,"Central Asia",null,24.2]
[null,88,"Kazakhstan",null,22.8]
[null,89,"Kyrgyzstan",null,27.1]
[null,90,"Tajikistan",null,30.2]
[null,91,"Turkmenistan",null,27]
[null,92,"Uzbekistan",null,22.2]
[null,93,"Southern Asia",null,21.2]
[null,94,"Afghanistan",null,36.200000000000003]
[null,95,"Bangladesh",null,20.2]
[null,96,"Bhutan",null,19.3]
[null,97,"India",null,20]
[null,98,"Iran (Islamic Republic of)",null,18.2]
[null,99,"Maldives",null,19.8]
[null,100,"Nepal",null,20.9]
[null,101,"Pakistan",null,29.7]
[null,102,"Sri Lanka",null,16.399999999999999]
[null,103,"South-Eastern Asia",null,19.3]
[null,104,"Brunei Darussalam",null,16.7]
[null,105,"Cambodia",null,24.5]
[null,106,"Indonesia",null,20.2]
[null,107,"Lao People's Democratic Republic",null,25.5]
[null,108,"Malaysia",8,17.2]
[null,109,"Myanmar",null,18.7]
[null,110,"Philippines",null,24.1]
[null,111,"Singapore",null,9.3000000000000007]
[null,112,"Thailand",null,11.3]
[null,113,"Timor-Leste",null,36.799999999999997]
[null,114,"Viet Nam",null,17.399999999999999]
[null,115,"Western Asia",null,22.8]
[null,116,"Armenia",null,14.5]
[null,117,"Azerbaijan",9,19.2]
[null,118,"Bahrain",null,16]
[null,119,"Cyprus",10,11.3]
[null,120,"Georgia",11,14.4]
[null,121,"Iraq",null,34.5]
[null,122,"Israel",null,21.4]
[null,123,"Jordan",null,28.4]
[null,124,"Kuwait",null,18]
[null,125,"Lebanon",null,15]
[null,126,"Oman",null,21.5]
[null,127,"Qatar",null,10.9]
[null,128,"Saudi Arabia",null,20.8]
[null,129,"State of Palestine",12,32.9]
[null,130,"Syrian Arab Republic",null,24.3]
[null,131,"Turkey",null,17.3]
[null,132,"United Arab Emirates",null,10.8]
[null,133,"Yemen",null,33.6]
[null,134,"EUROPE",null,10.8]
[null,135,"Eastern Europe",null,11.6]
[null,136,"Belarus",null,12.1]
[null,137,"Bulgaria",null,9.4]
[null,138,"Czech Republic",null,10.4]
[null,139,"Hungary",null,9.1]
[null,140,"Poland",null,10]
[null,141,"Republic of Moldova",13,10.9]
[null,142,"Romania",null,9.8000000000000007]
[null,143,"Russian Federation",null,13]
[null,144,"Slovakia",null,10.5]
[null,145,"Ukraine",14,10.8]
[null,146,"Northern Europe",15,12.2]
[null,147,"Channel Islands",16,9.6]
[null,148,"Denmark",null,10.4]
[null,149,"Estonia",null,10.8]
[null,150,"Finland",17,10.8]
[null,151,"Iceland",null,13.8]
[null,152,"Ireland",null,15.4]
[null,153,"Latvia",null,10.199999999999999]
[null,154,"Lithuania",null,10.4]
[null,155,"Norway",18,11.9]
[null,156,"Sweden",null,12]
[null,157,"United Kingdom",null,12.4]
[null,158,"Southern Europe",19,9.1]
[null,159,"Albania",null,12]
[null,160,"Bosnia and Herzegovina",null,9.1]
[null,161,"Croatia",null,9.6]
[null,162,"Greece",null,9]
[null,163,"Italy",null,8.6]
[null,164,"Malta",null,9.6999999999999993]
[null,165,"Montenegro",null,12]
[null,166,"Portugal",null,8.5]
[null,167,"Serbia",20,10.6]
[null,168,"Slovenia",null,10.5]
[null,169,"Spain",21,9.4]
[null,170,"TFYR Macedonia",22,11.3]
[null,171,"Western Europe",23,10.199999999999999]
[null,172,"Austria",null,9.4]
[null,173,"Belgium",null,11.4]
[null,174,"France",null,12.1]
[null,175,"Germany",null,8.5]
[null,176,"Luxembourg",null,11.2]
[null,177,"Netherlands",null,10.6]
[null,178,"Switzerland",null,10.3]
[null,179,"LATIN AMERICA AND THE CARIBBEAN",null,17.8]
[null,180,"Caribbean",24,17.8]
[null,181,"Antigua and Barbuda",null,16.8]
[null,182,"Aruba",null,11.1]
[null,183,"Bahamas",null,14.8]
[null,184,"Barbados",null,12.2]
[null,185,"Cuba",null,11.2]
[null,186,"Curaçao",null,12.9]
[null,187,"Dominican Republic",null,21.4]
[null,188,"Grenada",null,19.399999999999999]
[null,189,"Guadeloupe",25,11.9]
[null,190,"Haiti",null,25.5]
[null,191,"Jamaica",null,17.2]
[null,192,"Martinique",null,12]
[null,193,"Puerto Rico",null,11.2]
[null,194,"Saint Lucia",null,12.6]
[null,195,"Saint Vincent and the Grenadines",null,16.399999999999999]
[null,196,"Trinidad and Tobago",null,14.7]
[null,197,"United States Virgin Islands",null,14]
[null,198,"Central America",null,20.2]
[null,199,"Belize",null,23.3]
[null,200,"Costa Rica",null,15.1]
[null,201,"El Salvador",null,19.100000000000001]
[null,202,"Guatemala",null,26.6]
[null,203,"Honduras",null,23]
[null,204,"Mexico",null,19.399999999999999]
[null,205,"Nicaragua",null,21]
[null,206,"Panama",null,20.6]
[null,207,"South America",26,16.8]
[null,208,"Argentina",null,17.8]
[null,209,"Bolivia (Plurinational State of)",null,24.4]
[null,210,"Brazil",null,15]
[null,211,"Chile",null,13.9]
[null,212,"Colombia",null,16.2]
[null,213,"Ecuador",null,21.2]
[null,214,"French Guiana",null,25.8]
[null,215,"Guyana",null,21.1]
[null,216,"Paraguay",null,21.7]
[null,217,"Peru",null,20.399999999999999]
[null,218,"Suriname",null,19]
[null,219,"Uruguay",null,14.4]
[null,220,"Venezuela (Bolivarian Republic of)",null,20.100000000000001]
[null,221,"NORTHERN AMERICA",27,12.4]
[null,222,"Canada",null,10.9]
[null,223,"United States of America",null,12.5]
[null,224,"OCEANIA",null,17.2]
[null,225,"Australia/New Zealand",null,13.4]
[null,226,"Australia",28,13.3]
[null,227,"New Zealand",null,13.7]
[null,228,"Melanesia",null,27.8]
[null,229,"Fiji",null,20.7]
[null,230,"New Caledonia",null,16.3]
[null,231,"Papua New Guinea",null,28.8]
[null,232,"Solomon Islands",null,30.8]
[null,233,"Vanuatu",null,26.9]
[null,234,"Micronesia",29,21]
[null,235,"Guam",null,17.3]
[null,236,"Kiribati",null,29.2]
[null,237,"Micronesia (Fed. States of)",null,23.6]
[null,238,"Polynesia",30,21.1]
[null,239,"French Polynesia",null,16.100000000000001]
[null,240,"Samoa",null,26.4]
[null,241,"Tonga",null,25.7]

{"sheet":"Crude Death Rate","index":4,"n_rows":251,"n_cols":9,"rows_kept":251,"cut":false,"hidden":true,"merged":[[1,8,1,12],[0,8,0,12],[7,3,9,3],[7,4,9,4],[7,5,9,5],[7,6,8,6]]}
[null,null,null,"MSF-OCBA. Emergency Preparedness",null,null,null,null,"File MORT/2: Crude death rate by major area, region and country, 1950-2100 (deaths per 1,000 population)"]
[null,null,null,"Total population (both sexes combined) by five-year age group, major area, region and country",null,null,null,null,"POP/DB/WPP/Rev.2015/MORT/F02"]
[null,null,null,"Reference date (as of 1 July)"]
[null,null,null,"Source: United Nations, Department of Economic and Social Affairs, Population Division (2017). World Population Prospects: The 2017 Revision, DVD Edition."]
[]
[]
[null,null,null,1,2,3,4]
[null,null,null,"Major area, region, country","Notes","Total Population (Thousands)","Crude death rate (deaths per 1,000 population)"]
[]
[null,"Order","Code",null,null,null,"2010-2015"]
[{"$f":"'General Table'!A11","v":1},null,{"$f":"'General Table'!C11","v":900},{"$f":"'General Table'!D11","v":"WORLD"},null,{"$f":"'General Table'!F11","v":7383008.8200000003},7.7]
[{"$f":"'General Table'!A12","v":2},null,{"$f":"'General Table'!C12","v":901},{"$f":"'General Table'!D12","v":"More developed regions"},null,{"$f":"'General Table'!F12","v":1253206.55},9.9]
[{"$f":"'General Table'!A13","v":3},null,{"$f":"'General Table'!C13","v":902},{"$f":"'General Table'!D13","v":"Less developed regions"},null,{"$f":"'General Table'!F13","v":6129802.2699999996},7.2]
[{"$f":"'General Table'!A14","v":4},null,{"$f":"'General Table'!C14","v":941},{"$f":"'General Table'!D14","v":"Least developed countries"},null,{"$f":"'General Table'!F14","v":956631.11},8.3000000000000007]
[{"$f":"'General Table'!A15","v":5},null,{"$f":"'General Table'!C15","v":934},{"$f":"'General Table'!D15","v":"Less developed regions, excluding least developed countries"},null,{"$f":"'General Table'!F15","v":5173171.17},7.1]
[{"$f":"'General Table'!A16","v":6},null,{"$f":"'General Table'!C16","v":948},{"$f":"'General Table'!D16","v":"Less developed regions, excluding China"},null,{"$f":"'General Table'!F16","v":4701441.32},7.3]
[{"$f":"'General Table'!A17","v":7},null,{"$f":"'General Table'!C17","v":1503},{"$f":"'General Table'!D17","v":"High-income countries"},null,{"$f":"'General Table'!F17","v":1180060.96},8.5]
[{"$f":"'General Table'!A18","v":8},null,{"$f":"'General Table'!C18","v":1517},{"$f":"'General Table'!D18","v":"Middle-income countries"},null,{"$f":"'General Table'!F18","v":5558263.9800000004},7.4]
[{"$f":"'General Table'!A19","v":9},null,{"$f":"'General Table'!C19","v":1502},{"$f":"'General Table'!D19","v":"Upper-middle-income countries"},null,{"$f":"'General Table'!F19","v":2588362.98},7.1]
[{"$f":"'General Table'!A20","v":10},null,{"$f":"'General Table'!C20","v":1501},{"$f":"'General Table'!D20","v":"Lower-middle-income countries"},null,{"$f":"'General Table'!F20","v":2969901},7.6]
[{"$f":"'General Table'!A21","v":11},null,{"$f":"'General Table'!C21","v":1500},{"$f":"'General Table'!D21","v":"Low-income countries"},null,{"$f":"'General Table'!F21","v":641858.61},9.1999999999999993]
[{"$f":"'General Table'!A22","v":12},null,{"$f":"'General Table'!C22","v":947},{"$f":"'General Table'!D22","v":"Sub-Saharan Africa"},null,{"$f":"'General Table'!F22","v":969234.25},10.3]
[{"$f":"'General Table'!A23","v":13},null,{"$f":"'General Table'!C23","v":903},{"$f":"'General Table'!D23","v":"AFRICA"},null,{"$f":"'General Table'!F23","v":1194369.9099999999},9.4]
[{"$f":"'General Table'!A24","v":14},null,{"$f":"'General Table'!C24","v":910},{"$f":"'General Table'!D24","v":"Eastern Africa"},null,{"$f":"'General Table'!F24","v":399458.03},8.4]
[{"$f":"'General Table'!A25","v":15},null,{"$f":"'General Table'!C25","v":108},{"$f":"'General Table'!D25","v":"Burundi"},null,{"$f":"'General Table'!F25","v":10199.27},11.6]
[{"$f":"'General Table'!A26","v":16},null,{"$f":"'General Table'!C26","v":174},{"$f":"'General Table'!D26","v":"Comoros"},null,{"$f":"'General Table'!F26","v":777.42},7.8]
[{"$f":"'General Table'!A27","v":17},null,{"$f":"'General Table'!C27","v":262},{"$f":"'General Table'!D27","v":"Djibouti"},null,{"$f":"'General Table'!F27","v":927.41},8.5]
[{"$f":"'General Table'!A28","v":18},null,{"$f":"'General Table'!C28","v":232},{"$f":"'General Table'!D28","v":"Eritrea"},null,{"$f":"'General Table'!F28","v":4846.9799999999996},7.7]
[{"$f":"'General Table'!A29","v":19},null,{"$f":"'General Table'!C29","v":231},{"$f":"'General Table'!D29","v":"Ethiopia"},null,{"$f":"'General Table'!F29","v":99873.03},7.6]
[{"$f":"'General Table'!A30","v":20},null,{"$f":"'General Table'!C30","v":404},{"$f":"'General Table'!D30","v":"Kenya"},null,{"$f":"'General Table'!F30","v":47236.26},6.3]
[{"$f":"'General Table'!A31","v":21},null,{"$f":"'General Table'!C31","v":450},{"$f":"'General Table'!D31","v":"Madagascar"},null,{"$f":"'General Table'!F31","v":24234.09},6.9]
[{"$f":"'General Table'!A32","v":22},null,{"$f":"'General Table'!C32","v":454},{"$f":"'General Table'!D32","v":"Malawi"},null,{"$f":"'General Table'!F32","v":17573.61},8.3000000000000007]
[{"$f":"'General Table'!A33","v":23},null,{"$f":"'General Table'!C33","v":480},{"$f":"'General Table'!D33","v":"Mauritius"},null,{"$f":"'General Table'!F33","v":1259.46},7.4]
[{"$f":"'General Table'!A34","v":24},null,{"$f":"'General Table'!C34","v":175},{"$f":"'General Table'!D34","v":"Mayotte"},null,{"$f":"'General Table'!F34","v":240.02},2.5]
[{"$f":"'General Table'!A35","v":25},null,{"$f":"'General Table'!C35","v":508},{"$f":"'General Table'!D35","v":"Mozambique"},null,{"$f":"'General Table'!F35","v":28010.69},11.2]
[{"$f":"'General Table'!A36","v":26},null,{"$f":"'General Table'!C36","v":638},{"$f":"'General Table'!D36","v":"Réunion"},null,{"$f":"'General Table'!F36","v":863.36},5.5]
[{"$f":"'General Table'!A37","v":27},null,{"$f":"'General Table'!C37","v":646},{"$f":"'General Table'!D37","v":"Rwanda"},null,{"$f":"'General Table'!F37","v":11629.55},6.8]
[{"$f":"'General Table'!A38","v":28},null,{"$f":"'General Table'!C38","v":690},{"$f":"'General Table'!D38","v":"Seychelles"},null,{"$f":"'General Table'!F38","v":93.74},7.9]
[{"$f":"'General Table'!A39","v":29},null,{"$f":"'General Table'!C39","v":706},{"$f":"'General Table'!D39","v":"Somalia"},null,{"$f":"'General Table'!F39","v":13908.13},12.3]
[{"$f":"'General Table'!A40","v":30},null,{"$f":"'General Table'!C40","v":728},{"$f":"'General Table'!D40","v":"South Sudan"},null,{"$f":"'General Table'!F40","v":11882.14},11.9]
[{"$f":"'General Table'!A41","v":31},null,{"$f":"'General Table'!C41","v":800},{"$f":"'General Table'!D41","v":"Uganda"},null,{"$f":"'General Table'!F41","v":40144.870000000003},9.4]
[{"$f":"'General Table'!A42","v":32},null,{"$f":"'General Table'!C42","v":834},{"$f":"'General Table'!D42","v":"United Republic of Tanzania"},null,{"$f":"'General Table'!F42","v":53879.96},7.9]
[{"$f":"'General Table'!A43","v":33},null,{"$f":"'General Table'!C43","v":894},{"$f":"'General Table'!D43","v":"Zambia"},null,{"$f":"'General Table'!F43","v":16100.59},8.8000000000000007]
[{"$f":"'General Table'!A44","v":34},null,{"$f":"'General Table'!C44","v":716},{"$f":"'General Table'!D44","v":"Zimbabwe"},null,{"$f":"'General Table'!F44","v":15777.45},9.6]
[{"$f":"'General Table'!A45","v":35},null,{"$f":"'General Table'!C45","v":911},{"$f":"'General Table'!D45","v":"Middle Africa"},null,{"$f":"'General Table'!F45","v":153742.72},10.9]
[{"$f":"'General Table'!A46","v":36},null,{"$f":"'General Table'!C46","v":24},{"$f":"'General Table'!D46","v":"Angola"},null,{"$f":"'General Table'!F46","v":27859.31},9.3000000000000007]
[{"$f":"'General Table'!A47","v":37},null,{"$f":"'General Table'!C47","v":120},{"$f":"'General Table'!D47","v":"Cameroon"},null,{"$f":"'General Table'!F47","v":22834.52},11.1]
[{"$f":"'General Table'!A48","v":38},null,{"$f":"'General Table'!C48","v":140},{"$f":"'General Table'!D48","v":"Central African Republic"},null,{"$f":"'General Table'!F48","v":4546.1000000000004},15.3]
[{"$f":"'General Table'!A49","v":39},null,{"$f":"'General Table'!C49","v":148},{"$f":"'General Table'!D49","v":"Chad"},null,{"$f":"'General Table'!F49","v":14009.41},14]
[{"$f":"'General Table'!A50","v":40},null,{"$f":"'General Table'!C50","v":178},{"$f":"'General Table'!D50","v":"Congo"},null,{"$f":"'General Table'!F50","v":4995.6499999999996},8.3000000000000007]
[{"$f":"'General Table'!A51","v":41},null,{"$f":"'General Table'!C51","v":180},{"$f":"'General Table'!D51","v":"Democratic Republic of the Congo"},null,{"$f":"'General Table'!F51","v":76196.62},10.9]
[{"$f":"'General Table'!A52","v":42},null,{"$f":"'General Table'!C52","v":226},{"$f":"'General Table'!D52","v":"Equatorial Guinea"},null,{"$f":"'General Table'!F52","v":1175.3900000000001},10.7]
[{"$f":"'General Table'!A53","v":43},null,{"$f":"'General Table'!C53","v":266},{"$f":"'General Table'!D53","v":"Gabon"},null,{"$f":"'General Table'!F53","v":1930.18},8.4]
[{"$f":"'General Table'!A54","v":44},null,{"$f":"'General Table'!C54","v":678},{"$f":"'General Table'!D54","v":"Sao Tome and Principe"},null,{"$f":"'General Table'!F54","v":195.55},7.1]
[{"$f":"'General Table'!A55","v":45},null,{"$f":"'General Table'!C55","v":912},{"$f":"'General Table'!D55","v":"Northern Africa"},null,{"$f":"'General Table'!F55","v":225135.66},6]
[{"$f":"'General Table'!A56","v":46},null,{"$f":"'General Table'!C56","v":12},{"$f":"'General Table'!D56","v":"Algeria"},null,{"$f":"'General Table'!F56","v":39871.53},4.8]
[{"$f":"'General Table'!A57","v":47},null,{"$f":"'General Table'!C57","v":818},{"$f":"'General Table'!D57","v":"Egypt"},null,{"$f":"'General Table'!F57","v":93778.17},6.1]
[{"$f":"'General Table'!A58","v":48},null,{"$f":"'General Table'!C58","v":434},{"$f":"'General Table'!D58","v":"Libya"},null,{"$f":"'General Table'!F58","v":6234.96},5.2]
[{"$f":"'General Table'!A59","v":49},null,{"$f":"'General Table'!C59","v":504},{"$f":"'General Table'!D59","v":"Morocco"},null,{"$f":"'General Table'!F59","v":34803.32},5.2]
[{"$f":"'General Table'!A60","v":50},null,{"$f":"'General Table'!C60","v":729},{"$f":"'General Table'!D60","v":"Sudan"},null,{"$f":"'General Table'!F60","v":38647.800000000003},7.8]
[{"$f":"'General Table'!A61","v":51},null,{"$f":"'General Table'!C61","v":788},{"$f":"'General Table'!D61","v":"Tunisia"},null,{"$f":"'General Table'!F61","v":11273.66},6.4]
[{"$f":"'General Table'!A62","v":52},null,{"$f":"'General Table'!C62","v":732},{"$f":"'General Table'!D62","v":"Western Sahara"},null,{"$f":"'General Table'!F62","v":526.22},5.0999999999999996]
[{"$f":"'General Table'!A63","v":53},null,{"$f":"'General Table'!C63","v":913},{"$f":"'General Table'!D63","v":"Southern Africa"},null,{"$f":"'General Table'!F63","v":63419.64},11]
[{"$f":"'General Table'!A64","v":54},null,{"$f":"'General Table'!C64","v":72},{"$f":"'General Table'!D64","v":"Botswana"},null,{"$f":"'General Table'!F64","v":2209.1999999999998},8.1]
[{"$f":"'General Table'!A65","v":55},null,{"$f":"'General Table'!C65","v":426},{"$f":"'General Table'!D65","v":"Lesotho"},null,{"$f":"'General Table'!F65","v":2174.65},13.6]
[{"$f":"'General Table'!A66","v":56},null,{"$f":"'General Table'!C66","v":516},{"$f":"'General Table'!D66","v":"Namibia"},null,{"$f":"'General Table'!F66","v":2425.56},8.3000000000000007]
[{"$f":"'General Table'!A67","v":57},null,{"$f":"'General Table'!C67","v":710},{"$f":"'General Table'!D67","v":"South Africa"},null,{"$f":"'General Table'!F67","v":55291.23},11.2]
[{"$f":"'General Table'!A68","v":58},null,{"$f":"'General Table'!C68","v":748},{"$f":"'General Table'!D68","v":"Swaziland"},null,{"$f":"'General Table'!F68","v":1319.01},10.8]
[{"$f":"'General Table'!A69","v":59},null,{"$f":"'General Table'!C69","v":914},{"$f":"'General Table'!D69","v":"Western Africa"},null,{"$f":"'General Table'!F69","v":352613.86},11.9]
[{"$f":"'General Table'!A70","v":60},null,{"$f":"'General Table'!C70","v":204},{"$f":"'General Table'!D70","v":"Benin"},null,{"$f":"'General Table'!F70","v":10575.95},9.6999999999999993]
[{"$f":"'General Table'!A71","v":61},null,{"$f":"'General Table'!C71","v":854},{"$f":"'General Table'!D71","v":"Burkina Faso"},null,{"$f":"'General Table'!F71","v":18110.62},9.6]
[{"$f":"'General Table'!A72","v":62},null,{"$f":"'General Table'!C72","v":132},{"$f":"'General Table'!D72","v":"Cabo Verde"},null,{"$f":"'General Table'!F72","v":532.91},5.7]
[{"$f":"'General Table'!A73","v":63},null,{"$f":"'General Table'!C73","v":384},{"$f":"'General Table'!D73","v":"Côte d'Ivoire"},null,{"$f":"'General Table'!F73","v":23108.47},13.4]
[{"$f":"'General Table'!A74","v":64},null,{"$f":"'General Table'!C74","v":270},{"$f":"'General Table'!D74","v":"Gambia"},null,{"$f":"'General Table'!F74","v":1977.59},8.6]
[{"$f":"'General Table'!A75","v":65},null,{"$f":"'General Table'!C75","v":288},{"$f":"'General Table'!D75","v":"Ghana"},null,{"$f":"'General Table'!F75","v":27582.82},8.8000000000000007]
[{"$f":"'General Table'!A76","v":66},null,{"$f":"'General Table'!C76","v":324},{"$f":"'General Table'!D76","v":"Guinea"},null,{"$f":"'General Table'!F76","v":12091.53},10.4]
[{"$f":"'General Table'!A77","v":67},null,{"$f":"'General Table'!C77","v":624},{"$f":"'General Table'!D77","v":"Guinea-Bissau"},null,{"$f":"'General Table'!F77","v":1770.53},11.4]
[{"$f":"'General Table'!A78","v":68},null,{"$f":"'General Table'!C78","v":430},{"$f":"'General Table'!D78","v":"Liberia"},null,{"$f":"'General Table'!F78","v":4499.62},8.8000000000000007]
[{"$f":"'General Table'!A79","v":69},null,{"$f":"'General Table'!C79","v":466},{"$f":"'General Table'!D79","v":"Mali"},null,{"$f":"'General Table'!F79","v":17467.91},11.6]
[{"$f":"'General Table'!A80","v":70},null,{"$f":"'General Table'!C80","v":478},{"$f":"'General Table'!D80","v":"Mauritania"},null,{"$f":"'General Table'!F80","v":4182.34},8.1999999999999993]
[{"$f":"'General Table'!A81","v":71},null,{"$f":"'General Table'!C81","v":562},{"$f":"'General Table'!D81","v":"Niger"},null,{"$f":"'General Table'!F81","v":19896.97},10.7]
[{"$f":"'General Table'!A82","v":72},null,{"$f":"'General Table'!C82","v":566},{"$f":"'General Table'!D82","v":"Nigeria"},null,{"$f":"'General Table'!F82","v":181181.74},13.6]
[{"$f":"'General Table'!A83","v":73},null,{"$f":"'General Table'!C83","v":686},{"$f":"'General Table'!D83","v":"Senegal"},null,{"$f":"'General Table'!F83","v":14976.99},6.6]
[{"$f":"'General Table'!A84","v":74},null,{"$f":"'General Table'!C84","v":694},{"$f":"'General Table'!D84","v":"Sierra Leone"},null,{"$f":"'General Table'!F84","v":7237.03},13.9]
[{"$f":"'General Table'!A85","v":75},null,{"$f":"'General Table'!C85","v":768},{"$f":"'General Table'!D85","v":"Togo"},null,{"$f":"'General Table'!F85","v":7416.8},9.3000000000000007]
[{"$f":"'General Table'!A86","v":76},null,{"$f":"'General Table'!C86","v":935},{"$f":"'General Table'!D86","v":"ASIA"},null,{"$f":"'General Table'!F86","v":4419897.5999999996},7]
[{"$f":"'General Table'!A87","v":77},null,{"$f":"'General Table'!C87","v":906},{"$f":"'General Table'!D87","v":"Eastern Asia"},null,{"$f":"'General Table'!F87","v":1635150.37},7.2]
[{"$f":"'General Table'!A88","v":78},null,{"$f":"'General Table'!C88","v":156},{"$f":"'General Table'!D88","v":"China"},null,{"$f":"'General Table'!F88","v":1397028.55},7]
[{"$f":"'General Table'!A89","v":79},null,{"$f":"'General Table'!C89","v":344},{"$f":"'General Table'!D89","v":"China, Hong Kong SAR"},null,{"$f":"'General Table'!F89","v":7245.7},6.4]
[{"$f":"'General Table'!A90","v":80},null,{"$f":"'General Table'!C90","v":446},{"$f":"'General Table'!D90","v":"China, Macao SAR"},null,{"$f":"'General Table'!F90","v":600.94000000000005},3.7]
[{"$f":"'General Table'!A91","v":81},null,{"$f":"'General Table'!C91","v":408},{"$f":"'General Table'!D91","v":"Dem. People's Republic of Korea"},null,{"$f":"'General Table'!F91","v":23485.759999999998},6.8]
[{"$f":"'General Table'!A92","v":82},null,{"$f":"'General Table'!C92","v":392},{"$f":"'General Table'!D92","v":"Japan"},null,{"$f":"'General Table'!F92","v":25243.919999999998},8.6]
[{"$f":"'General Table'!A93","v":83},null,{"$f":"'General Table'!C93","v":496},{"$f":"'General Table'!D93","v":"Mongolia"},null,{"$f":"'General Table'!F93","v":127974.96},9.9]
[{"$f":"'General Table'!A94","v":84},null,{"$f":"'General Table'!C94","v":410},{"$f":"'General Table'!D94","v":"Republic of Korea"},null,{"$f":"'General Table'!F94","v":2976.88},6.3]
[{"$f":"'General Table'!A95","v":85},null,{"$f":"'General Table'!C95","v":158},{"$f":"'General Table'!D95","v":"Other non-specified areas"},null,{"$f":"'General Table'!F95","v":50593.66},5.5]
[{"$f":"'General Table'!A96","v":86},null,{"$f":"'General Table'!C96","v":921},{"$f":"'General Table'!D96","v":"South-Central Asia"},null,{"$f":"'General Table'!F96","v":1892013.48},7]
[{"$f":"'General Table'!A97","v":87},null,{"$f":"'General Table'!C97","v":5500},{"$f":"'General Table'!D97","v":"Central Asia"},null,{"$f":"'General Table'!F97","v":68705.009999999995},6.7]
[{"$f":"'General Table'!A98","v":88},null,{"$f":"'General Table'!C98","v":398},{"$f":"'General Table'!D98","v":"Kazakhstan"},null,{"$f":"'General Table'!F98","v":17749.650000000001},8.9]
[{"$f":"'General Table'!A99","v":89},null,{"$f":"'General Table'!C99","v":417},{"$f":"'General Table'!D99","v":"Kyrgyzstan"},null,{"$f":"'General Table'!F99","v":5865.4},6.5]
[{"$f":"'General Table'!A100","v":90},null,{"$f":"'General Table'!C100","v":762},{"$f":"'General Table'!D100","v":"Tajikistan"},null,{"$f":"'General Table'!F100","v":8548.65},5.3]
[{"$f":"'General Table'!A101","v":91},null,{"$f":"'General Table'!C101","v":795},{"$f":"'General Table'!D101","v":"Turkmenistan"},null,{"$f":"'General Table'!F101","v":5565.28},7.2]
[{"$f":"'General Table'!A102","v":92},null,{"$f":"'General Table'!C102","v":860},{"$f":"'General Table'!D102","v":"Uzbekistan"},null,{"$f":"'General Table'!F102","v":30976.02},5.9]
[{"$f":"'General Table'!A103","v":93},null,{"$f":"'General Table'!C103","v":5501},{"$f":"'General Table'!D103","v":"Southern Asia"},null,{"$f":"'General Table'!F103","v":1823308.47},7.1]
[{"$f":"'General Table'!A104","v":94},null,{"$f":"'General Table'!C104","v":4},{"$f":"'General Table'!D104","v":"Afghanistan"},null,{"$f":"'General Table'!F104","v":33736.49},7.5]
[{"$f":"'General Table'!A105","v":95},null,{"$f":"'General Table'!C105","v":50},{"$f":"'General Table'!D105","v":"Bangladesh"},null,{"$f":"'General Table'!F105","v":161200.89000000001},5.4]
[{"$f":"'General Table'!A106","v":96},null,{"$f":"'General Table'!C106","v":64},{"$f":"'General Table'!D106","v":"Bhutan"},null,{"$f":"'General Table'!F106","v":787.39},6.1]
[{"$f":"'General Table'!A107","v":97},null,{"$f":"'General Table'!C107","v":356},{"$f":"'General Table'!D107","v":"India"},null,{"$f":"'General Table'!F107","v":1309053.98},7.3]
[{"$f":"'General Table'!A108","v":98},null,{"$f":"'General Table'!C108","v":364},{"$f":"'General Table'!D108","v":"Iran (Islamic Republic of)"},null,{"$f":"'General Table'!F108","v":79360.490000000005},4.7]
[{"$f":"'General Table'!A109","v":99},null,{"$f":"'General Table'!C109","v":462},{"$f":"'General Table'!D109","v":"Maldives"},null,{"$f":"'General Table'!F109","v":418.4},3.5]
[{"$f":"'General Table'!A110","v":100},null,{"$f":"'General Table'!C110","v":524},{"$f":"'General Table'!D110","v":"Nepal"},null,{"$f":"'General Table'!F110","v":28656.28},6.5]
[{"$f":"'General Table'!A111","v":101},null,{"$f":"'General Table'!C111","v":586},{"$f":"'General Table'!D111","v":"Pakistan"},null,{"$f":"'General Table'!F111","v":189380.51},7.5]
[{"$f":"'General Table'!A112","v":102},null,{"$f":"'General Table'!C112","v":144},{"$f":"'General Table'!D112","v":"Sri Lanka"},null,{"$f":"'General Table'!F112","v":20714.04},6.6]
[{"$f":"'General Table'!A113","v":103},null,{"$f":"'General Table'!C113","v":920},{"$f":"'General Table'!D113","v":"South-Eastern Asia"},null,{"$f":"'General Table'!F113","v":634609.85},6.7]
[{"$f":"'General Table'!A114","v":104},null,{"$f":"'General Table'!C114","v":96},{"$f":"'General Table'!D114","v":"Brunei Darussalam"},null,{"$f":"'General Table'!F114","v":417.54},3.4]
[{"$f":"'General Table'!A115","v":105},null,{"$f":"'General Table'!C115","v":116},{"$f":"'General Table'!D115","v":"Cambodia"},null,{"$f":"'General Table'!F115","v":15517.64},6.3]
[{"$f":"'General Table'!A116","v":106},null,{"$f":"'General Table'!C116","v":360},{"$f":"'General Table'!D116","v":"Indonesia"},null,{"$f":"'General Table'!F116","v":258162.11},7.1]
[{"$f":"'General Table'!A117","v":107},null,{"$f":"'General Table'!C117","v":418},{"$f":"'General Table'!D117","v":"Lao People's Democratic Republic"},null,{"$f":"'General Table'!F117","v":6663.97},7]
[{"$f":"'General Table'!A118","v":108},null,{"$f":"'General Table'!C118","v":458},{"$f":"'General Table'!D118","v":"Malaysia"},null,{"$f":"'General Table'!F118","v":30723.16},4.7]
[{"$f":"'General Table'!A119","v":109},null,{"$f":"'General Table'!C119","v":104},{"$f":"'General Table'!D119","v":"Myanmar"},null,{"$f":"'General Table'!F119","v":52403.67},8.1]
[{"$f":"'General Table'!A120","v":110},null,{"$f":"'General Table'!C120","v":608},{"$f":"'General Table'!D120","v":"Philippines"},null,{"$f":"'General Table'!F120","v":101716.36},6.4]
[{"$f":"'General Table'!A121","v":111},null,{"$f":"'General Table'!C121","v":702},{"$f":"'General Table'!D121","v":"Singapore"},null,{"$f":"'General Table'!F121","v":5535.26},4.7]
[{"$f":"'General Table'!A122","v":112},null,{"$f":"'General Table'!C122","v":764},{"$f":"'General Table'!D122","v":"Thailand"},null,{"$f":"'General Table'!F122","v":68657.600000000006},7.5]
[{"$f":"'General Table'!A123","v":113},null,{"$f":"'General Table'!C123","v":626},{"$f":"'General Table'!D123","v":"Timor-Leste"},null,{"$f":"'General Table'!F123","v":1240.98},5.9]
[{"$f":"'General Table'!A124","v":114},null,{"$f":"'General Table'!C124","v":704},{"$f":"'General Table'!D124","v":"Viet Nam"},null,{"$f":"'General Table'!F124","v":93571.57},5.8]
[{"$f":"'General Table'!A125","v":115},null,{"$f":"'General Table'!C125","v":922},{"$f":"'General Table'!D125","v":"Western Asia"},null,{"$f":"'General Table'!F125","v":258123.91},5.3]
[{"$f":"'General Table'!A126","v":116},null,{"$f":"'General Table'!C126","v":51},{"$f":"'General Table'!D126","v":"Armenia"},null,{"$f":"'General Table'!F126","v":2916.95},9.6999999999999993]
[{"$f":"'General Table'!A127","v":117},null,{"$f":"'General Table'!C127","v":31},{"$f":"'General Table'!D127","v":"Azerbaijan"},null,{"$f":"'General Table'!F127","v":9617.48},6.7]
[{"$f":"'General Table'!A128","v":118},null,{"$f":"'General Table'!C128","v":48},{"$f":"'General Table'!D128","v":"Bahrain"},null,{"$f":"'General Table'!F128","v":1371.86},2.2999999999999998]
[{"$f":"'General Table'!A129","v":119},null,{"$f":"'General Table'!C129","v":196},{"$f":"'General Table'!D129","v":"Cyprus"},null,{"$f":"'General Table'!F129","v":1160.99},6.8]
[{"$f":"'General Table'!A130","v":120},null,{"$f":"'General Table'!C130","v":268},{"$f":"'General Table'!D130","v":"Georgia"},null,{"$f":"'General Table'!F130","v":3951.52},13.1]
[{"$f":"'General Table'!A131","v":121},null,{"$f":"'General Table'!C131","v":368},{"$f":"'General Table'!D131","v":"Iraq"},null,{"$f":"'General Table'!F131","v":36115.65},5.3]
[{"$f":"'General Table'!A132","v":122},null,{"$f":"'General Table'!C132","v":376},{"$f":"'General Table'!D132","v":"Israel"},null,{"$f":"'General Table'!F132","v":8064.55},5.4]
[{"$f":"'General Table'!A133","v":123},null,{"$f":"'General Table'!C133","v":400},{"$f":"'General Table'!D133","v":"Jordan"},null,{"$f":"'General Table'!F133","v":9159.2999999999993},3.8]
[{"$f":"'General Table'!A134","v":124},null,{"$f":"'General Table'!C134","v":414},{"$f":"'General Table'!D134","v":"Kuwait"},null,{"$f":"'General Table'!F134","v":3935.79},2.6]
[{"$f":"'General Table'!A135","v":125},null,{"$f":"'General Table'!C135","v":422},{"$f":"'General Table'!D135","v":"Lebanon"},null,{"$f":"'General Table'!F135","v":5851.48},4.5999999999999996]
[{"$f":"'General Table'!A136","v":126},null,{"$f":"'General Table'!C136","v":512},{"$f":"'General Table'!D136","v":"Oman"},null,{"$f":"'General Table'!F136","v":4199.8100000000004},2.7]
[{"$f":"'General Table'!A137","v":127},null,{"$f":"'General Table'!C137","v":634},{"$f":"'General Table'!D137","v":"Qatar"},null,{"$f":"'General Table'!F137","v":2481.54},1.5]
[{"$f":"'General Table'!A138","v":128},null,{"$f":"'General Table'!C138","v":682},{"$f":"'General Table'!D138","v":"Saudi Arabia"},null,{"$f":"'General Table'!F138","v":31557.14},3.5]
[{"$f":"'General Table'!A139","v":129},null,{"$f":"'General Table'!C139","v":275},{"$f":"'General Table'!D139","v":"State of Palestine"},null,{"$f":"'General Table'!F139","v":4662.88},3.6]
[{"$f":"'General Table'!A140","v":130},null,{"$f":"'General Table'!C140","v":760},{"$f":"'General Table'!D140","v":"Syrian Arab Republic"},null,{"$f":"'General Table'!F140","v":18734.990000000002},5.4]
[{"$f":"'General Table'!A141","v":131},null,{"$f":"'General Table'!C141","v":792},{"$f":"'General Table'!D141","v":"Turkey"},null,{"$f":"'General Table'!F141","v":78271.47},5.8]
[{"$f":"'General Table'!A142","v":132},null,{"$f":"'General Table'!C142","v":784},{"$f":"'General Table'!D142","v":"United Arab Emirates"},null,{"$f":"'General Table'!F142","v":9154.2999999999993},1.5]
[{"$f":"'General Table'!A143","v":133},null,{"$f":"'General Table'!C143","v":887},{"$f":"'General Table'!D143","v":"Yemen"},null,{"$f":"'General Table'!F143","v":26916.21},6.8]
[{"$f":"'General Table'!A144","v":134},null,{"$f":"'General Table'!C144","v":908},{"$f":"'General Table'!D144","v":"EUROPE"},null,{"$f":"'General Table'!F144","v":740813.96},10.9]
[{"$f":"'General Table'!A145","v":135},null,{"$f":"'General Table'!C145","v":923},{"$f":"'General Table'!D145","v":"Eastern Europe"},null,{"$f":"'General Table'!F145","v":293243.71000000002},12.9]
[{"$f":"'General Table'!A146","v":136},null,{"$f":"'General Table'!C146","v":112},{"$f":"'General Table'!D146","v":"Belarus"},null,{"$f":"'General Table'!F146","v":9485.77},13.4]
[{"$f":"'General Table'!A147","v":137},null,{"$f":"'General Table'!C147","v":100},{"$f":"'General Table'!D147","v":"Bulgaria"},null,{"$f":"'General Table'!F147","v":7177.4},15]
[{"$f":"'General Table'!A148","v":138},null,{"$f":"'General Table'!C148","v":203},{"$f":"'General Table'!D148","v":"Czech Republic"},null,{"$f":"'General Table'!F148","v":10603.76},10.3]
[{"$f":"'General Table'!A149","v":139},null,{"$f":"'General Table'!C149","v":348},{"$f":"'General Table'!D149","v":"Hungary"},null,{"$f":"'General Table'!F149","v":9783.93},12.6]
[{"$f":"'General Table'!A150","v":140},null,{"$f":"'General Table'!C150","v":616},{"$f":"'General Table'!D150","v":"Poland"},null,{"$f":"'General Table'!F150","v":38265.230000000003},9.9]
[{"$f":"'General Table'!A151","v":141},null,{"$f":"'General Table'!C151","v":498},{"$f":"'General Table'!D151","v":"Republic of Moldova"},null,{"$f":"'General Table'!F151","v":4065.98},11.4]
[{"$f":"'General Table'!A152","v":142},null,{"$f":"'General Table'!C152","v":642},{"$f":"'General Table'!D152","v":"Romania"},null,{"$f":"'General Table'!F152","v":19876.62},12.4]
[{"$f":"'General Table'!A153","v":143},null,{"$f":"'General Table'!C153","v":643},{"$f":"'General Table'!D153","v":"Russian Federation"},null,{"$f":"'General Table'!F153","v":143888},13.4]
[{"$f":"'General Table'!A154","v":144},null,{"$f":"'General Table'!C154","v":703},{"$f":"'General Table'!D154","v":"Slovakia"},null,{"$f":"'General Table'!F154","v":5439.32},9.6999999999999993]
[{"$f":"'General Table'!A155","v":145},null,{"$f":"'General Table'!C155","v":804},{"$f":"'General Table'!D155","v":"Ukraine"},null,{"$f":"'General Table'!F155","v":44657.7},14.9]
[{"$f":"'General Table'!A156","v":146},null,{"$f":"'General Table'!C156","v":924},{"$f":"'General Table'!D156","v":"Northern Europe"},null,{"$f":"'General Table'!F156","v":103097.29},9.1999999999999993]
[{"$f":"'General Table'!A157","v":147},null,{"$f":"'General Table'!C157","v":830},{"$f":"'General Table'!D157","v":"Channel Islands"},null,{"$f":"'General Table'!F157","v":163.76},8.9]
[{"$f":"'General Table'!A158","v":148},null,{"$f":"'General Table'!C158","v":208},{"$f":"'General Table'!D158","v":"Denmark"},null,{"$f":"'General Table'!F158","v":5688.7},9.5]
[{"$f":"'General Table'!A159","v":149},null,{"$f":"'General Table'!C159","v":233},{"$f":"'General Table'!D159","v":"Estonia"},null,{"$f":"'General Table'!F159","v":1315.32},11.7]
[{"$f":"'General Table'!A160","v":150},null,{"$f":"'General Table'!C160","v":246},{"$f":"'General Table'!D160","v":"Finland"},null,{"$f":"'General Table'!F160","v":5481.97},9.5]
[{"$f":"'General Table'!A161","v":151},null,{"$f":"'General Table'!C161","v":352},{"$f":"'General Table'!D161","v":"Iceland"},null,{"$f":"'General Table'!F161","v":330.24},6.4]
[{"$f":"'General Table'!A162","v":152},null,{"$f":"'General Table'!C162","v":372},{"$f":"'General Table'!D162","v":"Ireland"},null,{"$f":"'General Table'!F162","v":4700.1099999999997},6.2]
[{"$f":"'General Table'!A163","v":153},null,{"$f":"'General Table'!C163","v":428},{"$f":"'General Table'!D163","v":"Latvia"},null,{"$f":"'General Table'!F163","v":1992.66},14.3]
[{"$f":"'General Table'!A164","v":154},null,{"$f":"'General Table'!C164","v":440},{"$f":"'General Table'!D164","v":"Lithuania"},null,{"$f":"'General Table'!F164","v":2931.93},13.5]
[{"$f":"'General Table'!A165","v":155},null,{"$f":"'General Table'!C165","v":578},{"$f":"'General Table'!D165","v":"Norway"},null,{"$f":"'General Table'!F165","v":5199.84},8.1999999999999993]
[{"$f":"'General Table'!A166","v":156},null,{"$f":"'General Table'!C166","v":752},{"$f":"'General Table'!D166","v":"Sweden"},null,{"$f":"'General Table'!F166","v":9763.57},9.5]
[{"$f":"'General Table'!A167","v":157},null,{"$f":"'General Table'!C167","v":826},{"$f":"'General Table'!D167","v":"United Kingdom"},null,{"$f":"'General Table'!F167","v":65397.08},9]
[{"$f":"'General Table'!A168","v":158},null,{"$f":"'General Table'!C168","v":925},{"$f":"'General Table'!D168","v":"Southern Europe"},null,{"$f":"'General Table'!F168","v":152440.65},9.8000000000000007]
[{"$f":"'General Table'!A169","v":159},null,{"$f":"'General Table'!C169","v":8},{"$f":"'General Table'!D169","v":"Albania"},null,{"$f":"'General Table'!F169","v":2923.35},6.8]
[{"$f":"'General Table'!A170","v":160},null,{"$f":"'General Table'!C170","v":70},{"$f":"'General Table'!D170","v":"Bosnia and Herzegovina"},null,{"$f":"'General Table'!F170","v":3535.96},10.4]
[{"$f":"'General Table'!A171","v":161},null,{"$f":"'General Table'!C171","v":191},{"$f":"'General Table'!D171","v":"Croatia"},null,{"$f":"'General Table'!F171","v":4236.0200000000004},12.4]
[{"$f":"'General Table'!A172","v":162},null,{"$f":"'General Table'!C172","v":300},{"$f":"'General Table'!D172","v":"Greece"},null,{"$f":"'General Table'!F172","v":11217.8},10.199999999999999]
[{"$f":"'General Table'!A173","v":163},null,{"$f":"'General Table'!C173","v":380},{"$f":"'General Table'!D173","v":"Italy"},null,{"$f":"'General Table'!F173","v":59504.21},10.199999999999999]
[{"$f":"'General Table'!A174","v":164},null,{"$f":"'General Table'!C174","v":470},{"$f":"'General Table'!D174","v":"Malta"},null,{"$f":"'General Table'!F174","v":427.62},8.6999999999999993]
[{"$f":"'General Table'!A175","v":165},null,{"$f":"'General Table'!C175","v":499},{"$f":"'General Table'!D175","v":"Montenegro"},null,{"$f":"'General Table'!F175","v":628.17999999999995},9.6999999999999993]
[{"$f":"'General Table'!A176","v":166},null,{"$f":"'General Table'!C176","v":620},{"$f":"'General Table'!D176","v":"Portugal"},null,{"$f":"'General Table'!F176","v":10418.469999999999},10.3]
[{"$f":"'General Table'!A177","v":167},null,{"$f":"'General Table'!C177","v":688},{"$f":"'General Table'!D177","v":"Serbia"},null,{"$f":"'General Table'!F177","v":8851.2800000000007},12.4]
[{"$f":"'General Table'!A178","v":168},null,{"$f":"'General Table'!C178","v":705},{"$f":"'General Table'!D178","v":"Slovenia"},null,{"$f":"'General Table'!F178","v":2074.79},9.1999999999999993]
[{"$f":"'General Table'!A179","v":169},null,{"$f":"'General Table'!C179","v":724},{"$f":"'General Table'!D179","v":"Spain"},null,{"$f":"'General Table'!F179","v":46397.66},8.6]
[{"$f":"'General Table'!A180","v":170},null,{"$f":"'General Table'!C180","v":807},{"$f":"'General Table'!D180","v":"TFYR Macedonia"},null,{"$f":"'General Table'!F180","v":2079.31},9.6]
[{"$f":"'General Table'!A181","v":171},null,{"$f":"'General Table'!C181","v":926},{"$f":"'General Table'!D181","v":"Western Europe"},null,{"$f":"'General Table'!F181","v":192032.31},9.6999999999999993]
[{"$f":"'General Table'!A182","v":172},null,{"$f":"'General Table'!C182","v":40},{"$f":"'General Table'!D182","v":"Austria"},null,{"$f":"'General Table'!F182","v":8678.66},9.4]
[{"$f":"'General Table'!A183","v":173},null,{"$f":"'General Table'!C183","v":56},{"$f":"'General Table'!D183","v":"Belgium"},null,{"$f":"'General Table'!F183","v":11287.94},9.8000000000000007]
[{"$f":"'General Table'!A184","v":174},null,{"$f":"'General Table'!C184","v":250},{"$f":"'General Table'!D184","v":"France"},null,{"$f":"'General Table'!F184","v":64457.2},8.8000000000000007]
[{"$f":"'General Table'!A185","v":175},null,{"$f":"'General Table'!C185","v":276},{"$f":"'General Table'!D185","v":"Germany"},null,{"$f":"'General Table'!F185","v":81707.789999999994},10.9]
[{"$f":"'General Table'!A186","v":176},null,{"$f":"'General Table'!C186","v":442},{"$f":"'General Table'!D186","v":"Luxembourg"},null,{"$f":"'General Table'!F186","v":566.74},7.4]
[{"$f":"'General Table'!A187","v":177},null,{"$f":"'General Table'!C187","v":528},{"$f":"'General Table'!D187","v":"Netherlands"},null,{"$f":"'General Table'!F187","v":16938.5},8.3000000000000007]
[{"$f":"'General Table'!A188","v":178},null,{"$f":"'General Table'!C188","v":756},{"$f":"'General Table'!D188","v":"Switzerland"},null,{"$f":"'General Table'!F188","v":8319.77},8.1]
[{"$f":"'General Table'!A189","v":179},null,{"$f":"'General Table'!C189","v":904},{"$f":"'General Table'!D189","v":"LATIN AMERICA AND THE CARIBBEAN"},null,{"$f":"'General Table'!F189","v":632380.82999999996},5.8]
[{"$f":"'General Table'!A190","v":180},null,{"$f":"'General Table'!C190","v":915},{"$f":"'General Table'!D190","v":"Caribbean"},null,{"$f":"'General Table'!F190","v":43309.61},7.6]
[{"$f":"'General Table'!A191","v":181},null,{"$f":"'General Table'!C191","v":28},{"$f":"'General Table'!D191","v":"Antigua and Barbuda"},null,{"$f":"'General Table'!F191","v":99.92},5.8]
[{"$f":"'General Table'!A192","v":182},null,{"$f":"'General Table'!C192","v":533},{"$f":"'General Table'!D192","v":"Aruba"},null,{"$f":"'General Table'!F192","v":104.34},8.3000000000000007]
[{"$f":"'General Table'!A193","v":183},null,{"$f":"'General Table'!C193","v":44},{"$f":"'General Table'!D193","v":"Bahamas"},null,{"$f":"'General Table'!F193","v":386.84},6]
[{"$f":"'General Table'!A194","v":184},null,{"$f":"'General Table'!C194","v":52},{"$f":"'General Table'!D194","v":"Barbados"},null,{"$f":"'General Table'!F194","v":284.22000000000003},10.5]
[{"$f":"'General Table'!A195","v":185},null,{"$f":"'General Table'!C195","v":192},{"$f":"'General Table'!D195","v":"Cuba"},null,{"$f":"'General Table'!F195","v":11461.43},7.6]
[{"$f":"'General Table'!A196","v":186},null,{"$f":"'General Table'!C196","v":531},{"$f":"'General Table'!D196","v":"Curaçao"},null,{"$f":"'General Table'!F196","v":158.01},8.1999999999999993]
[{"$f":"'General Table'!A197","v":187},null,{"$f":"'General Table'!C197","v":214},{"$f":"'General Table'!D197","v":"Dominican Republic"},null,{"$f":"'General Table'!F197","v":10528.39},6]
[{"$f":"'General Table'!A198","v":188},null,{"$f":"'General Table'!C198","v":308},{"$f":"'General Table'!D198","v":"Grenada"},null,{"$f":"'General Table'!F198","v":106.82},7.2]
[{"$f":"'General Table'!A199","v":189},null,{"$f":"'General Table'!C199","v":312},{"$f":"'General Table'!D199","v":"Guadeloupe"},null,{"$f":"'General Table'!F199","v":450.42},7.6]
[{"$f":"'General Table'!A200","v":190},null,{"$f":"'General Table'!C200","v":332},{"$f":"'General Table'!D200","v":"Haiti"},null,{"$f":"'General Table'!F200","v":10711.06},8.9]
[{"$f":"'General Table'!A201","v":191},null,{"$f":"'General Table'!C201","v":388},{"$f":"'General Table'!D201","v":"Jamaica"},null,{"$f":"'General Table'!F201","v":2871.93},6.8]
[{"$f":"'General Table'!A202","v":192},null,{"$f":"'General Table'!C202","v":474},{"$f":"'General Table'!D202","v":"Martinique"},null,{"$f":"'General Table'!F202","v":385.84},8.1]
[{"$f":"'General Table'!A203","v":193},null,{"$f":"'General Table'!C203","v":630},{"$f":"'General Table'!D203","v":"Puerto Rico"},null,{"$f":"'General Table'!F203","v":3673.73},7.9]
[{"$f":"'General Table'!A204","v":194},null,{"$f":"'General Table'!C204","v":662},{"$f":"'General Table'!D204","v":"Saint Lucia"},null,{"$f":"'General Table'!F204","v":177.21},7.4]
[{"$f":"'General Table'!A205","v":195},null,{"$f":"'General Table'!C205","v":670},{"$f":"'General Table'!D205","v":"Saint Vincent and the Grenadines"},null,{"$f":"'General Table'!F205","v":109.46},7]
[{"$f":"'General Table'!A206","v":196},null,{"$f":"'General Table'!C206","v":780},{"$f":"'General Table'!D206","v":"Trinidad and Tobago"},null,{"$f":"'General Table'!F206","v":1360.09},9.1999999999999993]
[{"$f":"'General Table'!A207","v":197},null,{"$f":"'General Table'!C207","v":850},{"$f":"'General Table'!D207","v":"United States Virgin Islands"},null,{"$f":"'General Table'!F207","v":104.98},7.7]
[{"$f":"'General Table'!A208","v":198},null,{"$f":"'General Table'!C208","v":916},{"$f":"'General Table'!D208","v":"Central America"},null,{"$f":"'General Table'!F208","v":172635.11},4.9000000000000004]
[{"$f":"'General Table'!A209","v":199},null,{"$f":"'General Table'!C209","v":84},{"$f":"'General Table'!D209","v":"Belize"},null,{"$f":"'General Table'!F209","v":359.29},5.6]
[{"$f":"'General Table'!A210","v":200},null,{"$f":"'General Table'!C210","v":188},{"$f":"'General Table'!D210","v":"Costa Rica"},null,{"$f":"'General Table'!F210","v":4807.8500000000004},4.7]
[{"$f":"'General Table'!A211","v":201},null,{"$f":"'General Table'!C211","v":222},{"$f":"'General Table'!D211","v":"El Salvador"},null,{"$f":"'General Table'!F211","v":6312.48},6.6]
[{"$f":"'General Table'!A212","v":202},null,{"$f":"'General Table'!C212","v":320},{"$f":"'General Table'!D212","v":"Guatemala"},null,{"$f":"'General Table'!F212","v":16252.43},5]
[{"$f":"'General Table'!A213","v":203},null,{"$f":"'General Table'!C213","v":340},{"$f":"'General Table'!D213","v":"Honduras"},null,{"$f":"'General Table'!F213","v":8960.83},4.8]
[{"$f":"'General Table'!A214","v":204},null,{"$f":"'General Table'!C214","v":484},{"$f":"'General Table'!D214","v":"Mexico"},null,{"$f":"'General Table'!F214","v":125890.95},4.8]
[{"$f":"'General Table'!A215","v":205},null,{"$f":"'General Table'!C215","v":558},{"$f":"'General Table'!D215","v":"Nicaragua"},null,{"$f":"'General Table'!F215","v":6082.04},4.8]
[{"$f":"'General Table'!A216","v":206},null,{"$f":"'General Table'!C216","v":591},{"$f":"'General Table'!D216","v":"Panama"},null,{"$f":"'General Table'!F216","v":3969.25},5]
[{"$f":"'General Table'!A217","v":207},null,{"$f":"'General Table'!C217","v":931},{"$f":"'General Table'!D217","v":"South America"},null,{"$f":"'General Table'!F217","v":416436.11},6.1]
[{"$f":"'General Table'!A218","v":208},null,{"$f":"'General Table'!C218","v":32},{"$f":"'General Table'!D218","v":"Argentina"},null,{"$f":"'General Table'!F218","v":43417.77},7.6]
[{"$f":"'General Table'!A219","v":209},null,{"$f":"'General Table'!C219","v":68},{"$f":"'General Table'!D219","v":"Bolivia (Plurinational State of)"},null,{"$f":"'General Table'!F219","v":10724.71},7.6]
[{"$f":"'General Table'!A220","v":210},null,{"$f":"'General Table'!C220","v":76},{"$f":"'General Table'!D220","v":"Brazil"},null,{"$f":"'General Table'!F220","v":205962.11},5.9]
[{"$f":"'General Table'!A221","v":211},null,{"$f":"'General Table'!C221","v":152},{"$f":"'General Table'!D221","v":"Chile"},null,{"$f":"'General Table'!F221","v":17762.68},5.9]
[{"$f":"'General Table'!A222","v":212},null,{"$f":"'General Table'!C222","v":170},{"$f":"'General Table'!D222","v":"Colombia"},null,{"$f":"'General Table'!F222","v":48228.7},5.8]
[{"$f":"'General Table'!A223","v":213},null,{"$f":"'General Table'!C223","v":218},{"$f":"'General Table'!D223","v":"Ecuador"},null,{"$f":"'General Table'!F223","v":16144.37},5.2]
[{"$f":"'General Table'!A224","v":214},null,{"$f":"'General Table'!C224","v":254},{"$f":"'General Table'!D224","v":"French Guiana"},null,{"$f":"'General Table'!F224","v":268.69},3.1]
[{"$f":"'General Table'!A225","v":215},null,{"$f":"'General Table'!C225","v":328},{"$f":"'General Table'!D225","v":"Guyana"},null,{"$f":"'General Table'!F225","v":768.51},8.1]
[{"$f":"'General Table'!A226","v":216},null,{"$f":"'General Table'!C226","v":600},{"$f":"'General Table'!D226","v":"Paraguay"},null,{"$f":"'General Table'!F226","v":6639.12},5.6]
[{"$f":"'General Table'!A227","v":217},null,{"$f":"'General Table'!C227","v":604},{"$f":"'General Table'!D227","v":"Peru"},null,{"$f":"'General Table'!F227","v":31376.67},5.6]
[{"$f":"'General Table'!A228","v":218},null,{"$f":"'General Table'!C228","v":740},{"$f":"'General Table'!D228","v":"Suriname"},null,{"$f":"'General Table'!F228","v":553.21},7.1]
[{"$f":"'General Table'!A229","v":219},null,{"$f":"'General Table'!C229","v":858},{"$f":"'General Table'!D229","v":"Uruguay"},null,{"$f":"'General Table'!F229","v":3431.55},9.3000000000000007]
[{"$f":"'General Table'!A230","v":220},null,{"$f":"'General Table'!C230","v":862},{"$f":"'General Table'!D230","v":"Venezuela (Bolivarian Republic of)"},null,{"$f":"'General Table'!F230","v":31155.13},5.5]
[{"$f":"'General Table'!A231","v":221},null,{"$f":"'General Table'!C231","v":905},{"$f":"'General Table'!D231","v":"NORTHERN AMERICA"},null,{"$f":"'General Table'!F231","v":356003.54},8.1]
[{"$f":"'General Table'!A232","v":222},null,{"$f":"'General Table'!C232","v":124},{"$f":"'General Table'!D232","v":"Canada"},null,{"$f":"'General Table'!F232","v":35949.71},7.3]
[{"$f":"'General Table'!A233","v":223},null,{"$f":"'General Table'!C233","v":840},{"$f":"'General Table'!D233","v":"United States of America"},null,{"$f":"'General Table'!F233","v":319929.15999999997},8.1999999999999993]
[{"$f":"'General Table'!A234","v":224},null,{"$f":"'General Table'!C234","v":909},{"$f":"'General Table'!D234","v":"OCEANIA"},null,{"$f":"'General Table'!F234","v":39542.980000000003},6.7]
[{"$f":"'General Table'!A235","v":225},null,{"$f":"'General Table'!C235","v":927},{"$f":"'General Table'!D235","v":"Australia/New Zealand"},null,{"$f":"'General Table'!F235","v":28414.09},6.7]
[{"$f":"'General Table'!A236","v":226},null,{"$f":"'General Table'!C236","v":36},{"$f":"'General Table'!D236","v":"Australia"},null,{"$f":"'General Table'!F236","v":23799.56},6.6]
[{"$f":"'General Table'!A237","v":227},null,{"$f":"'General Table'!C237","v":554},{"$f":"'General Table'!D237","v":"New Zealand"},null,{"$f":"'General Table'!F237","v":4614.53},6.9]
[{"$f":"'General Table'!A238","v":228},null,{"$f":"'General Table'!C238","v":928},{"$f":"'General Table'!D238","v":"Melanesia"},null,{"$f":"'General Table'!F238","v":9933.15},7]
[{"$f":"'General Table'!A239","v":229},null,{"$f":"'General Table'!C239","v":242},{"$f":"'General Table'!D239","v":"Fiji"},null,{"$f":"'General Table'!F239","v":892.15},6.8]
[{"$f":"'General Table'!A240","v":230},null,{"$f":"'General Table'!C240","v":540},{"$f":"'General Table'!D240","v":"New Caledonia"},null,{"$f":"'General Table'!F240","v":269.08999999999997},6.7]
[{"$f":"'General Table'!A241","v":231},null,{"$f":"'General Table'!C241","v":598},{"$f":"'General Table'!D241","v":"Papua New Guinea"},null,{"$f":"'General Table'!F241","v":7919.83},7.2]
[{"$f":"'General Table'!A242","v":232},null,{"$f":"'General Table'!C242","v":90},{"$f":"'General Table'!D242","v":"Solomon Islands"},null,{"$f":"'General Table'!F242","v":587.48},5.0999999999999996]
[{"$f":"'General Table'!A243","v":233},null,{"$f":"'General Table'!C243","v":548},{"$f":"'General Table'!D243","v":"Vanuatu"},null,{"$f":"'General Table'!F243","v":264.60000000000002},4.8]
[{"$f":"'General Table'!A244","v":234},null,{"$f":"'General Table'!C244","v":954},{"$f":"'General Table'!D244","v":"Micronesia"},null,{"$f":"'General Table'!F244","v":519},5.5]
[{"$f":"'General Table'!A245","v":235},null,{"$f":"'General Table'!C245","v":316},{"$f":"'General Table'!D245","v":"Guam"},null,{"$f":"'General Table'!F245","v":161.80000000000001},4.9000000000000004]
[{"$f":"'General Table'!A246","v":236},null,{"$f":"'General Table'!C246","v":296},{"$f":"'General Table'!D246","v":"Kiribati"},null,{"$f":"'General Table'!F246","v":112.41},7.1]
[{"$f":"'General Table'!A247","v":237},null,{"$f":"'General Table'!C247","v":583},{"$f":"'General Table'!D247","v":"Micronesia (Fed. States of)"},null,{"$f":"'General Table'!F247","v":104.43},6.2]
[{"$f":"'General Table'!A248","v":238},null,{"$f":"'General Table'!C248","v":957},{"$f":"'General Table'!D248","v":"Polynesia"},null,{"$f":"'General Table'!F248","v":676.75},5.4]
[{"$f":"'General Table'!A249","v":239},null,{"$f":"'General Table'!C249","v":258},{"$f":"'General Table'!D249","v":"French Polynesia"},null,{"$f":"'General Table'!F249","v":277.69},5.2]
[{"$f":"'General Table'!A250","v":240},null,{"$f":"'General Table'!C250","v":882},{"$f":"'General Table'!D250","v":"Samoa"},null,{"$f":"'General Table'!F250","v":193.76},5.0999999999999996]
[{"$f":"'General Table'!A251","v":241},null,{"$f":"'General Table'!C251","v":776},{"$f":"'General Table'!D251","v":"Tonga"},null,{"$f":"'General Table'!F251","v":106.36},6.1]

{"sheet":"General Table","index":5,"n_rows":252,"n_cols":74,"rows_kept":252,"cut":false,"hidden":true,"merged":[[3,27,3,36],[8,19,8,20],[8,52,8,53],[7,3,9,3],[7,4,9,4],[7,5,9,5],[8,8,8,9],[8,6,8,7],[8,54,8,55],[7,8,7,59],[8,56,8,57],[8,58,8,59],[8,27,8,31],[8,32,8,36],[8,37,8,51],[8,23,8,24],[8,25,8,26],[8,21,8,22],[8,10,8,11],[8,17,8,18]]}
[null,null,null,"MSF-OCBA. Emergency Preparedness"]
[null,null,null,"Total population (both sexes combined) by five-year age group, major area, region and country",null,null,null,null,null,null,null,null,null,null,null,"UN tables",null,null,null,null,null,null,null,null,null,null,null,"File POP/7-1: Total population (both sexes combined) by five-year age group, major area, region and country, 1950-2100 (thousands)"]
[null,null,null,"Reference date (as of 1 July)",null,null,null,null,null,null,null,null,null,null,null,"Calculated from UN tables",null,null,null,null,null,null,null,null,null,null,null,"File POP/15-1: Annual total population (both sexes combined) by five-year age group, major area, region and country, 1950-2100 (thousands)"]
[null,null,null,"Source: United Nations, Department of Economic and Social Affairs, Population Division (2017). World Population Prospects: The 2017 Revision, DVD Edition.",null,null,null,null,null,null,null,null,null,null,null,null,null,null,null,null,null,null,null,null,null,null,null,"File POP/8-1: Total population (both sexes combined) by broad age group, major area, region and country, 1950-2100 (thousands)"]
[]
[]
[null,null,null,1,2,3,4,5,6,7,8,9,10,11,12,13,14,15,16,17,18,19,20,21,22,23,24,25,26,27,28,29,30,31,32,33,34,35,36,37,38,39,40,41,42,43,44,45,46,47,48,49,50,51,52,53,54,55,56,57,58,59,60,61,62,63,64,65,66,67,68,69,70,71]
[null,null,null,"Major area, region, country","Notes","Total Population (Thousands)",null,null,"Total population, both sexes combined, by five-year age group (thousands)"]
[null,null,null,null,null,null,"0-1 y.o (<2 y.o.)",null,"0-4 y.o (<5 y.o.)",null,"0-14 y.o (<15y.o.)",null,null,null,null,null,null,"5-9",null,"10-14",null,"5-14",null,"<18 y.o",null,">=18 y.o.",null,"15-29 y.o.",null,null,null,null,"30-44 y.o.",null,null,null,null,">=45 y.o.",null,null,null,null,null,null,null,null,null,null,null,null,null,null,"15-49",null,">=50 y.o.",null,"5-17 y.o.",null,"18-49 y.o."]
[null,"Order","Code",null,null,null,"#","%","#","%","#","%","5-10","4-5","4-6","5-6","6-9","#","%","#","%","#","%","#","%","#","%","15-19","20-24","25-29","#","%","30-34","35-39","40-44","#","%","45-49","%","50-54","55-59","60-64","65-69","70-74","75-79","80-84","85-89","90-94","95-99","+100 (>=100)","#","%","#","%","#","%","#","%","#","%"]
[1,null,900,"WORLD",null,7383008.8200000003,272101.8,{"$f":"G11/F11","v":3.6855136792319311E-2},673649.68,{"$f":"I11/F11","v":9.1243244647783051E-2},1930532.35,{"$f":"K11/F11","v":0.26148314285773805},769324.51,264328.53999999998,394589.64,{"$f":"O11-N11","v":130261.10000000003},512920.74,644476,{"$f":"R11/F11","v":8.7291782484962541E-2},612407,{"$f":"T11/F11","v":8.2948160422216588E-2},1256882.67,{"$f":"V11/F11","v":0.170239898209955},2287093,{"$f":"X11/F11","v":0.30977790434225705},5095915.54,{"$f":"Z11/F11","v":0.69022205773282552},593639,600867,612403,{"$f":"AB11+AC11+AD11","v":1806909},{"$f":"AE11/F11","v":0.2447388380608761},553200,500817,486172,{"$f":"AG11+AH11+AI11","v":1540189},{"$f":"AJ11/F11","v":0.20861264527109152},455906,{"$f":"AL11/F11","v":6.1750705046563929E-2},403243,340228,294105,216506,153908,115532,71831,37295,13475,2917,434,{"$f":"SUM(AN11:AX11)+AL11","v":2105380},{"$f":"AY11/F11","v":0.28516558104287892},{"$f":"AE11+AJ11+AL11","v":3803004},{"$f":"BA11/F11","v":0.5151021883785315},{"$f":"SUM(AN11:AX11)","v":1649474},{"$f":"BC11/F11","v":0.22341487599631499},{"$f":"X11-I11","v":1613443.3199999998},{"$f":"BE11/F11","v":0.21853465969447397},{"$f":"Z11-BC11","v":3446441.54},{"$f":"BG11/F11","v":0.46680718173651048}]
[2,null,901,"More developed regions","a",1253206.55,27029.13,{"$f":"G12/F12","v":2.1567976962776007E-2},69120.509999999995,5.5154922386896232E-2,206040.6,0.16441072702660228,83389.98,28245.85,42319.79,{"$f":"O12-N12","v":14073.940000000002},55667.27,69791,5.5689941933354879E-2,67129,5.3565790890575858E-2,136920.09,0.10925580463970604,246668,0.19682948513156109,1006538.32,0.80317033133923532,68954,77519,85019,{"$f":"AB12+AC12+AD12","v":231492},0.18471974950976755,85495,84740,86789,{"$f":"AG12+AH12+AI12","v":257024},0.20509308700947979,86118,6.8718121525936801E-2,89169,85009,77782,67253,50564,43790,30421,18970,7683,1647,243,{"$f":"SUM(AN12:AX12)+AL12","v":558649},0.44577567839874438,574634,0.45853095804518418,472531,0.37705755687280756,{"$f":"X12-I12","v":177547.49},0.14167456274466486,534007.31999999995,0.4261127744664277]
[3,null,902,"Less developed regions","b",6129802.2699999996,245072.67,3.9980518001276416E-2,604529.18000000005,9.8621318171817657E-2,1724491.75,0.28132909905428322,685934.54,236082.69,352269.86,116187.16999999998,457253.47,574685,9.3752616265059402E-2,545278,8.895523476648784E-2,1119962.58,0.18270778251383957,2040425,0.33286962778327922,4089377.21,0.6671303624284769,524685,523348,527384,1575417,0.25700943205138654,467704,416077,399384,1283165,0.20933220085743484,369788,6.032625257910644E-2,314074,255219,216323,149252,103344,71742,41410,18325,5793,1270,190,1546730,0.25232950948024629,3228370,0.52666788548792787,{"$f":"SUM(AN13:AX13)","v":1176942},0.19200325690113984,1435895.8199999998,0.23424830961146156,2912435.21,0.47512710552733706]
[4,null,941,"Least developed countries","c",956631.11,58057.57,6.0689611066485176E-2,140770.35999999999,0.14715218701177299,384031.72,0.40144180550431813,151748.17000000001,53533.13,79541.23,26008.1,101139.44,127648,0.13343492456564579,115614,0.12085536294131183,243261.36,0.25428961849254517,447000,0.46726475370427795,509630.83,0.53273495360191669,102145,88188,75578,265911,0.27796608036299386,65694,54031,44502,164227,0.17167223424293612,37041,3.8720254456286705E-2,30128,23462,17920,13544,9572,5933,3177,1267,347,61,9,142461,0.14891947220909427,467179,0.4883585690622167,105420,0.11019921775280755,306229.64,0.32011256669250493,404210.83,0.42253573584910908]
[5,null,934,"Less developed regions, excluding least developed countries","d",5173171.17,187015.1,3.615095921908186E-2,463758.81,8.9646909943635208E-2,1340460.03,0.25911766418508053,534186.37,182549.56,272728.63,90179.07,356114.03,447037,8.6414499986475421E-2,429664,8.3056211727863621E-2,876701.22,0.16947075424144528,1593425,0.30801706489831848,3579746.38,0.69198297569573752,422540,435160,451806,1309506,0.25313409453644659,402010,362046,354881,1118937,0.21629614857688925,332747,6.4321668289201425E-2,283946,231757,198402,135708,93772,65809,38233,17058,5446,1208,181,1404267,0.27145187233385126,2761190,0.5337519114025373,1071520,0.20713020404464985,1129666.19,0.21837015495468323,2508226.38,0.48485277165108764]
[6,null,948,"Less developed regions, excluding China",null,4701441.32,209969.44,4.46606531292408E-2,517312.56,0.11003275906036405,1473300.93,0.31337218306491588,586049.4,201750.73,301027.89,99277.16,390692.16,491037,0.10444392827176666,464951,9.8895417033515148E-2,955988.37,0.20333942400455185,1741103,0.37033387880293694,2960338.63,0.62966618713428923,441954,419952,395472,1257378,0.26744521826766093,363030,317386,278298,958714,0.20391916749478858,242944,5.1674366106945258E-2,209311,172863,134817,95600,67759,46084,26121,11781,3796,838,134,1012048,0.21526334821934986,2459036,0.52303875186939475,769104,0.16358898211240461,1223790.44,0.26030111974257286,2191234.63,0.4660772050218846]
[7,null,1503,"High-income countries","e",1180060.96,25346.75,2.1479186973527197E-2,65104.56,5.5170505767769829E-2,197534.09,0.16739312348745103,80006.820000000007,26806.34,40232.160000000003,13425.820000000003,53406.2,66832,5.663436234684012E-2,65597,5.5587806243501188E-2,132429.53,0.1122226177196812,237997,0.20168195378652304,942063.95,0.79831803773933852,68564,75025,78728,222317,0.18839450463643845,81430,81696,84002,247128,0.20941968964044028,83603,7.0846340006028172E-2,82775,76963,68936,61668,46834,37974,27737,17257,7430,1659,247,513083,0.43479363981331948,553048,0.46866053428290688,429480,0.36394729980729135,172892.44,0.14651144801875321,512583.94999999995,0.43437073793204717]
[8,null,1517,"Middle-income countries","e",5558263.9800000004,203777.16,3.6662015466203172E-2,504903.9,9.0838416782068707E-2,1456904.92,0.2621151001899697,580565.46,198530.79,296570.40999999997,98039.619999999966,387034.97,485905,8.7420281179232506E-2,466097,8.3856578542712529E-2,952001.02,0.17127668340790103,1729844,0.31122019505090148,3828419.56,0.68877972938593679,455397,467271,484649,1407317,0.25319362395594602,430449,385582,374315,1190346,0.21415787452398041,349646,6.290561248226284E-2,302426,248401,213867,146012,100768,73728,42190,19352,5884,1235,185,1503694,0.27053303071078677,2947309,0.5302571109621893,1154048,0.20762741822852393,1224940.1000000001,0.22038177826883279,2674371.56,0.4811523111574128]
[9,null,1502,"Upper-middle-income countries","e",2588362.98,74836.850000000006,2.8912811139031207E-2,185151.94,7.1532447894923926E-2,533256.52,0.2060207645219837,211637.87,72572.460000000006,108333.53,35761.069999999992,141016.81,177131,6.8433601225435542E-2,170974,6.6054877666346476E-2,348104.59,0.13448832049050555,635803,0.24563904093544098,1952560.27,0.75436107110448625,174030,199086,232280,605396,0.23389146139000952,199974,184915,198783,583672,0.22549851180455377,196167,7.578805658857013E-2,169209,138128,127924,86315,58969,45183,26795,12557,3860,817,116,866040,0.33458985725410118,1385235,0.53517802978313345,669873,0.2588018006655311,450651.06,0.17410659304051707,1282687.27,0.4955592704389552]
[10,null,1501,"Lower-middle-income countries","e",2969901,128940.32,4.3415696348127433E-2,319751.96000000002,0.10766418139863922,923648.4,0.31100309404252868,368927.59,125958.34,188236.88,62278.540000000008,246018.17,308774,0.10396777535682165,295123,9.9371325845541647E-2,603896.43999999994,0.20333891264388945,1094042,0.36837658898394254,1875859.29,0.63162350866241002,281367,268186,252369,801922,0.27001640795433923,230475,200668,175532,{"$f":"AG20+AH20+AI20","v":606675},0.20427448591720734,153479,5.1678153581550361E-2,133217,110273,85943,59698,41799,28545,15395,6795,2024,418,69,637655,0.21470581005898851,1562076,0.52596904745309692,484176,0.16302765647743814,774290.04,0.26071240758530334,1391683.29,0.46859585218497185]
[11,null,1500,"Low-income countries","e",641858.61,42880.55,6.6806847071818512E-2,103397.44,0.16109068007983876,275365.28000000003,0.42901236457667841,108459.45,38893.65,57640.41,18746.760000000002,72284.259999999995,91494,0.14254541198722878,80473,0.12537496381017621,171967.85,0.26792170007659477,318385,0.49603603510125072,323473.53999999998,0.50396385584046299,69451,58368,48841,176660,0.27523195490047253,41142,33352,27661,102155,0.1591549889780243,22464,3.4998362022439805E-2,17863,14713,11178,8733,6238,3779,1869,666,152,20,2,87677,0.13659861943738669,301279,0.46938530590093669,65213,0.10160025741494688,214987.56,0.33494535502141198,258260.53999999998,0.40236359842551617]
[12,null,947,"Sub-Saharan Africa","f",969234.25,66177.679999999993,6.8278313524310547E-2,158928.35999999999,0.16397311589019886,417500.19,0.43075261733683062,163925.97,59335.53,87797.88,28462.350000000006,109230.74,138491,0.14288702653667057,120081,0.12389265030615663,258571.84,0.26677951176405496,481332,0.49661059748971931,487901.79,0.50338892790881051,103123,87685,75195,266003,0.27444655407090701,63916,52205,41826,157947,0.16296060524068356,33196,3.4249718269860972E-2,26782,21539,16786,12366,8491,5036,2483,872,202,29,3,127785,0.13184119318936574,457146,0.47165687758145153,94589,9.7591474919504748E-2,322403.64,0.33263748159952045,393312.79,0.4057974529893057]
[13,null,903,"AFRICA",null,1194369.9099999999,78084.2,6.5376898183913554E-2,186990.41,0.15655988017983474,490264.55,0.41047965617285187,191922.34,69530.09,102843.98,33313.89,127845.28,162115,0.13573265589050215,141159,0.11818700288589823,303274.14,0.25391977599301713,565981,0.4738741283259556,628389.1,0.52612603075373865,122872,107639,94837,325348,0.2724013701919199,81752,67495,54631,203878,0.17069920992902443,44439,3.7207065941572491E-2,36523,29574,23071,16902,11602,7248,3763,1379,327,49,4,174881,0.14642113681514299,573665,0.4803076460625168,130442,0.10921407087357049,378990.58999999997,0.3173142481461208,497947.1,0.4169119598801681]
[14,null,910,"Eastern Africa",null,399458.03,26771.61,6.7019831845663486E-2,64685.58,0.16193335755448451,173280.85,0.43378987775011058,68339.759999999995,24416.37,36208.06,11791.689999999999,45549.48,57617,0.14423793157944528,50978,0.12761791270036554,108595.27,0.27185652019562606,200679,0.50237818476198859,198778.6,0.49762073877949076,44247,37184,31392,112823,0.28244018526802428,26299,21029,16555,63883,0.15992418527673607,12814,3.2078463912716938E-2,10113,8141,6381,4834,3371,2105,1151,435,107,16,1,49469,0.12384029431076901,189520,0.47444283445747726,36655,9.176183039805208E-2,135993.41999999998,0.34044482720750407,162123.6,0.40585890838143873]
[15,null,108,"Burundi",null,10199.27,778.87,7.6365269279075859E-2,1853.26,0.18170516125173664,4564.45,0.44752712694143792,1773.12,675.19,991.52,316.32999999999993,1181.17,1512,0.1482459038735125,1199,0.11755743303197189,2711.19,0.26582196568970129,5201,0.50993845637972124,4998.54,0.49008801610311326,1044,979,851,2874,0.28178487283893844,657,478,347,{"$f":"AG25+AH25+AI25","v":1482},0.14530451689189519,323,3.1668933168746388E-2,282,245,175,102,70,46,25,10,2,0,0,1280,0.12549917788233864,4679,0.45875832289958007,957,9.3830244713592248E-2,3347.74,0.3282332951279846,4041.54,0.39625777138952101]
[16,null,174,"Comoros",null,777.42,48.62,6.2540197062077127E-2,117.26,0.15083223997324485,312.07,0.4014175091970878,122.68,44.08,65.3,21.22,81.739999999999995,104,0.13377582259267834,91,0.11705384476859355,194.82,0.25059813228370764,362,0.46564276710143809,415.44,0.53438295901829125,81,73,65,219,0.28170101103650536,55,44,36,135,0.17365130817318825,30,3.8589179594041831E-2,25,19,14,9,7,4,2,1,0,0,0,111,0.14277996449795477,384,0.49394149880373545,81,0.10419078490391295,244.74,0.3148105271281933,334.44,0.43019217411437832]
[17,null,262,"Djibouti",null,927.41,41.69,4.4953149092634322E-2,101.12,0.10903483896011473,296.83999999999997,0.32007418509612789,116.61,38.96,58.32,19.36,77.599999999999994,97,0.10459235936640753,99,0.1067489028584984,195.72,0.21103934613601322,355,0.38278646984613063,571.95000000000005,0.61671752515068856,97,94,91,282,0.30407263238481363,71,64,51,186,0.20055854476445154,43,4.6365685079953853E-2,36,27,19,16,11,7,3,1,0,0,0,163,0.17575829460540646,511,0.55099686222921906,120,0.12939260952545262,253.88,0.2737516308860159,451.95000000000005,0.48732491562523594]
[18,null,232,"Eritrea",null,4846.9799999999996,297.07,6.1289710293832456E-2,744.47,0.1535946094269009,2050.16,0.42297678141853279,833.31,294.82,438.95,144.13,556.99,704,0.14524508044184214,602,0.12420104890055252,1305.69,0.26938217199163195,2350,0.48483798158853558,2497.0100000000002,0.51516820783250605,483,436,431,1350,0.27852394687000981,371,266,182,819,0.16897119443447262,143,2.9502906964749186E-2,122,104,81,72,51,31,15,6,1,0,0,626,0.12915258573379715,2312,0.47699804826923159,483,9.9649678769047956E-2,1605.53,0.33124337216163469,2014.0100000000002,0.41551852906345815]
[19,null,231,"Ethiopia",null,99873.03,6193.05,6.2009233123296655E-2,14901.07,0.14920013941701779,41557.919999999998,0.41610753173304144,16316.12,5639.44,8398.39,2758.95,10864.2,13661,0.13678367423117133,12996,0.13012521999182361,26656.85,0.26690739231602362,48835,0.48897084628352622,51037.9,0.51102785206376533,11776,9707,7693,{"$f":"AB29+AC29+AD29","v":29176},0.29213091862738116,6503,5080,4204,15787,0.1580707023708002,3330,3.3342334762447884E-2,2602,2199,1746,1416,987,595,323,123,28,4,0,13353,0.13369975858347344,48293,0.48354395576062925,10023,0.10035742382102555,33933.93,0.3397707068665084,41014.9,0.4106704282427398]
[20,null,404,"Kenya",null,47236.26,2804.49,5.9371550584233379E-2,6997.25,0.14813302323257599,19529.77,0.41344869386357003,7874.9,2760.61,4113.1899999999996,1352.5799999999995,5259.17,6632,0.14040061596747921,5901,0.12492521634862709,12532.53,0.26531588233276726,22730,0.48119813041930076,24506,0.51879636533459672,5164,4344,4059,13567,0.28721579566206129,3522,2830,2143,8495,0.1798406563093691,1569,3.3216008210641572E-2,1197,935,724,497,309,219,130,50,13,2,0,5645,0.11950565095543127,23631,0.50027246018207194,4076,8.6289642744789702E-2,15732.75,0.33306510718672477,20430,0.43250672258980705]
[21,null,450,"Madagascar",null,24234.09,1524.01,6.2887032275608448E-2,3699.6,0.15266098293767169,10091.89,0.41643362717560262,3988.79,1408.54,2092.67,684.13000000000011,2658.74,3356,0.13848260858980058,3036,0.12527806903415808,6392.29,0.26377264423793095,11764,0.48543188541430687,12470.42,0.51458173176710986,2704,2250,1856,6810,0.28100910741851665,1569,1345,1106,4020,0.16588202816775871,893,3.684891819746481E-2,719,574,440,278,189,123,65,24,6,1,0,3312,0.13666698440089972,11723,0.48374005378374019,2419,9.9818066203434919E-2,8064.4,0.33277090247663516,10051.42,0.414763665563675]
[22,null,454,"Malawi",null,17573.61,1156.6600000000001,6.5818007796918224E-2,2887.87,0.16432992424436413,7847.05,0.4465246468995272,3166.27,1134.1300000000001,1684.83,550.69999999999982,2115.4499999999998,2678,0.15238758570379107,2281,0.12979689432051808,4959.1899999999996,0.28219529169021046,9070,0.51611478802590927,8504.09,0.48391252565636772,1981,1703,1444,5128,0.29180117232600472,1120,898,674,2692,0.15318423477020374,496,2.8224138352905295E-2,369,284,229,215,157,94,45,15,3,0,0,1907,0.1085149835463516,8316,0.47320954544911376,1411,8.02908451934463E-2,6182.13,0.35178486378154517,7093.09,0.40362168046292141]
[23,null,480,"Mauritius",1,1259.46,27.03,2.1461578771854603E-2,68.95,5.4745684658504441E-2,244.34,0.19400377939751956,98.75,29.23,44.7,15.470000000000002,65.77,81,6.431327711876518E-2,95,7.5429152176329534E-2,175.39,0.13925809473901513,300,0.23819732266209326,959.27,0.76165181903355406,94,103,89,286,0.22708144760452892,87,101,84,272,0.21596557254696458,88,6.9871214647547364E-2,94,80,69,51,30,21,13,6,2,1,0,455,0.36126593937084145,646,0.51291823479904086,367,0.29139472472329409,231.05,0.18345163800358885,592.27,0.47025709431025992]
[24,null,175,"Mayotte",null,240.02,13.69,5.7036913590534116E-2,35.42,0.14757103574702107,100.04,0.41679860011665698,41.36,14.55,21.72,7.1699999999999982,27.69,35,0.14582118156820265,30,0.12498958420131655,64.62,0.26922756436963585,116,0.48329305891175733,124.29,0.51783184734605447,25,19,17,61,0.25414548787601032,16,15,13,44,0.18331805682859761,9,3.7496875260394968E-2,7,5,4,3,2,2,1,0,0,0,0,33,0.13748854262144822,114,0.47496041996500288,24,9.9991667361053235E-2,80.58,0.33572202316473626,100.29,0.41784017998500128]
[25,null,508,"Mozambique",null,28010.69,2023.36,7.2235278745364714E-2,4844.01,0.17293433328489946,12660.55,0.45198993669916737,4966.16,1800.87,2663.7,862.82999999999993,3308.94,4197,0.14983565203142088,3620,0.12923637368447546,7816.54,0.27905560341426794,14546,0.51930173801502211,13464.22,0.48068148267679234,3029,2495,2048,7572,0.27032536506598021,1727,1406,1123,4256,0.15194199071854353,870,3.1059570471130844E-2,711,587,475,354,254,156,78,28,6,1,0,3520,0.12566630811308113,12698,0.45332692625565457,2650,9.4606737641950281E-2,9701.99,0.34636740473012267,10814.22,0.38607474503484207]
[26,null,638,"Réunion",null,863.36,28.19,3.2651501111934766E-2,68.98,7.9897146034099337E-2,209.58,0.24274925871015568,83.13,27.08,40.72,13.64,55.35,69,7.9920311341734621E-2,72,8.3395107487027428E-2,140.6,0.16285211267605632,251,0.29072461082283174,612.41,0.70933330244625648,68,59,51,178,0.20617123795404002,49,56,60,165,0.19111378799110451,67,7.7603780578206077E-2,61,51,43,30,23,17,11,5,3,1,0,312,0.36137879911045218,410,0.47488880652335064,245,0.28377501853224613,182.01999999999998,0.21082746478873238,367.40999999999997,0.42555828391401035]
[27,null,646,"Rwanda",null,11629.55,698.44,6.0057353895894519E-2,1734.54,0.14914936519469799,4744.93,0.40800632870575393,1908.65,678.28,1008.44,330.16000000000008,1274.6500000000001,1611,0.13852642621597569,1399,0.12029700203361265,3010.39,0.25885696351105592,5497,0.47267521099268678,6132.88,0.52735316499778584,1207,1006,1067,3280,0.28204014772712616,907,643,476,2026,0.1742113839314505,367,3.155754091946808E-2,390,281,213,136,92,45,40,8,5,1,0,1578,0.13568882716872108,5673,0.48780907257804473,1211,0.10413128624925298,3762.46,0.32352584579798876,4921.88,0.42322187874853284]
[28,null,690,"Seychelles",null,93.74,3.2,3.4136974610625134E-2,7.79,8.3102197567740566E-2,20.38,0.21740985705141883,8,2.94,4.34,1.4,5.33,7,7.4674631960742477E-2,6,6.4006827394922125E-2,12.59,0.13430765948367826,24,0.2560273095796885,69.94,0.74610625133347563,6,7,7,20,0.21335609131640709,8,8,7,23,0.24535950501386816,7,7.4674631960742477E-2,7,6,4,2,2,1,1,1,0,0,0,31,0.33070194154043098,50,0.53339022829101779,24,0.2560273095796885,16.21,0.17292511201194796,45.94,0.49007894175378708]
[29,null,706,"Somalia",null,13908.13,1075.43,7.7323838646892157E-2,2554.4899999999998,0.18366883254614386,6490.45,0.46666589972915123,2523.96,934.86,1377.87,443.00999999999988,1680.88,2140,0.15386683903587328,1796,0.12913310416281701,3935.96,0.28299706718300738,7448,0.53551412015849731,6460.53,0.46451463999833192,1537,1229,992,3758,0.27020167340972512,787,640,539,1966,0.14135617081519947,445,3.1995674472412902E-2,357,289,228,166,106,62,27,10,3,0,0,1693,0.1217273637793147,6169,0.4435535186973375,{"$f":"SUM(AN39:AX39)","v":1248},8.9731689306901799E-2,4893.51,0.3518452876123534,5212.53,0.37478295069143014]
[30,null,728,"South Sudan",null,11882.14,782.38,6.5845041381434655E-2,1882.43,0.15842516583713037,5000.5200000000004,0.42084338343093086,1962.17,705.4,1044.75,339.35,1307.27,1655,0.13928467430950991,1463,0.12312596889112568,3118.08,0.26241737599455989,5804,0.48846419920990664,6077.91,0.51151644400756091,1305,1115,927,3347,0.28168326580902092,744,624,518,1886,0.15872561676600344,429,3.6104607419202267E-2,343,267,198,171,122,72,34,11,2,0,0,1649,0.13877971476518541,5662,0.47651348999422666,{"$f":"SUM(AN40:AX40)","v":1220},0.10267510734598313,3921.5699999999997,0.33003903337277629,4857.91,0.40884133666157779]
[31,null,800,"Uganda",null,40144.870000000003,3146.97,7.8390339786876873E-2,7512.14,0.18712577721636661,19360.96,0.48227731214473973,7578.9,2775.77,4099.3900000000003,1323.6200000000003,5049.55,6416,0.15982116768593346,5433,0.1353348510033785,11848.82,0.29515153492837315,22156,0.55190115200273404,17988.599999999999,0.4480921223558576,4487,3700,2983,11170,0.27824227603676382,2412,1923,1478,5813,0.14480056854088702,1085,2.7027114547886193E-2,779,594,471,348,249,145,89,33,8,1,0,3802,9.4706994941072167E-2,18068,0.45006995912553704,2717,6.7679880393185968E-2,14643.86,0.36477537478636746,15271.599999999999,0.38041224196267165]
[32,null,834,"United Republic of Tanzania",2,53879.96,3939.87,7.3123105510842987E-2,9419.08,0.17481601693839416,24349.8,0.4519268388469479,9544.9500000000007,3488.98,5154.67,1665.69,6360.01,8078,0.14992587225380272,6853,0.12719014639209086,14930.72,0.27711082190855374,27862,0.51711248486450245,26017.52,0.4828793488339635,5652,4792,4034,14478,0.2687084400211136,3403,2810,2219,8432,0.1564960330334321,1714,3.1811456430182947E-2,1333,1069,828,666,467,303,159,65,14,2,0,6620,0.1228657185343122,24624,0.45701592948472863,4906,9.1054262104129258E-2,18442.919999999998,0.34229646792610829,21111.52,0.39182508672983424]
[33,null,894,"Zambia",null,16100.59,1149.57,7.139924685989768E-2,2750.36,0.17082355367101454,7306.14,0.45378088629050239,2864.52,1024.96,1518.72,493.76,1908.09,2414,0.14993239378184278,2142,0.13303860293318442,4555.78,0.28295733261948786,8434,0.52383173535876637,7666.11,0.47613845206914773,1814,1499,1258,4571,0.28390263959271056,1052,861,654,2567,0.15943515113421308,465,2.8880929208184296E-2,340,252,195,155,115,75,39,15,4,1,0,1656,0.10285337369624342,7603,0.47221871993510794,1191,7.3972444488059133E-2,5683.6399999999994,0.35300818168775178,6475.11,0.40216600758108861]
[34,null,716,"Zimbabwe",null,15777.45,1039.01,6.5854114574915468E-2,2505.48,0.15880132721067092,6543,0.41470579846553146,2567.42,937.69,1385.89,448.20000000000005,1710.88,2173,0.13772821336781291,1865,0.1182066810542895,4037.51,0.25590383743887635,7574,0.48005222643709849,8203.6,0.51995728080266457,1692,1574,1428,4694,0.29751322298597049,1239,938,640,2817,0.17854596275063461,442,2.8014666501874508E-2,340,273,223,149,130,88,50,22,6,1,0,1724,0.1092698756769947,7953,0.50407385223847956,1282,8.1255209175120177E-2,5068.5200000000004,0.32125089922642758,6921.6,0.43870207162754438]
[35,null,911,"Middle Africa",null,153742.72,11589.21,7.5380544847912137E-2,27615.85,0.17962378966626841,70243.820000000007,0.45689200763457294,27439.96,10154.549999999999,14973.46,4818.91,18281.34,23272,0.15136976892304232,19356,0.12589864417645272,42627.98,0.27726828301203466,80195,0.52161819434442169,73547.990000000005,0.47838356183629382,16013,13509,11385,40907,0.26607438713195658,9467,7735,6225,23427,0.15237794674115301,4993,3.2476334489203784E-2,4008,3186,2509,1833,1287,789,388,138,31,4,0,19166,0.12466281330263963,69327,0.45092866836231332,14173,9.2186478813435849E-2,52579.15,0.34199440467815323,59374.990000000005,0.38619708302285793]
[36,null,24,"Angola",null,27859.31,2150.67,7.7197532889364456E-2,5158.37,0.1851578520788921,13116.25,0.47080311752157533,5154.68,1912.22,2820.25,908.03,3436.53,4377,0.15711085450429318,3581,0.12853871829560745,7957.87,0.28564490649624846,14927,0.53579934319981359,12932.36,0.46420245153236028,2905,2424,2033,7362,0.26425636528686458,1670,1390,1101,4161,0.14935761151299151,866,3.1084761252163098E-2,703,561,448,263,184,115,56,20,4,1,0,3221,0.11561664664343804,12389,0.4446987380520192,2355,8.4531885391274944E-2,9768.630000000001,0.35064149112092152,10577.36,0.37967056614108535]
[37,null,120,"Cameroon",null,22834.52,1550.64,6.7907711657613126E-2,3741.54,0.16385455004090299,9827.2000000000007,0.43036595470366795,3873.69,1404.82,2078.88,674.06000000000017,2582.2399999999998,3275,0.14342320311528334,2810,0.12305929794013624,6085.66,0.26651140466276496,11304,0.49503996580615661,11530.59,0.50496309972795572,2396,2127,1874,6397,0.28014602452777637,1564,1223,950,3737,0.16365572825704242,741,3.2450868246847314E-2,582,458,370,284,205,133,68,25,6,1,0,2873,0.1258182786412852,10875,0.4762526210316661,2132,9.3367410394437897E-2,7562.46,0.33118541576525368,9398.59,0.41159568933351787]
[38,null,140,"Central African Republic",null,4546.1000000000004,302.39,6.6516354677635767E-2,728.31,0.1602054508259827,1987.48,0.43718351994016846,783.12,275.04000000000002,408.78,133.73999999999995,521.78,658,0.1447394469985262,601,0.13220122742570553,1259.17,0.27697806911418577,2309,0.50790787708145435,2236.6999999999998,0.49200413541277133,516,410,332,1258,0.27672070565979628,275,224,181,680,0.1495787598161061,146,3.2115439607575721E-2,122,103,83,64,49,31,16,6,1,0,0,621,0.13660060271441454,2084,0.4584149050834781,{"$f":"SUM(AN48:AX48)","v":475},0.10448516310683882,1580.69,0.34770242625547171,1761.6999999999998,0.38751897230593246]
[39,null,148,"Chad",null,14009.41,1096.48,7.8267393130759963E-2,2600.64,0.18563522660840107,6665.64,0.47579733907423655,2593.94,952.19,1405.08,452.88999999999987,1727.27,2195,0.1566804026722039,1870,0.13348170979363158,4064.99,0.2901613986599007,7639,0.5452763535366586,6370.16,0.45470580131497329,1564,1280,1026,3870,0.27624289673869207,817,643,498,1958,0.13976320201921422,384,2.7410147893451618E-2,315,262,211,142,100,61,29,10,2,0,0,1516,0.10821297970435585,6212,0.44341624665135793,1132,8.0802831810904238E-2,5038.3600000000006,0.35964112692825756,5238.16,0.37390296950406904]
[40,null,178,"Congo",null,4995.6499999999996,334.64,6.6986278061913873E-2,813.95,0.16293175062304208,2119.54,0.42427712109535298,841.37,308.08,455.6,147.52000000000004,561.4,713,0.14272417002792431,592,0.11850309769499466,1305.5899999999999,0.26134537047231093,2426,0.48562249156766391,2570.12,0.51447159028354672,491,409,367,1267,0.25362064996546996,341,305,250,896,0.1793560397545865,195,3.903395954480398E-2,150,113,86,65,48,31,16,6,2,0,0,712,0.14252399587641248,2358,0.47201064926486047,517,0.10349003633160851,1612.05,0.32269074094462186,2053.12,0.41098155395193819]
[41,null,180,"Democratic Republic of the Congo",null,76196.62,5955.78,7.8163309606121639E-2,14098.81,0.1850319607352662,35312.6,0.46344050431633321,13719.63,5127.41,7547.08,2419.67,9136.7900000000009,11652,0.15292016889988033,9562,0.12549113070894746,21213.79,0.27840854358106704,40192,0.52747746553587294,36005.019999999997,0.47252778404081441,7839,6553,5444,19836,0.26032650792121753,4518,3724,3073,11315,0.14849740054086388,2526,3.3151076780046154E-2,2040,1616,1252,970,667,394,187,64,14,2,0,9732,0.12772220080103291,33677,0.44197498524212758,7206,9.457112402098676E-2,26093.190000000002,0.3424455048006067,28799.019999999997,0.37795666001982764]
[42,null,226,"Equatorial Guinea",null,1175.3900000000001,74.27,6.3187537753426518E-2,176.33,0.15001829180101922,439.89,0.37425024885357194,171.09,64.28,94.56,30.28,113.94,145,0.12336330919949973,118,0.10039221024511012,263.55,0.22422344923812521,499,0.42453993993483008,676.12,0.57523034907562587,99,111,121,331,0.28160865755196146,115,81,57,253,0.21524770501705814,43,3.6583602038472336E-2,30,24,20,13,10,6,3,1,0,0,0,150,0.12761721641327559,627,0.53343996460749199,107,9.1033614374803243E-2,322.66999999999996,0.27452164813381086,569.12,0.4841967347008227]
[43,null,266,"Gabon",null,1930.18,111.62,5.7828803531276875E-2,266.92,0.1382876208436519,690.26,0.35761431576329666,268.61,98.66,145.6,46.94,178.85,227,0.11760561191184242,196,0.10154493363313266,423.34,0.21932669491964479,801,0.41498720326601662,1129.4100000000001,0.58513195660508344,183,177,171,531,0.27510387632241551,156,132,107,395,0.20464412645452756,84,4.3519257271342565E-2,62,46,37,30,24,17,11,5,1,0,0,317,0.16423338755970945,1010,0.52326726004828561,233,0.12071413028836689,534.07999999999993,0.2766995824223647,896.41000000000008,0.46441782631671658]
[44,null,678,"Sao Tome and Principe",null,195.55,12.72,6.5047302480184102E-2,30.96,0.15832267962158014,84.97,0.43451802608028633,33.83,11.86,17.64,5.7800000000000011,22.56,28,0.14318588596266937,26,0.13295832267962157,54,0.27614420864229094,98,0.50115060086934282,97.52,0.49869598568141138,21,17,16,54,0.27614420864229094,12,12,8,32,0.16364101252876501,7,3.5796471490667343E-2,5,4,3,2,1,1,1,0,0,0,0,24,0.12273075939657375,93,0.47558169266172334,17,8.6934287905906418E-2,67.039999999999992,0.34282792124776268,80.52,0.41176169777550492]
[45,null,912,"Northern Africa",null,225135.66,11906.52,5.2885979946490927E-2,28062.05,0.12464506955495189,72764.350000000006,0.32320224170617839,27996.38,10194.56,15046.1,4851.5400000000009,18614.54,23624,0.10493228838114761,21078,9.3623551240172256E-2,44702.31,0.19855721656889005,84648,0.37598663845612018,140487.31,0.62401180692565539,19749,19953,19642,59344,0.2635921825978168,17835,15290,12805,45930,0.20401032870581232,11243,4.9938779134322833E-2,9741,8035,6285,4536,3111,2211,1279,506,125,20,2,47094,0.20918054474355594,116517,0.51754129043795194,35851,0.15924176560923312,56585.95,0.25134156890116827,104636.31,0.46477004131642224]
[46,null,12,"Algeria",null,39871.53,1913.42,4.7989630696389132E-2,4663.6099999999997,0.11696591527839538,11424.4,0.28653026357403388,4475.9799999999996,1740.84,2552.21,811.37000000000012,2985.12,3837,9.623407980581633E-2,2924,7.3335535405839702E-2,6760.78,0.16956409749011386,13176,0.33046135927063747,26695.29,0.66953262139677117,3018,3596,3772,10386,0.26048661789502436,3597,3060,2478,9135,0.22911084676208815,2110,5.2919965699836452E-2,1795,1456,1224,802,611,468,294,124,33,7,1,8925,0.22384393074456888,21631,0.54251743035694899,6815,0.17092396504473242,8512.39,0.21349544399224207,19880.29,0.49860865635203871]
[47,null,818,"Egypt",null,93778.17,5431.45,5.7918063446962126E-2,12374.44,0.13195437701546106,31075.14,0.33136859036596683,11626.66,4276.8599999999997,6286.58,2009.7200000000003,7707.96,9797,0.10446994220509954,8903,9.4936806721649614E-2,18700.7,0.1994142133505058,35992,0.38379934264019017,57786.31,0.61620215024456115,8137,8206,8432,24775,0.26418728367166899,7390,6317,5215,18922,0.20177403760384746,4567,4.8700033280666494E-2,3957,3256,2478,2037,1194,809,461,189,50,8,1,19007,0.20268043191715088,48264,0.514661354556183,14440,0.15398039863648438,23617.559999999998,0.25184496562472908,43346.31,0.46222175160807677]
[48,null,434,"Libya",null,6234.96,254.54,4.082464041469392E-2,629.9,0.10102711164145399,1783.33,0.28602108112963032,710.75,246.46,367.44,120.97999999999999,473.94,596,9.5590027843001399E-2,557,8.9334975685489565E-2,1153.43,0.18499396948817637,2106,0.33777281650563917,4129.13,0.66225444910632947,536,544,574,1654,0.26527836585960457,568,556,478,1602,0.25693829631625542,371,5.9503188472740803E-2,249,172,133,94,77,54,30,12,3,0,0,1195,0.19166121354427293,3627,0.58171985064860077,824,0.13215802507153213,1476.1,0.23674570486418517,3305.13,0.5300964240347974]
[49,null,504,"Morocco",null,34803.32,1437.37,4.129979553674764E-2,3456.78,9.9323282951166728E-2,9626.41,0.27659458925183,3757.49,1304.46,1940.59,636.12999999999988,2500.0500000000002,3146,9.0393675086169939E-2,3023,8.6859529493163293E-2,6169.63,0.17727130630066326,11391,0.32729636138161533,23412.17,0.67269932868473459,2958,3087,2941,8986,0.25819375852648541,2806,2390,2108,7304,0.20986503586439456,1946,5.5914205886105121E-2,1855,1622,1238,761,631,470,258,91,13,1,0,8886,0.25532046942648001,18236,0.52397300027698512,6940,0.19940626354037488,7934.2199999999993,0.22797307843044856,16472.169999999998,0.47329306514435976]
[50,null,729,"Sudan",null,38647.800000000003,2410.91,6.2381558588069687E-2,5858.97,0.15159905609116173,16034.06,0.4148763965866103,6350.55,2235.91,3323.77,1087.8600000000001,4233.58,5341,0.13819674082353975,4834,0.12507827094944601,10175.09,0.26327734049544865,18649,0.48253716899797655,19999.25,0.5174744746143376,4226,3545,2862,10633,0.27512562163952409,2458,2076,1752,6286,0.16264832668353696,1483,3.8372171249074979E-2,1190,943,743,549,376,232,118,46,12,2,0,5694,0.14733050781674506,18402,0.47614611957213604,4211,0.10895833656767008,12790.029999999999,0.3309381129068148,15788.25,0.40851613804666759]
[51,null,788,"Tunisia",null,11273.66,436,3.8674219375074287E-2,1023.73,9.0807244497350462E-2,2670.97,0.23692128377119762,1016.62,369.6,545.16999999999996,175.56999999999994,675.08,857,7.6017903679905199E-2,791,7.0163549370834313E-2,1647.25,0.14611492629722733,3158,0.28012198345523992,8116.11,0.71991793259686732,827,925,1010,2762,0.24499585760081463,966,846,737,2549,0.22610225960335864,736,6.5284920779941913E-2,672,567,459,286,217,177,118,45,13,2,0,3292,0.29200809674941414,6047,0.53638303798411524,2556,0.2267231759694722,2134.27,0.18931473895788944,5560.11,0.49319475662739515]
[52,null,732,"Western Sahara",null,526.22,22.82,4.3365892592451827E-2,54.61,0.10377788757553874,150.05000000000001,0.28514689673520582,58.34,20.43,30.35,9.9200000000000017,38.799999999999997,49,9.3116947284405754E-2,47,8.9316255558511651E-2,95.44,0.18136900915966706,177,0.33636121774162897,349.04,0.66329672000304052,46,49,52,147,0.27935084185321729,50,45,37,132,0.25084565390901142,30,5.7010375888411687E-2,24,19,12,6,3,2,1,0,0,0,0,97,0.18433354870586446,309,0.58720687165064034,67,0.12732317281745276,122.39,0.23258333016609023,282.04000000000002,0.53597354718558776]
[53,null,913,"Southern Africa",null,63419.64,2739.28,4.3192928878183483E-2,6712.73,0.10584623312273611,19097.61,0.30113084842487281,7545.3,2598.75,3875.12,1276.3699999999999,5026.4399999999996,6318,9.9622135981850421E-2,6067,9.5664371478614507E-2,12384.88,0.19528461530213667,22709,0.35807519563340318,40710.550000000003,0.64192338524785075,6019,6008,5904,17931,0.2827357581973029,5341,4418,3697,13456,0.21217402054000936,3113,4.908574063176644E-2,2658,2242,1809,1243,870,543,293,121,36,7,1,12936,0.20397466778430151,34500,0.54399551936907875,9823,0.15488892715253508,15996.27,0.25222896251066707,30887.550000000003,0.48703445809531565]
[54,null,72,"Botswana",null,2209.1999999999998,105.63,4.7813688212927759E-2,255.55,0.1156753575955097,702.34,0.31791598768785084,274.83999999999997,96.79,143.75,46.959999999999994,182.97,231,0.10456273764258556,216,9.7772949483976107E-2,446.79,0.20224063009234114,831,0.37615426398696361,1378.08,0.62379141770776758,215,215,212,642,0.29060293318848457,205,165,123,493,0.22315770414629732,95,4.3001991671193195E-2,77,65,52,33,24,15,7,2,1,0,0,371,0.16793409378960711,1230,0.55676262900597506,276,0.12493210211841392,575.45000000000005,0.26047890639145393,1102.08,0.49885931558935365]
[55,null,426,"Lesotho",null,2174.65,117.47,5.4017887935989696E-2,280.08,0.12879313912583634,775.31,0.35652173913043472,299.60000000000002,104.35,155.04,50.69,199.17,251,0.11542087232428207,244,0.11220196353436185,495.23,0.22772860000459844,926,0.42581564849516013,1248.49,0.57411077644678454,250,233,211,694,0.31913181431494719,174,123,85,382,0.17566045110707471,66,3.0349711447819189E-2,56,54,50,39,24,18,11,4,1,0,0,323,0.14852964844917571,1142,0.5251419768698411,257,0.11817993700135654,645.92000000000007,0.29702250936932384,991.49,0.455930839445428]
[56,null,516,"Namibia",null,2425.56,141.56,5.8361780372367618E-2,335.03,0.13812480416893419,898.04,0.37024027441085772,346,123.04,182.22,59.179999999999993,230.02,291,0.11997229505763618,272,0.112139052425007,563.02,0.23211959300120386,1059,0.43660020778706776,1366.76,0.56348224739853892,267,252,213,732,0.30178597932023948,171,145,118,434,0.17892775276637149,95,3.9166213163145829E-2,77,60,46,34,24,15,8,3,1,0,0,363,0.14965616187602038,1261,0.51987994524975678,268,0.11048994871287456,723.97,0.29847540361813357,1098.76,0.45299229868566437]
[57,null,710,"South Africa",null,55291.23,2302.35,4.164041928530076E-2,5663.77,0.10243523249528,16225.36,0.29345268680042025,6427.67,2205.29,3291.05,1085.7600000000002,4282.8,5380,9.7302953831918726E-2,5182,9.3721915754089752E-2,10561.6,0.19101763516564924,19307,0.34918738469012173,35984.589999999997,0.65081912628820149,5137,5159,5134,15430,0.27906776535808658,4689,3915,3319,11923,0.21563998485835817,2816,5.0930319329123258E-2,2413,2035,1639,1121,787,487,263,110,33,7,1,11712,0.21182382811885356,30169,0.54563806954556804,8896,0.1608935087897303,13643.23,0.24675215219484173,27088.589999999997,0.48992561749847119]
[58,null,748,"Swaziland",null,1319.01,72.260000000000005,5.4783511876331493E-2,178.31,0.1351847218747394,496.56,0.37646416630654811,197.19,69.27,103.06,33.790000000000006,131.47999999999999,166,0.12585196473112409,152,0.11523794360922207,318.25,0.24127944443180871,586,0.44427259838818506,732.64,0.55544688819645038,150,149,135,434,0.32903465477896299,102,70,51,223,0.16906619358458239,42,3.1842063365706101E-2,34,28,22,17,12,7,4,1,0,0,0,167,0.12661010909697426,699,0.52994291172925145,125,9.4768045731268152E-2,407.69,0.30908787651344571,607.64,0.4606788424651822]
[59,null,914,"Western Africa",3,352613.86,25077.58,7.1119098948634635E-2,59914.2,0.16991447812062749,154877.91,0.43922808366069332,60600.95,22165.85,32741.24,10575.390000000003,40373.480000000003,51284,0.14543954681758681,43679,0.12387204518846764,94963.71,0.26931360554006589,177749,0.50408965773495118,174864.64000000001,0.49590971835310166,36843,30985,26514,94342,0.26755045873693112,22809,19023,15349,57181,0.16216322296576771,12275,3.4811450689998406E-2,10004,7970,6087,4455,2963,1600,652,178,27,2,0,46213,0.13105837643477769,163798,0.46452513239269722,33938,9.6246925744779291E-2,117834.8,0.33417517961432375,140926.64000000001,0.39966279260832238]
[60,null,204,"Benin",null,10575.95,725.53,6.8601875008864444E-2,1739.04,0.16443345515060112,4551.58,0.43037079411305834,1783.09,647.14,957.04,309.89999999999998,1187.93,1507,0.14249310936606166,1306,0.12348772450701827,2812.54,0.26593733896245725,5252,0.49659841432684532,5323.79,0.50338645700859019,1134,965,802,2901,0.2743015993835069,667,554,458,1679,0.15875642377280527,379,3.5836024186952468E-2,305,237,183,136,102,59,29,11,3,0,0,1444,0.13653619769382419,4959,0.46889404734326462,1065,0.10070017350687172,3512.96,0.33216495917624417,4258.79,0.40268628350171848]
[61,null,854,"Burkina Faso",null,18110.62,1310.2,7.2344293017025371E-2,3161.24,0.17455172710818292,8253.73,0.45573978141002353,3254.84,1185.71,1753.63,567.92000000000007,2170.08,2755,0.15212068940765144,2338,0.12909552516700146,5092.49,0.28118805430184057,9476,0.52322891209688016,8634.18,0.47674679276579163,1968,1642,1367,4977,0.27481113291538334,1147,927,724,2798,0.15449498691927721,583,3.219105695994947E-2,454,350,259,190,132,73,31,9,1,0,0,2082,0.11496017253964802,8358,0.46149717679461005,1499,8.2769115579698543E-2,6314.76,0.34867718498869726,7135.18,0.39397767718609306]
[62,null,132,"Cabo Verde",null,532.91,21.84,4.0982529883094705E-2,54.77,0.10277532791653377,166.09,0.31166613499465201,66.400000000000006,22.01,33.04,11.029999999999998,44.26,55,0.10320692049314144,56,0.10508340995665311,111.33,0.20890957197275339,201,0.37717438216584415,332.33,0.6236137434088308,58,57,52,167,0.31337374040644761,43,32,26,101,0.1895254358146779,25,4.6912236587791561E-2,23,16,12,6,6,6,4,2,0,0,0,100,0.18764894635116625,293,0.5498114128089171,75,0.14073670976337468,146.22999999999999,0.27439905424931038,257.33,0.48287703364545609]
[63,null,384,"Côte d'Ivoire",null,23108.47,1582.76,6.849263495159999E-2,3764.66,0.16291255976704644,9867.89,0.42702480951789534,3838.31,1387.83,2052.19,664.36000000000013,2555.14,3239,0.14016505636245064,2865,0.12398051450398923,6103.23,0.2641122497508489,11440,0.49505657449411405,11668.42,0.50494126179708132,2545,2126,1743,6414,0.27756056545500413,1453,1233,999,3685,0.15946533889954634,816,3.5311727691188552E-2,678,554,429,301,200,108,44,12,2,0,0,3144,0.13605400963369707,10915,0.47233763204573903,2328,0.10074228194250852,7675.34,0.33214401472706762,9340.42,0.40419897985457276]
[64,null,270,"Gambia",null,1977.59,147.97999999999999,7.4828452813778382E-2,351.97,0.17797925758119734,903.15,0.45669223651009561,352.05,129.32,190.84,61.52000000000001,234.46,298,0.15068846424182972,253,0.12793349480933863,551.17999999999995,0.27871297892889829,1036,0.52386996293468313,941.72,0.47619577364367743,214,179,150,543,0.27457663115205883,128,104,75,307,0.15523945812832793,64,3.236262319287618E-2,49,38,28,18,15,8,4,1,0,0,0,225,0.11377484716245531,914,0.46217871247326292,161,8.1412223969579131E-2,684.03,0.34589070535348582,780.72,0.39478354967409829]
[65,null,288,"Ghana",null,27582.82,1665.19,6.0370549494214151E-2,4022.86,{"$f":"I75/F75","v":0.14584658131402084},10701.09,{"$f":"K75/F75","v":0.38796214455229744},4203.25,1514.06,2242.1799999999998,728.11999999999989,2800.72,3548,{"$f":"R75/F75","v":0.12863079264556707},3130,{"$f":"T75/F75","v":0.11347643206894727},6678.23,{"$f":"V75/F75","v":0.24211556323827657},12462,{"$f":"X75/F75","v":0.4518029701096552},15120.89,{"$f":"Z75/F75","v":0.54819956770192457},2879,2562,2252,7693,{"$f":"AE75/F75","v":0.27890549262185665},1972,1663,1375,5010,{"$f":"AJ75/F75","v":0.18163480021259609},1134,{"$f":"AL75/F75","v":4.1112547593030735E-2},892,705,513,397,251,163,86,32,6,0,0,4179,{"$f":"AY75/F75","v":0.15150735131505771},{"$f":"AE75+AJ75+AL75","v":13837},{"$f":"BA75/F75","v":0.50165284042748348},3045,{"$f":"BC75/F75","v":0.11039480372202698},{"$f":"X75-I75","v":8439.14},{"$f":"BE75/F75","v":0.30595638879563436},{"$f":"Z75-BC75","v":12075.89},{"$f":"BG75/F75","v":0.43780476397989759}]
[66,null,324,"Guinea",null,12091.53,809.21,{"$f":"G76/F76","v":6.6923706098401106E-2},1949.42,0.16122194627148095,5157.0600000000004,0.42650185708508354,2029.21,731.45,1083.1500000000001,{"$f":"O76-N76","v":351.70000000000005},1352.36,1713,0.14166941652545212,1494,0.12355756467543809,3207.64,0.26527991081360258,5955,0.49249350578462775,6136.38,0.50749408883739278,1291,1105,927,{"$f":"AB76+AC76+AD76","v":3323},0.27482047350500721,768,629,511,1908,0.15779640789875227,423,3.4983165902081871E-2,361,304,246,160,111,63,26,7,1,0,0,{"$f":"SUM(AN76:AX76)+AL76","v":1702},0.14075968880695824,5654,0.46760004730584132,1279,0.10577652290487638,4005.58,0.3312715595131468,4857.38,0.4017175659325164]
[67,null,624,"Guinea-Bissau",null,1770.53,119.41,6.7443082014989858E-2,285.49,0.16124550275906085,738.2,0.41693730126007472,288.04000000000002,105.6,155.91,50.31,191.84,244,0.13781184165193475,209,0.1180437496116982,452.7,0.2556861504747166,852,0.48121184052232946,918.37,0.51869779105691516,186,169,147,502,0.28353092011996406,123,95,77,295,0.16661677576770798,59,3.3323355153541595E-2,49,40,36,23,15,8,3,1,0,0,0,234,0.1321638153547243,856,0.48347105104121363,175,9.88404602011827E-2,566.51,0.3199663377632686,743.37,0.41985733085573246]
[68,null,430,"Liberia",null,4499.62,290.27,6.4509891946431031E-2,704.63,0.1565976682475409,1907.17,0.42385134744711778,756.35,268.16000000000003,398.27,130.10999999999996,504.34,637,0.14156751014530117,565,0.1255661589200866,1202.54,0.26725367919957688,2204,0.48981914028295725,2295.83,0.51022753032478296,476,390,344,1210,0.2689115969793005,302,251,206,759,0.1686809108324703,166,3.6892004213689156E-2,134,107,81,57,43,24,10,3,0,0,0,625,0.13890061827443206,2135,0.47448451202545994,459,0.10200861406074291,1499.37,0.3332214720354163,1836.83,0.40821891626404005]
[69,null,466,"Mali",null,17467.91,1359.16,7.7808965125192434E-2,3274.15,0.18743799344054327,8372.2999999999993,0.47929603484332123,3303.73,1221.6400000000001,1803.15,581.51,2203.38,2805,0.16058017244192352,2294,0.13132652961917024,5098.1499999999996,0.29185804140277799,9524,0.54522836446947576,7943.98,0.45477564287885613,1841,1500,1229,4570,0.26162259823871314,1042,867,692,2601,0.14890161444614725,519,2.9711625489254295E-2,389,312,260,183,138,75,34,10,2,0,0,1922,0.11003033562687237,7690,0.44023583817411471,1403,8.0318710137618071E-2,6249.85,0.35779037102893252,6540.98,0.37445693274123804]
[70,null,478,"Mauritania",null,4182.34,267.36,6.3925936198396108E-2,640.16999999999996,0.15306503058096663,1682.94,0.40239196239425779,658.19,238.05,352.17,114.12,438.38,556,0.13293993314747246,487,0.11644199180363146,1042.77,0.2493269318132911,1947,0.46552886661533971,2234.87,0.53435875610304273,430,381,336,1147,0.2742483872664585,290,247,205,742,0.17741264459608735,166,3.9690699464892856E-2,133,104,76,55,38,23,11,3,1,0,0,610,0.14585136550352196,2055,0.4913517313274387,444,0.10616066603862909,1306.83,0.31246383603437305,1790.87,0.42819809006441367]
[71,null,562,"Niger",null,19896.97,1738.52,8.7376118072249181E-2,4066.1,0.20435774894368336,9988.7099999999991,0.50202166460521369,3849.93,1452.27,2133.31,681.04,2562.2600000000002,3273,0.16449740839936935,2650,0.13318610823658072,5922.61,0.29766391566153033,11291,0.56747333890537099,8606.27,0.43254173876725954,2054,1528,1234,4816,0.24204690462919728,1052,890,721,2663,0.13383947405057151,600,3.0155345261112621E-2,568,439,317,232,152,79,33,9,1,0,0,2430,0.12212914830750611,8079,0.40604172394088145,1830,9.1973803046393493E-2,7224.9,0.36311558996168758,6776.27,0.34056793572086602]
[72,null,566,"Nigeria",null,181181.74,13066.94,7.2120623193043631E-2,31109.16,0.17170140876227374,79928.27,0.44114969863960907,31206.43,11449.02,16900.73,5451.7099999999991,20786.400000000001,26418,0.14580939558257913,22401,0.12363828716955694,48819.11,0.26944828987733532,91524,0.50515024306533318,89657.95,0.49485091599186543,18649,15671,13565,47885,0.26429263787840873,11795,9884,7965,29644,0.16361472188091361,6320,3.4882102357555463E-2,5165,4131,3151,2336,1509,765,277,63,7,0,0,23724,0.1309403475206718,83849,0.46278946211687783,17404,9.6058245163116326E-2,60414.84,0.33344883430305944,72253.95,0.39879267082874909]
[73,null,686,"Senegal",null,14976.99,1035.45,6.913605470792196E-2,2492.79,0.16644132098639314,6449.14,0.43060321199386531,2533.6799999999998,930.25,1373.97,443.72,1688.79,2147,0.1433532371991969,1809,0.12078528462661724,3956.35,0.26416189100747212,7416,0.49515957478772438,7561.41,0.50486846823026521,1570,1385,1201,4156,0.27749233991609795,1021,810,641,2472,0.16505319159590812,497,3.3184237954355315E-2,393,312,250,180,134,84,38,11,2,0,0,1901,0.1269280409481478,7125,0.47572976946636142,1404,9.374380299379248E-2,4923.21,0.32871825380133124,6157.41,0.41112466523647273]
[74,null,694,"Sierra Leone",null,7237.03,461.76,6.3805179749151245E-2,1135.22,0.15686269091049782,3092.62,0.42733275943308235,1235.6199999999999,438.64,651.84,213.20000000000005,824.58,1042,0.14398171625653067,915,0.12643308097382491,1957.4,0.27047006852258454,3581,0.49481624368007321,3655.62,0.50512710324539212,789,665,568,2022,0.27939638221756719,490,403,326,1219,0.16843926306786072,253,3.4959092334839015E-2,198,153,119,88,55,27,9,2,0,0,0,904,0.12491312043752756,3494,0.48279473762026687,651,8.9954028102688544E-2,2445.7799999999997,0.33795355276957534,3004.62,0.41517307514270357]
[75,null,768,"Togo",null,7416.8,475.92,6.4167835184985436E-2,1162.3399999999999,0.15671718261244741,3117.31,0.42030390464890516,1241.6099999999999,444.63,659.71,215.08000000000004,828.39,1048,0.14130083054686657,907,0.12228993636069464,1954.96,0.26358537374608998,3587,0.48363175493474275,3829.51,0.51632914464459068,759,661,595,2015,0.27168050911444286,516,434,349,1299,0.17514291877898824,272,3.6673498004530257E-2,213,166,128,94,62,34,14,4,1,0,0,988,0.13321108833998491,3586,0.48349692589796139,716,9.6537590335454643E-2,2424.66,0.32691457232229532,3113.51,0.41979155430913606]
[76,null,935,"ASIA",null,4419897.5999999996,147015.09,3.3262103176326982E-2,368116.98,8.328631414447249E-2,1085155.47,0.24551597530223326,434808.97,146983.98000000001,220056.5,73072.51999999999,289972.45,363350,8.2207786895334409E-2,353688,8.0021763400129453E-2,717038.49,0.16222966115776077,1294773,0.29294185458052241,3125124.59,0.70705814315698179,350920,366183,385471,1102574,0.24945691049493998,342465,310089,312421,964975,0.21832519377824502,296069,6.6985488532585014E-2,251865,205417,179101,125063,87041,61886,36858,16879,5557,1270,190,1267196,0.2867025697608922,2363618,0.53476759280577002,971127,0.21971708122830721,926656.02,0.20965554043604995,2153997.59,0.48734106192867455]
[77,null,906,"Eastern Asia",null,1635150.37,38965.21,2.3829741114268284E-2,96913.27,5.926872034405007E-2,281036.15000000002,0.17187174657215165,111750.89,38236.97,57108.63,18871.659999999996,74465.179999999993,93506,5.7184954800212039E-2,90617,5.5418144815635513E-2,184122.88,0.11260302622810157,335858,0.20539884659048205,1299292.27,0.79460109225306286,94063,115383,144099,353545,0.21621558878404556,118149,112776,137806,368731,0.22550280803838241,142271,8.7007900074657959E-2,118593,95584,93761,66419,45763,33759,21205,10060,3474,830,117,631836,0.38640849893211959,864547,0.52872629689708595,489565,0.29940059885746162,238944.72999999998,0.14613012624643199,809727.27,0.49520049339560124]
[78,null,156,"China",4,1397028.55,34542.32,2.4725564842608263E-2,85884.7,6.1476696378180672E-2,247072.79,0.17685593469081215,98329.49,33830.519999999997,50489.9,16659.380000000005,65531.05,82367,5.8958709183144463E-2,78821,5.6420464707038376E-2,161188.09,0.11537923831263147,294096,0.21051538281017951,1102932.92,0.78948488203766476,80820,101287,129735,311842,0.22321805807046677,102116,96078,118700,316894,0.22683430485368392,124372,8.9026097569731122E-2,102186,79973,79509,52347,34699,24878,14730,6203,1869,401,51,521218,0.3730904425682639,753108,0.53907846049388175,396846,0.28406434499853278,208211.3,0.14903868643199883,706086.91999999993,0.50542053703913203]
[79,null,344,"China, Hong Kong SAR",5,7245.7,103.47,1.4280193770098128E-2,275.07,3.7963205763418301E-2,809.99,0.11178906109830658,326.37,115.35,171.86,56.510000000000019,217.93,275,3.7953544861090024E-2,260,3.5883351505030574E-2,534.91,7.382447520598423E-2,1013,0.13980705797921525,6233,0.86023434588790593,359,450,505,1314,0.18134893799080834,572,562,569,{"$f":"AG89+AH89+AI89","v":1703},0.23503595235795025,577,7.9633437763087081E-2,653,608,477,367,202,214,164,100,42,13,2,3419,0.47186607229115202,3594,0.49601832811184565,2842,0.39223263452806495,737.93000000000006,0.10184385221579696,3391,0.46800171135984103]
[80,null,446,"China, Macao SAR",6,600.94000000000005,14.04,2.3363397344160812E-2,32.35,5.3832329350683925E-2,74.62,0.12417213032915099,26.69,11,15.9,4.9000000000000004,17.64,23,3.8273371717642356E-2,19,3.1617133158052382E-2,42.27,7.0339800978467065E-2,92,0.15309348687056942,509.38,0.84763869937098535,31,48,64,143,0.23796052850534161,60,43,49,152,0.25293706526441906,47,7.8210803075182203E-2,53,45,35,22,10,8,6,4,2,0,0,232,0.38606183645621855,342,0.56910839684494285,185,0.30785103338103637,59.65,9.9261157519885498E-2,324.38,0.53978766598994898]
[81,null,408,"Dem. People's Republic of Korea",null,23485.759999999998,443.4,1.8879525295327892E-2,1024.49,4.3621752074448523E-2,3233.43,0.13767619187115937,1202.5899999999999,375.09,564.30999999999995,189.21999999999997,794.7,982,4.1812570681127634E-2,1227,5.224442385513605E-2,2208.94,9.4054439796710868E-2,4122,0.1755106072786233,19363.28,0.82446895480495419,1519,1610,1607,4736,0.20165410870246483,1926,2009,1767,5702,0.24278541550284088,1849,7.8728557219353346E-2,1871,1729,1485,917,673,558,389,237,85,18,2,9813,0.4178276538634475,12287,0.52316808142465909,7964,0.33909909664409416,3097.51,0.13188885520417482,11399.279999999999,0.48536985816086003]
[82,null,392,"Japan",null,25243.919999999998,698.04,2.7651806850916973E-2,1709.65,6.7725218587287556E-2,5328.22,0.21106943771014963,2098.3000000000002,673.61,1014.56,340.94999999999993,1395.71,1733,6.8650193789237174E-2,1885,7.4671445639187581E-2,3618.57,0.14334421912286208,6491,0.25713122209228995,18752.54,0.74285372477808531,1954,2005,1872,5831,0.23098631274382112,1811,1576,2190,5577,0.22092448399456188,2184,8.6515881844024228E-2,1536,1587,754,898,749,492,215,74,17,2,0,8508,0.33703164960117132,13592,0.53842667858240723,6324,0.25051576775714707,4781.3500000000004,0.18940600350500242,12428.54,0.49233795702093819]
[83,null,496,"Mongolia",null,127974.96,2124.44,1.6600434960089068E-2,5395.54,4.2160903976840469E-2,16625.509999999998,0.12991221095126732,6681.45,2202.6999999999998,3311.45,1108.75,4455.72,5560,4.3445999123578549E-2,5670,4.4305542271706903E-2,11229.97,8.775130697442686E-2,20192,0.15778086588188814,107783.21,0.84222108762526671,5980,6139,6756,18875,0.14748979019020594,7609,8481,10046,26136,0.20422745199529657,8722,6.8153957617959005E-2,7988,7661,8674,9627,7704,6255,4876,3073,1328,372,58,66338,0.51836703055035138,53733,0.41987119980346155,57616,0.45021307293239238,14796.46,0.11561996190504767,50167.210000000006,0.39200801469287433]
[84,null,410,"Republic of Korea",null,2976.88,152.63999999999999,5.127516057079895E-2,359.08,0.12062293407863266,856.75,0.28780132218967508,325.5,127.73,186.54,58.809999999999988,216.4,279,9.3722286420682047E-2,219,7.3566956007632148E-2,497.67,0.16717838811104244,990,0.33256295181532342,1986.97,0.66746728118029608,229,271,310,810,0.27209696057617372,256,226,205,687,0.23077853322942141,176,5.9122302544946381E-2,156,107,69,44,34,21,12,4,1,0,0,624,0.20961543629571899,1673,0.56199779635054148,448,0.15049313375077261,630.92000000000007,0.21194001773669077,1538.97,0.51697414742952352]
[85,null,158,"Other non-specified areas",null,50593.66,886.88,1.7529469107394086E-2,2232.39,4.4123908015352119E-2,7034.85,0.13904607810543851,2760.51,900.98,1354.11,453.12999999999988,1836.04,2287,4.520329227021725E-2,2515,4.9709785771576913E-2,4802.46,9.4922170090086383E-2,8863,0.17518005220416943,41730.959999999999,0.82482587739254276,3171,3573,3248,9992,0.1974951011648495,3798,3803,4278,11879,0.23479226448531296,4345,8.588032571670047E-2,4151,3873,2759,2198,1691,1333,815,365,131,24,3,21688,0.42867031165565012,26216,0.51816769136686291,17343,0.34278998593894966,6630.6100000000006,0.13105614418881734,24387.96,0.48203589145359316]
[86,null,921,"South-Central Asia",7,1892013.48,73389.27,3.8788978395650757E-2,185857.04,9.8232407942463504E-2,557368,0.29458986729840847,225142.28,75404.59,113129.82,37725.23000000001,150262.41,187997,9.9363456966490529E-2,183514,9.699402353095285E-2,371510.95,0.19635745407057037,665384,0.35168036963457577,1226629.31,0.64831954051405605,178967,173010,166382,518359,0.27397214950075305,151907,131169,114031,397107,0.20988592533706474,100287,5.300543630376249E-2,87412,72238,57189,39601,27874,18560,10087,4321,1307,265,38,419179,0.22155180416579273,1015753,0.53686351114158026,318892,0.16854636786203026,479526.95999999996,0.25344796169211226,907737.31,0.47977317265202574]
[87,null,5500,"Central Asia",null,68705.009999999995,3172.91,4.6181639446672085E-2,7779.76,0.11323424594509193,19963.650000000001,0.29057051298005782,7850.42,2948.3,4343.55,1395.25,5234.41,6684,9.7285481801108839E-2,5500,8.0052386281582677E-2,12183.89,0.17733626703496586,23333,0.33961133256512155,45372.29,0.66039274282908922,5784,6675,6693,19152,0.27875696401179478,5456,4587,4091,14134,0.20572007776434353,3628,5.2805464987196717E-2,3609,2863,2083,1066,782,781,379,197,54,10,2,15454,0.2249326504719234,36914,0.53728250676333511,11826,0.17212718548472666,15553.24,0.22637708662002962,33546.29,0.48826555734436256]
[88,null,398,"Kazakhstan",null,17749.650000000001,808.68,4.5560334992520976E-2,1991.07,0.11217516965123255,4752.63,0.26775908257345921,1881.4,749.03,1095.8,346.77,1256.49,1623,9.143842272946226E-2,1139,6.4170279413960266E-2,2761.57,0.15558447631361744,5397,0.3040623336234799,12352.4,0.69592358159174961,1130,1515,1699,4344,0.24473722017053856,1372,1216,1140,3728,0.21003231049626328,1021,5.7522261002329621E-2,1125,879,701,378,302,324,118,62,13,2,0,4925,0.27747025997695729,9093,0.51229179166913141,3904,0.21994799897462766,3405.9300000000003,0.19188716397224734,8448.4,0.47597558261712197]
[89,null,417,"Kyrgyzstan",null,5865.4,313.55,5.3457564701469638E-2,747.69,0.12747468203362092,1824.1,0.31099328264057013,700.13,271.45,397.44,125.99000000000001,465.93,598,0.1019538309407713,478,8.1494868210181745E-2,1076.4100000000001,0.18351860060694924,2125,0.36229413168752345,3740.73,0.63776213045998575,513,565,587,1665,0.28386810788693018,435,353,323,1111,0.18941589661404168,308,5.2511337675179869E-2,306,230,169,82,54,60,39,13,3,0,0,1264,0.21550107409554337,3084,0.52579534217615165,956,0.16298973642036349,1377.31,0.23481944965390256,2784.73,0.47477239403962224]
[90,null,762,"Tajikistan",null,8548.65,480.8,5.6242798570534533E-2,1165.05,0.13628467652787282,3002.39,0.35121217970088847,1171.8,436.1,642.79999999999995,206.69999999999993,780.73,995,0.11639264679218357,842,9.8495084019114137E-2,1837.34,0.21492750317301562,3522,0.41199487638399046,5027.05,0.58805191462979545,867,845,812,2524,0.2952512969884134,630,493,433,1556,0.18201704362677149,387,4.5270305837763862E-2,341,271,183,100,62,63,35,18,6,1,0,1467,0.17160604305943045,4467,0.52253864645294879,1080,0.12633573722166658,2356.9499999999998,0.27571019985611761,3947.05,0.46171617740812881]
[91,null,795,"Turkmenistan",null,5565.28,300.77999999999997,5.4045798234769855E-2,678.77,0.12196511226748699,1694.3,0.30444110628755428,626.55999999999995,231.03,339.12,108.09,414.77,527,9.4694247189719125E-2,488,8.7686513526722826E-2,1015.54,0.18247779087485266,1967,0.35344133628496682,3598.1,0.64652632032889634,466,554,532,1552,0.27887186269154474,440,387,329,1156,0.20771641319035161,296,5.3186901647356469E-2,267,221,152,85,47,50,26,13,3,1,0,1161,0.20861484058304344,3004,0.53977517752925286,865,0.15542793893568699,1288.23,0.2314762240174798,2733.1,0.49109838139320933]
[92,null,860,"Uzbekistan",null,30976.02,1269.0899999999999,4.0970079435640856E-2,3197.19,0.10321500308948664,8690.2199999999993,0.28054669386189701,3470.53,1260.69,1868.39,607.70000000000005,2316.4899999999998,2940,9.4912128801569726E-2,2553,8.2418593479730448E-2,5493.03,0.1773316907724104,10322,0.33322550798972883,20654.02,0.66677449201027117,2807,3196,3062,9065,0.29264573047150666,2579,2139,1865,6583,0.21251923261929712,1617,5.220167084086335E-2,1570,1262,878,421,317,284,162,92,28,6,2,6639,0.21432708269170797,17265,0.55736663393166719,5022,0.16212541185084461,7124.8099999999995,0.23001050490024216,15632.02,0.50464908015942656]
[93,null,5501,"Southern Asia",null,1823308.47,70216.36,3.8510411790057666E-2,178077.29,9.7667121570493232E-2,537404.35,0.29474132262436098,217291.86,72456.289999999994,108786.28,36329.990000000005,145028,181313,9.9441758201232952E-2,178014,9.7632409945421911E-2,359327.06,0.19707420105386775,642051,0.35213514913359667,1181257.02,0.64786460406230661,173184,166335,159689,499208,0.27379239893510726,146451,126581,109940,382972,0.21004235229598864,96659,5.3012971524231442E-2,83803,69375,55106,38535,27092,17779,9708,4124,1254,255,36,403726,0.22142495723721395,978839,0.53684772275532733,307067,0.16841198571298252,463973.70999999996,0.25446802756310344,874190.02,0.47945261834932407]
[94,null,4,"Afghanistan",null,33736.49,2073.2399999999998,6.1453933115152168E-2,5239.3999999999996,0.15530364895696025,15023.53,0.44531988953207646,6119.32,2108.5100000000002,3152.07,1043.56,4089.87,5142,0.15241656734295714,4642,0.13759581983780766,9784.1299999999992,0.29001624057511616,17488,0.51837046474010784,16248.4,0.48162686752534128,3945,3117,2511,9573,0.28375803173359176,2119,1724,1353,5196,0.1540172080735133,1074,3.1834965641061058E-2,850,666,513,390,238,131,58,19,4,0,0,3943,0.11687641482560872,15843,0.46961020544816612,{"$f":"SUM(AN104:AX104)","v":2869},8.504144918454766E-2,12248.6,0.36306681578314759,13379.4,0.39658541834079364]
[95,null,50,"Bangladesh",null,161200.89000000001,6120.83,3.7970199792321239E-2,15253.91,9.4626710807862155E-2,47428.21,0.29421804060759216,18966.28,6132.36,9239.43,3107.0700000000006,12638.34,15716,9.7493258256824755E-2,16458,0.10209621051099654,32174.29,0.19959126776533304,57191,0.35478091963388042,104010.24000000001,0.64522125157001298,16116,15204,14475,45795,0.28408652086226072,13502,11874,9926,35302,0.21899382813581239,8969,5.5638650630278771E-2,7282,5050,3253,2864,2220,1477,908,450,160,36,7,32676,0.20270359549503728,90066,0.55871899962835192,23707,0.14706494486475849,41937.089999999997,0.26015420882601825,80303.240000000005,0.49815630670525451]
[96,null,64,"Bhutan",null,787.39,27.51,3.4938213591739799E-2,70.7,8.9790319917702796E-2,215.88,0.27417163032296576,87.4,29.16,43.8,14.639999999999997,58.34,73,9.2711362857034005E-2,72,9.1441344187759566E-2,145.18,0.18438131040526298,261,0.33147487268062842,526.4,0.66853782750606427,76,81,82,239,0.30353446195659078,76,61,47,184,0.23368343514649667,41,5.2070765440251972E-2,30,25,17,13,10,7,4,2,1,0,0,150,0.19050280039116577,464,0.58928866254333945,109,0.13843203495091377,190.3,0.24168455276292564,417.4,0.53010579255515056]
[97,null,356,"India",null,1309053.98,47420.55,3.6225053148686813E-2,121415.29,9.2750407435451973E-2,375144.88,0.2865770898156545,152483.32,50131.75,75464.31,25332.559999999998,101804.14,126977,9.6999055760863276E-2,126752,9.6827175912180485E-2,253729.59,0.19382668238020254,449700,0.34353052423399683,859354.43,0.6564698195257006,123333,118180,112809,354322,0.27067027442214414,104208,91299,81036,276543,0.21125408441903978,71138,5.4343060780427097E-2,62323,52822,42980,29093,20166,13256,7129,3001,918,194,27,303047,0.23150076668343347,702003,0.53626741962161106,231909,0.17715770590300639,328284.71000000002,0.25078011679854489,627445.43000000005,0.47931211362269421]
[98,null,364,"Iran (Islamic Republic of)",null,79360.490000000005,2721.79,3.4296537231561952E-2,6899.49,8.6938601311559435E-2,18754.55,0.23632099549788563,7571.29,2744.55,4071.68,1327.1299999999997,5057.82,6418,8.0871476473998574E-2,5437,6.8510161668608641E-2,11855.06,0.14938239418632621,21930,0.2763339792886863,57430.74,0.72366917089347604,5491,7120,9200,21811,0.27483449257936787,9083,6778,5050,20911,0.26349383679460647,4450,5.6073242491320299E-2,3812,3128,2497,1470,1005,785,478,195,54,7,0,17881,0.22531362898590973,47172,0.59440157186529463,13431,0.16924038649458942,15030.51,0.18939537797712688,43999.74,0.55442878439888654]
[99,null,462,"Maldives",null,418.4,15.92,3.804971319311664E-2,38.42,9.1826003824091784E-2,97.95,0.23410611854684515,37.83,14.25,20.95,6.6999999999999993,25.16,32,7.6481835564053538E-2,27,6.4531548757170182E-2,59.53,0.14228011472275337,115,0.2748565965583174,303.06,0.72433078393881456,31,46,58,135,0.32265774378585088,50,33,26,109,0.26051625239005738,21,5.0191204588910139E-2,18,13,8,5,5,4,2,1,0,0,0,77,0.18403441682600383,265,0.63336520076481839,56,0.13384321223709369,76.58,0.18303059273422562,247.06,0.59048757170172084]
[100,null,524,"Nepal",null,28656.28,1082.1099999999999,3.7761705287636775E-2,2804.98,9.7883605269071916E-2,9329.0300000000007,0.32554923388520773,3815.21,1191.6500000000001,1809.01,617.3599999999999,2547.15,3150,0.10992354904404898,3374,0.11774033475384803,6524.06,0.22766597757978357,11328,0.3953060201812657,17327.97,0.60468316194565386,3251,2714,2305,8270,0.28859293669659847,1986,1746,1531,5263,0.18365956781550152,1310,4.5714237856414021E-2,1120,915,878,649,452,276,132,49,10,1,0,5792,0.20211974478194658,14843,0.51796674236851403,4482,0.15640550692553257,8523.02,0.29742241491219379,12845.970000000001,0.44827765502012129]
[101,null,586,"Pakistan",null,189380.51,10123.75,5.3457190499698194E-2,24712.07,0.13048898220835925,66319.820000000007,0.35019348083918456,26115.200000000001,9412.7199999999993,13943.69,4530.9700000000012,17405.96,22056,0.11646393813175389,19552,0.10324188059267556,41607.75,0.21970449863082531,77988,0.41180583999905795,111392.38,0.58819347355226781,19355,18337,16799,54491,0.28773288233303412,13910,11516,9606,35032,0.18498207656109913,8332,4.3996079638818165E-2,7109,5602,4000,3228,2487,1564,817,312,75,10,1,33537,0.17708791680833472,97855,0.51671103853295142,25205,0.13309183716951653,53275.93,0.2813168577906987,86187.38,0.45510163638275131]
[102,null,144,"Sri Lanka",null,20714.04,630.66,3.0446016325159166E-2,1643.02,7.9319147785753039E-2,5090.49,0.24575070821529743,2096.02,691.33,1041.3499999999999,350.01999999999987,1401.22,1749,8.4435484338159048E-2,1699,8.2021662601790862E-2,3447.48,0.16643204319389168,6051,0.2921207065352775,14663.41,0.70789715574557155,1585,1535,1449,4569,0.22057503026932457,1517,1551,1365,4433,0.21400943514640311,1324,6.391799957902948E-2,1259,1153,960,822,509,280,180,95,32,7,1,6622,0.31968655076460217,10326,0.49850246499475714,5298,0.25576855118557268,4407.9799999999996,0.21280155874952444,9365.41,0.45212860455999887]
[103,null,920,"South-Eastern Asia",null,634609.85,23436.16,3.6930028741280964E-2,57783.74,9.1053960161507103E-2,169596.73,0.26724566282732615,67307.28,22671.9,33928.92,11257.019999999997,44841.4,56147,8.8474832213839741E-2,55666,8.7716886209692466E-2,111812.99,0.17619170266581902,202588,0.31923235985070197,432021.39,0.68076691529449163,55089,55611,52360,163060,0.25694527117724381,50545,46314,43648,140507,0.22140690063351523,39647,6.247460546034702E-2,34448,28632,21155,14199,9853,6931,3978,1827,596,147,31,161444,0.25439882472671987,343214,0.54082677727110606,121797,0.19192421926637288,144804.26,0.2281783996891949,310224.39,0.48884269602811875]
[104,null,96,"Brunei Darussalam",null,417.54,14.13,3.3841069119126314E-2,33.47,8.0159984672127219E-2,98.82,0.23667193562293432,37.979999999999997,12.53,18.75,6.2200000000000006,25.21,31,7.4244383771614686E-2,34,8.1429324136609665E-2,65.349999999999994,0.15651195095080708,120,0.28739761459979879,297.29000000000002,0.71200364036978492,36,35,39,110,0.26344781338314893,39,36,33,108,0.25865785313981893,29,6.9454423528284709E-2,23,18,12,7,4,3,2,1,0,0,0,99,0.23710303204483402,247,0.59156009005125254,70,0.16764860851654931,86.53,0.20723762992767158,227.29000000000002,0.54435503185323564]
[105,null,116,"Cambodia",null,15517.64,702.47,4.5269125975341613E-2,1764.6,0.11371574543551725,4903.91,0.31602163731082822,1960.2,697.41,1036.54,339.13,1308.1600000000001,1654,0.10658837297424094,1485,9.5697541636485958E-2,3139.31,0.20230589187531095,5828,0.37557257418009443,9689.89,0.62444353651715079,1567,1630,1275,4472,0.28818815232213146,1685,648,827,3160,0.20363921317932368,759,4.8912076836426156E-2,685,488,410,269,181,111,56,18,4,0,0,2981,0.19210395395176072,8391,0.54073944233788129,2222,0.14319187711533454,4063.4,0.26185682874457716,7467.8899999999994,0.48125165940181625]
[106,null,360,"Indonesia",null,258162.11,10101.52,3.9128592495622234E-2,24592.48,9.5259834992826795E-2,71920.63,0.27858708623043099,28397.91,9517.89,14245.35,4727.4600000000009,18907.8,23651,9.1612979147094833E-2,23677,9.1713691060241187E-2,47328.15,0.18332725123760418,85541,0.33134606778663223,172620.71,0.66865238279931938,22512,21859,21243,65614,0.25415813343019239,21054,19553,18215,58822,0.22784908288826738,16189,6.2708660074090664E-2,13611,11051,7803,5273,3760,2432,1114,466,98,11,1,61809,0.23941933229473528,140625,0.54471587639255048,45620,0.17671067222064463,60948.520000000004,0.23608623279380545,127000.70999999999,0.49194171057867475]
[107,null,418,"Lao People's Democratic Republic",null,6663.97,306.01,4.5920074670204092E-2,771.63,0.1157913375960576,2246.56,0.33712036518771843,903.79,309.56,462.77,153.20999999999998,603.17999999999995,758,0.11374601026115064,717,0.10759352157947889,1474.93,0.22132902759166082,2675,0.40141237130419255,3988.61,0.59853360684396839,715,698,607,2020,0.30312261309699773,504,414,351,1269,0.19042702773271789,291,4.3667663569914028E-2,241,191,148,104,72,47,24,9,2,0,0,1129,0.1694185297953022,3580,0.53721730439962967,838,0.12575086622538817,1903.37,0.28562103370813491,3150.61,0.47278274061858022]
[108,null,458,"Malaysia",8,30723.16,1053.83,3.4300833638206484E-2,2569.35,8.3629092840710392E-2,7669.68,0.24963838355169196,2992.25,995.51,1490.41,494.90000000000009,1989.45,2486,8.0916155760019481E-2,2615,8.5114942603560312E-2,5100.33,0.16600929071098156,9371,0.30501419775830352,21351.94,0.69497864151994782,2898,3147,3076,9121,0.29687701395299182,2660,2109,1889,6658,0.21670947910306101,1680,5.468187517169458E-2,1512,1278,1003,754,465,327,175,63,14,2,0,7273,0.23672695126412777,17459,0.5682683682277474,5593,0.1820450760924332,6801.65,0.22138510491759311,15758.939999999999,0.51293356542751456]
[109,null,104,"Myanmar",null,52403.67,1816.74,3.4668182591028454E-2,4552.88,8.6880937919042694E-2,14608.72,0.27877284167311184,5884.82,1856.96,2809.84,952.88000000000011,3922.74,4858,9.2703430885661256E-2,5197,9.9172443456727363E-2,10055.84,0.19189190375406914,17564,0.33516736518644591,34839.919999999998,0.66483740547179238,4845,4501,4216,13562,0.2587986681085504,4067,3859,3543,11469,0.21885871733792692,3142,5.9957632738317758E-2,2672,2291,1870,1152,744,484,276,105,23,3,0,12762,0.24353256174615251,28173,0.53761501818479507,9620,0.18357492900783476,13011.119999999999,0.24828642726740321,25219.919999999998,0.48126247646395759]
[110,null,608,"Philippines",null,101716.36,4643.79,4.5654307723949225E-2,11434.44,0.11241495468378931,32782.35,0.32229181225124454,13009.7,4459.5200000000004,6656.96,2197.4399999999996,8670.5400000000009,10889,0.1070525921297223,10459,0.10282515025114937,21347.91,0.20987685756745522,38950,0.38292758411724526,62766.16,0.61707044963071822,10208,9610,8315,28133,0.27658284272067934,7329,6666,5906,19901,0.19565190889646464,5323,5.2331797952659728E-2,4498,3675,2755,1943,1235,849,435,150,32,5,0,20900,0.20547333781900964,53357,0.52456654956980375,15577,0.15314153986634993,27515.559999999998,0.27051262943345589,47189.16,0.46392890976436835]
[111,null,702,"Singapore",null,5535.26,104.55,1.8888001647619081E-2,263.91000000000003,4.7677977186256833E-2,858.13,0.15502975469986954,341.13,108.03,163.26,55.22999999999999,227.09,281,5.076545636519332E-2,313,5.6546575951265159E-2,594.21,0.10734997091374208,1065,0.19240288622395335,4469.93,0.80753749598031532,353,377,356,1086,0.19619674595231298,392,429,456,1277,0.23070280348167926,444,8.0213034256746737E-2,458,424,342,257,147,114,73,37,15,4,1,2316,0.41840853004194922,2807,0.50711258369073897,1872,0.33819549578520247,801.08999999999992,0.1447249090376965,2597.9300000000003,0.4693420001951128]
[112,null,764,"Thailand",null,68657.600000000006,1496.32,2.1793945608352169E-2,3843.8,5.5985062105287683E-2,12352.8,0.17991890191326232,4973.33,1599.22,2413.9899999999998,814.76999999999975,3316.17,4121,6.0022488406236155E-2,4388,6.3911351401738481E-2,8509,0.12393383980797464,15216,0.22162149565379505,53441.89,0.77838272820488907,4819,4829,4477,14125,0.20573104798303463,4799,5391,5718,15908,0.23170049637622053,5732,8.3486751648761376E-2,5243,4564,3479,2523,1858,1394,862,436,141,33,5,26270,0.38262333667358017,35765,0.52091829600801653,20538,0.29913658502481877,11372.2,0.16563643354850738,32903.89,0.47924614318007031]
[113,null,626,"Timor-Leste",null,1240.98,83.25,6.7084078711985684E-2,204.32,0.16464407162081579,545.98,0.43995874228432369,216.01,78.28,115.92,37.64,144.1,183,0.14746410095247303,159,0.1281245467291979,341.66,0.2753146706635079,643,0.51813889023191351,598.45000000000005,0.48223984270495901,155,108,81,344,0.27720027720027718,69,43,58,170,0.13698850908153234,48,3.8679108446550307E-2,37,29,24,19,12,7,3,1,0,0,0,180,0.14504665667456365,562,0.45286789472835987,132,0.10636754822801334,438.68,0.35349481861109766,466.45000000000005,0.37587229447694565]
[114,null,704,"Viet Nam",null,93571.57,3113.55,3.3274529859870901E-2,7752.86,8.2854867135391655E-2,21609.16,0.23093723873608188,8590.17,3037,4515.12,1478.12,5726.97,7233,7.7299119807437228E-2,6623,7.0780045691228644E-2,13856.3,0.14808237160069024,25615,0.27374767784702125,67956.59,0.72625253589311356,6982,8817,8674,24473,0.26154311614093895,7947,7166,6653,21766,0.23261338887441985,6011,6.4239597561524295E-2,5469,4623,3310,1896,1375,1162,958,541,266,89,24,25724,0.27491256158254052,52250,0.5583961025768831,19713,0.21067296402101621,17862.14,0.19089281071162958,48243.59,0.51557957187209735]
[115,null,922,"Western Asia",null,258123.91,11224.44,4.348469694264278E-2,27562.93,0.10678177779036432,77154.600000000006,0.29890528157581375,30608.52,10670.52,15889.13,5218.6099999999988,20403.46,25700,9.9564585086286655E-2,23891,9.2556323046555436E-2,49591.67,0.1921235037854494,90942,0.35231916330416657,167181.63,0.6476797519454901,22800,22179,22631,67610,0.26192846683594712,21863,19829,16936,58628,0.22713122546454531,13863,5.3706764321058052E-2,11412,8962,6995,4844,3550,2635,1588,671,179,28,3,54730,0.21202995104173031,140101,0.54276645662155043,40867,0.15832318672067225,63379.07,0.24553738551380228,126314.63,0.4893565652248178]
[116,null,51,"Armenia",null,2916.95,79.94,2.7405337767188332E-2,206.15,7.0673134609780766E-2,578.86,0.19844700800493667,235.48,83.92,124.89,40.97,157.38,199,6.8221944153996475E-2,174,5.9651348154750684E-2,372.71,0.12777387339515589,683,0.23414868269939493,2233.77,0.76578960900941051,182,238,272,692,0.23723409725912342,240,194,166,600,0.20569430398189892,168,5.7594405114931697E-2,207,209,144,97,54,89,43,26,6,1,0,1044,0.35790808892850412,1460,0.50052280635595403,876,0.30031368381357243,476.85,0.16347554808961418,1357.77,0.46547592519583814]
[117,null,31,"Azerbaijan",9,9617.48,371.89,3.8668133440360679E-2,866.4,9.0085968465751939E-2,2203.41,0.22910471350083389,827.39,307.5,451.76,144.26,548.76,699,7.2680161539197388E-2,638,6.6337543722471998E-2,1337.01,0.13901874503508196,2616,0.27200472473038678,7001.14,0.72795992297358569,720,891,943,2554,0.2655581295724036,829,669,624,2122,0.22063991814903697,642,6.6753453087503176E-2,677,527,340,180,120,140,75,28,7,1,0,2737,0.28458598302257976,5318,0.55295150080894373,2095,0.21783252993507657,1749.6,0.1819187562646348,4906.1400000000003,0.51012739303850907]
[118,null,48,"Bahrain",null,1371.86,43.51,3.1716064321432216E-2,106.23,7.7435015234790724E-2,286.02999999999997,0.20849795168603211,113.58,40.61,60.24,19.630000000000003,75.709999999999994,96,6.9977986091875263E-2,84,6.1230737830390861E-2,179.8,0.1310629364512414,329,0.23982038983569753,1042.46,0.75988803522225312,74,106,174,354,0.25804382371379003,192,147,120,459,0.3345822460017786,92,6.7062236671380462E-2,69,53,25,13,9,6,3,1,0,0,0,271,0.19754202323852291,905,0.6596883063869492,179,0.13047978656714243,222.76999999999998,0.1623853746009068,863.46,0.62940824865511069]
[119,null,196,"Cyprus",10,1160.99,25.86,2.2274093661444113E-2,65.92,5.6779128157865275E-2,196.15,0.16895063695639068,78.14,26.7,39.909999999999997,13.209999999999997,52.07,65,5.5986701005176616E-2,65,5.5986701005176616E-2,130.22999999999999,0.11217150879852539,240,0.20672012678834442,921.35,0.79358995340183813,78,108,105,291,0.25064815373086763,95,86,78,259,0.22308547015908836,74,6.3738705759739528E-2,71,65,57,50,38,29,19,10,3,1,0,417,0.35917622029474844,624,0.53747232964969549,343,0.29543751453500894,174.07999999999998,0.14994099863047913,578.35,0.49815243886682919]
[120,null,268,"Georgia",11,3951.52,109.67,2.775387698910799E-2,275.31,6.9671923715431031E-2,739.48,0.1871381139409645,294.63,107.9,159.69999999999999,51.799999999999983,196.63,250,6.3266793537676641E-2,214,5.4156375268251206E-2,464.17,0.11746619022553347,876,0.22168684455601895,3075.5,0.77830809410049806,236,279,288,803,0.20321294084301736,271,270,263,804,0.20346600801716808,254,6.4279062234279469E-2,284,266,224,173,130,147,75,43,9,1,0,1606,0.40642588168603472,1861,0.47095801109446489,1352,0.34214681945175529,600.69000000000005,0.15201492084058793,1723.5,0.43616127464874277]
[121,null,368,"Iraq",null,36115.65,2328.09,6.4462082227510792E-2,5602.88,0.15513717737324401,14685.02,0.40661098443472565,5756.32,2093.85,3096.04,1002.19,3835.44,4867,0.13476152305164105,4215,0.11670840757400185,9082.14,0.25147380706148165,17023,0.47134690916541722,19093.02,0.5286633357007281,3804,3299,2877,9980,0.2763344976485263,2482,2170,1823,6475,0.17928515754250579,1463,4.0508754515009418E-2,976,725,702,403,331,212,110,41,10,2,0,4975,0.13775191641296777,17918,0.49612840970604155,3512,9.7243161897958355E-2,11420.119999999999,0.31620973179217315,15581.02,0.4314201738027697]
[122,null,376,"Israel",null,8064.55,342.64,4.2487181553837468E-2,830.07,0.10292824770135965,2246.7199999999998,0.27859210991313832,884.09,314.47000000000003,466.58,152.10999999999996,589.05999999999995,745,9.237961200562958E-2,672,8.3327650023869895E-2,1416.65,0.17566386221177871,2628,0.32587063134334837,5436.62,0.67413804862019577,624,571,564,1759,0.21811508391664755,559,547,502,1608,0.19939116255711725,425,5.2699778660929626E-2,387,362,371,312,195,156,124,78,34,7,1,2452,0.3040467230037634,3792,0.47020602513469445,2027,0.25134694434283378,1797.9299999999998,0.22294238364198868,3409.62,0.422791104277362]
[123,null,400,"Jordan",null,9159.2999999999993,491.04,5.3611083816448864E-2,1201.9100000000001,0.13122291004771108,3299.86,0.36027425676634683,1308.6199999999999,462.12,686.83,224.71000000000004,872.53,1102,0.12031487122378348,996,0.1087419344273034,2097.9499999999998,0.2290513467186357,3863,0.42175712117738257,5296.56,0.57827126527136363,922,836,763,2521,0.27523937418798383,704,602,534,1840,0.20088871420305046,437,4.7711069623224488E-2,329,226,161,128,102,66,34,12,2,0,0,1497,0.16344043758802529,4798,0.52383915801425873,1060,0.11572936796480081,2661.09,0.29053421112967154,4236.5600000000004,0.46254189730656281]
[124,null,414,"Kuwait",null,3935.79,124.86,3.1724253580602622E-2,310.77999999999997,7.8962546274064419E-2,822.03,0.20886022882318417,329.27,120.78,178.75,57.97,219.89,280,7.1142007068466559E-2,232,5.8946234428158009E-2,511.24,0.129895141763153,954,0.24239098122613251,2981.52,0.7575404175527658,218,229,357,804,0.20427919172516826,503,508,437,1448,0.36790580798264133,341,8.6640801465525344E-2,209,151,79,37,23,14,6,1,0,0,0,861,0.21876167173553468,2593,0.658825801173335,520,0.13212087027000932,643.22,0.16342843495206807,2461.52,0.62541954728275639]
[125,null,422,"Lebanon",null,5851.48,197.02,3.3670114227511677E-2,461.17,7.8812539733537509E-2,1403.81,0.23990682699077842,533.21,171.07,256.76,85.69,353.3,439,7.502375467403119E-2,504,8.6132055479981137E-2,942.64,0.16109428725724093,1733,0.29616438918017324,4118.75,0.70388175299240541,557,583,544,1684,0.28779043934184173,481,392,336,1209,0.20661439499066905,331,5.656688564260666E-2,310,244,194,159,129,100,59,22,6,1,0,1555,0.26574473466541798,3224,0.5509717199751174,1224,0.20917784902281134,1271.83,0.21735184944663571,2894.75,0.49470390396959407]
[126,null,512,"Oman",null,4199.8100000000004,164.09,3.9070815108302515E-2,384.26,9.1494615232593848E-2,931.19,0.22172193503991847,354.75,136.52000000000001,199.86,63.34,235.7,302,7.1908014886387706E-2,245,5.8335972341605924E-2,546.94000000000005,0.1302297008674202,1065,0.25358290017881757,3135.13,0.74649329374424078,236,382,694,1312,0.31239508453953868,637,412,301,1350,0.32144311290272654,196,4.6668777873284738E-2,146,104,64,33,30,18,9,5,2,1,0,608,0.14476845381100573,2858,0.68050697531554993,412,9.8099675937720981E-2,680.74,0.16208828494622374,2723.13,0.64839361780651983]
[127,null,634,"Qatar",null,2481.54,50.23,2.0241462962515212E-2,127.39,5.1335058068779874E-2,343.11,0.13826494837882927,138.53,50.58,74.94,24.36,92.41,117,4.7148141879639255E-2,98,3.9491606018843141E-2,215.71,8.6925860554333198E-2,393,0.1583693996469934,2088.77,0.84172328473447944,102,261,431,794,0.31996260386695358,404,312,239,955,0.38484167089791016,163,6.5685018174198279E-2,108,62,31,12,7,6,1,1,0,0,0,391,0.1575634485037517,1912,0.7704892929390621,228,9.1878430329553423E-2,265.61,0.10703434157821354,1860.77,0.74984485440492599]
[128,null,682,"Saudi Arabia",null,31557.14,1192,3.7772751269601744E-2,2960.32,9.380824751545927E-2,8204.39,0.25998522046040928,3282.29,1158.3599999999999,1723.22,564.86000000000013,2190.0100000000002,2765,8.7618839983598013E-2,2479,7.8555914762871409E-2,5244.07,0.16617697294495001,9600,0.30421007733907446,21957.08,0.69578802134794226,2339,2542,2819,7700,0.24400183286571597,3103,3389,2892,9384,0.29736535059894531,2088,6.6165691821248693E-2,1537,990,689,381,270,166,91,41,13,2,0,6268,0.19862382966263736,19172,0.60753287528590993,4180,0.13245813784138868,6639.68,0.21040182982361522,17777.080000000002,0.56332988350655355]
[129,null,275,"State of Palestine",12,4662.88,288.61,6.1895223552825722E-2,698.9,{"$f":"I139/F139","v":0.14988590742202243},1871.29,{"$f":"K139/F139","v":0.40131635384140274},734.28,263.86,390.88,127.01999999999998,489.2,619,{"$f":"R139/F139","v":0.13275057475208454},553,{"$f":"T139/F139","v":0.11859623237140994},1172.3900000000001,{"$f":"V139/F139","v":0.25143044641938034},2193,{"$f":"X139/F139","v":0.47031019455786982},2470.08,{"$f":"Z139/F139","v":0.52973269738873829},530,484,384,1398,{"$f":"AE139/F139","v":0.29981470679065297},306,258,210,774,{"$f":"AJ139/F139","v":0.16599183337336582},175,{"$f":"AL139/F139","v":3.7530453282091751E-2},138,96,72,58,39,25,12,4,1,0,0,620,{"$f":"AY139/F139","v":0.13296503448512506},{"$f":"AE139+AJ139+AL139","v":2347},{"$f":"BA139/F139","v":0.50333699344611049},445,{"$f":"BC139/F139","v":9.5434581203033317E-2},{"$f":"X139-I139","v":1494.1},{"$f":"BE139/F139","v":0.32042428713584736},{"$f":"Z139-BC139","v":2025.08},{"$f":"BG139/F139","v":0.43429811618570496}]
[130,null,760,"Syrian Arab Republic",null,18734.990000000002,846.65,{"$f":"G140/F140","v":4.5190843443204398E-2},2237.5500000000002,0.11943160898404535,7136.47,0.38091666982475036,2968.64,961.61,1453.79,{"$f":"O140-N140","v":492.17999999999995},1986.58,2472,0.131945626872499,2427,0.12954370405321805,4898.92,0.261485060840705,8496,0.45348302828023923,10239.379999999999,0.54653778838419442,2159,1553,1361,{"$f":"AB140+AC140+AD140","v":5073},0.27077676582693666,1300,1108,896,3304,0.17635451099787081,782,4.1740080992837464E-2,696,552,435,274,206,141,90,36,9,1,0,{"$f":"SUM(AN140:AX140)+AL140","v":3222},0.17197767386051446,9159,0.4888713578176449,2440,0.130237592867677,6258.45,0.33405141929619386,7799.3799999999992,0.41630019551651742]
[131,null,792,"Turkey",null,78271.47,2730.13,3.4880269911884879E-2,6740.35,8.6115030163608788E-2,20024.54,0.25583446944333615,7946.44,2654.45,3977.4,1322.9500000000003,5293.83,6619,8.4564656828343715E-2,6665,8.5152355002403812E-2,13284.19,0.16971943927972735,24057,0.30735336898617083,54214.66,0.692649058462809,6670,6315,6312,19297,0.24653938401821252,6303,5937,5375,17615,0.22505007252323228,4701,6.0060198179489918E-2,4115,3536,2877,2145,1627,1185,770,299,70,9,1,21335,0.27257696833852746,41613,0.53164965472093473,16634,0.2125167701590375,17316.650000000001,0.22123833882256205,37580.660000000003,0.48013228830377153]
[132,null,784,"United Arab Emirates",null,9154.2999999999993,184.22,2.0123876211179448E-2,470.66,5.1414089553543152E-2,1262.06,0.13786526550364311,515.34,188.62,279.66000000000003,91.04000000000002,344.51,438,4.7846367280949938E-2,353,3.8561113356564675E-2,791.4,8.6451175950099962E-2,1447,0.15806779327747617,7707.46,0.84194968484755806,329,605,1326,2260,0.24687851610718461,1551,1370,1129,4050,0.44241503992659192,714,7.7996132964836207E-2,458,231,86,45,26,11,7,2,1,0,0,1581,0.17270572299356587,7024,0.76728968899861272,867,9.4709590028729682E-2,976.33999999999992,0.10665370372393301,6840.46,0.74724009481882836]
[133,null,887,"Yemen",null,26916.21,1653.99,6.1449587441916975E-2,4016.66,0.1492282903127892,10920.18,0.40571016498979612,4307.5200000000004,1527.62,2267.94,740.32000000000016,2870.46,3626,0.13471435985972766,3277,0.12174819560406165,6903.52,0.25648187467700695,12748,0.47361794249636185,14168.38,0.52638837340026701,3020,2897,2418,8335,0.3096646964784418,1903,1459,1012,4374,0.16250430502659921,816,3.0316303818405343E-2,694,563,444,343,213,125,60,22,5,1,0,3286,0.12208256660205877,13525,0.50248530532344637,2470,9.1766262783653421E-2,8731.34,0.32438965218357269,11698.38,0.43462211061661354]
[134,null,908,"EUROPE",null,740813.96,15776.86,2.1296655910749848E-2,40069.69,5.408873504489576E-2,116776.36,0.15763250465744463,47128.76,16190.27,24200.51,8010.239999999998,31457.42,39534,5.3365625021429136E-2,37172,5.017724018051712E-2,76706.67,0.10354376961254888,138959,0.18757610885194442,601855.11,0.81242409362804124,37753,43923,51287,132963,0.17948230889169531,52053,51884,52357,156294,0.21097604586177077,52241,7.0518379540255971E-2,54351,51410,46401,38612,29288,27695,18518,11174,4249,731,111,334781,0.45190968053571778,341498,0.46097673429372205,282540,0.38139130099546181,98889.31,0.13348737380704867,319315.11,0.43103279263257943]
[135,null,923,"Eastern Europe",null,293243.71000000002,6837.76,2.3317669797589178E-2,17057.759999999998,5.8169227227414348E-2,46729.25,0.15935294912208006,18683.84,6682.82,9923.25,3240.4300000000003,12465.24,15777,5.3801665515690003E-2,13894,4.7380385413893444E-2,29671.49,0.10118372189466571,54719,0.18659905782804342,238524.75,0.81340107857726929,13824,18237,23819,55880,0.19055822203313413,23501,22372,20794,66667,0.22734332477242222,18415,6.2797595897282843E-2,20940,21470,19696,13668,9441,10198,5728,3375,901,117,17,123966,0.42274052527844497,140962,0.4806991427028392,105551,0.35994292938116212,37661.240000000005,0.1284298306006291,132973.75,0.45345814919610722]
[136,null,112,"Belarus",null,9485.77,233.88,2.4655879280227118E-2,575.89,6.0710938595390777E-2,1530.62,0.16135959442406889,604.4,220.82,326.61,105.79000000000002,402.87,512,5.3975586589175152E-2,443,4.6701532927743344E-2,954.73,0.10064865582867812,1795,0.18923081626478397,7690.52,0.81074282846832679,461,613,769,1843,0.19429102750751914,751,678,654,2083,0.21959208372119501,640,6.7469483236468938E-2,730,724,576,431,274,319,190,113,28,3,0,4028,0.42463606011952637,4566,0.48135259446518308,3388,0.35716657688305747,1219.1100000000001,0.12851987766939321,4302.5200000000004,0.45357625158526932]
[137,null,100,"Bulgaria",null,7177.4,124.7,1.7373979435450163E-2,335.56,4.6752305848914655E-2,1005.3,0.14006464736534122,420.84,144.43,216.62,72.19,281.88,354,4.9321481316354117E-2,315,4.3887758798450693E-2,669.74,9.3312341516426561E-2,1182,0.16468359015799594,5995.3,0.83530247722016338,305,396,486,1187,0.16538022125003485,482,541,537,1560,0.21734890071613677,491,6.8409173238219975E-2,490,500,502,488,354,275,205,92,24,2,0,3423,0.47691364560983091,3238,0.45113829520439158,2932,0.40850447237161092,846.44,0.1179312843090813,3063.3,0.42679800484855246]
[138,null,203,"Czech Republic",null,10603.76,204.46,1.9281839649331934E-2,552.36,5.2090956415460174E-2,1604.43,0.15130764936211308,674.93,237.27,354.76,117.48999999999998,452.46,571,5.3848823436215075E-2,481,4.536126807849291E-2,1052.07,9.9216692946652876E-2,1866,0.17597531441677292,8737.5300000000007,0.82400299516397957,456,615,701,1772,0.16711053437648532,751,927,870,2548,0.24029212279417866,701,6.6108625619591535E-2,672,670,729,680,491,311,239,133,48,5,1,4680,0.44135287860155265,5021,0.47351128279025551,3979,0.37524425298196112,1313.6399999999999,0.12388435800131273,4758.5300000000007,0.4487587421820185]
[139,null,348,"Hungary",null,9783.93,169.4,1.7314105885876126E-2,446.93,4.5680007931373182E-2,1412.9,0.14441027276360319,579.54,190.39,286.93,96.54000000000002,387.16,483,4.9366665542374073E-2,483,4.9366665542374073E-2,965.98,9.8731286916402719E-2,1709,0.17467418511784119,8075.15,0.8253483007339586,513,630,610,1753,0.17917135547780902,644,818,782,2244,0.22935568835835907,665,6.7968597485877344E-2,580,682,736,540,448,328,229,110,50,6,1,4375,0.44716182556498257,4662,0.47649564132204542,3710,0.37919322807910522,1262.07,0.128994177186468,4365.1499999999996,0.44615507265485338]
[140,null,616,"Poland",null,38265.230000000003,697.55,1.8229342930906202E-2,1902.63,4.9722162913956092E-2,5695.33,0.14883825342223211,2372.63,825.27,1235.33,410.05999999999995,1589.09,2003,5.2345170798659774E-2,1790,4.6778759725212678E-2,3792.7,9.9116090508276036E-2,6860,0.17927502330444633,31405.62,0.82073516871582886,2024,2493,2840,7357,0.19226331580915623,3228,3037,2654,8919,0.23308366368110159,2323,6.0707854101491085E-2,2439,2900,2659,2070,1227,1149,861,479,163,22,3,16295,0.42584351381136343,18599,0.48605483359174889,13972,0.36513565970987233,4957.37,0.12955286039049024,17433.62,0.45559950900595653]
[141,null,498,"Republic of Moldova",13,4065.98,86.38,2.1244570804578478E-2,222.22,5.4653490671375655E-2,639.46,0.15727081785940905,256.49,90.28,134.47,44.19,171.13,216,5.3123724169818837E-2,201,4.9434576658025864E-2,417.24,0.10261732718803339,776,0.19085189794342322,3289.75,0.80909153512806264,243,332,426,1001,0.24618911062031787,359,305,265,929,0.22848120256371157,241,5.9272303356140463E-2,306,279,268,121,107,86,57,26,6,1,0,1498,0.36842286484439174,2171,0.53394261654016995,1257,0.30915056148825132,553.78,0.13619840727204757,2032.75,0.49994097363981133]
[142,null,642,"Romania",null,19876.62,368.63,1.8545909717044447E-2,971.25,4.886394165607634E-2,3064.32,0.15416705657199264,1257.93,413.32,622.94000000000005,209.62000000000006,840.62,1049,5.2775572506794419E-2,1044,5.2524020683597114E-2,2093.0700000000002,0.1053031149159163,3713,0.18680238390631809,16163.36,0.8131845353988757,1088,1148,1427,3663,0.18428686567434505,1270,1555,1534,4359,0.21930287946340979,1569,7.8936962119314058E-2,1094,1382,1367,1055,740,758,496,247,74,8,1,8791,0.44227841554550024,9591,0.48252670725706887,7222,0.36334145342618618,2741.75,0.13793844225024174,8941.36,0.44984308197268957]
[143,null,643,"Russian Federation",null,143888,3937.78,2.7366979873234741E-2,9355.2099999999991,6.5017305126209263E-2,24220.15,0.16832640664961637,9395.3700000000008,3432.9,5067.49,1634.5899999999997,6249.76,7938,5.5167908373179142E-2,6927,4.8141610141220953E-2,14864.94,0.1033091015234071,27879,0.19375486489491828,116009.38,0.80624777604803743,6333,8925,12577,27835,0.19344907150005561,11932,10669,9951,{"$f":"AG153+AH153+AI153","v":32552},0.22623151339931058,8540,5.9351718002891136E-2,10995,10785,9553,5892,3999,4992,2548,1565,353,51,8,59281,0.41199405092849994,68927,0.47903230290225729,50741,0.35264233292560881,18523.79,0.12873755976870901,65268.380000000005,0.45360544312242856]
[144,null,703,"Slovakia",null,5439.32,110.66,2.0344454821558576E-2,285.31,5.2453247832449645E-2,831.32,0.15283528088069834,336.39,116.78,174.37,57.59,224.62,283,5.2028562393828644E-2,263,4.8351632189317782E-2,546.01,0.10038203304824868,998,0.18347881720509182,4441.33,0.81652302126001042,290,364,411,1065,0.1957965333902032,439,461,408,1308,0.24047123537501011,353,6.4897818109616645E-2,374,382,361,266,194,137,98,49,18,2,0,2234,0.41071310384386284,2726,0.50116558687482993,1881,0.34581528573424619,712.69,0.13102556937264218,2560.33,0.47070773552576428]
[145,null,804,"Ukraine",14,44657.7,904.33,2.0250259193823238E-2,2410.42,5.3975462238315008E-2,6725.43,0.15059956065807242,2785.32,1011.37,1503.74,492.37,1865.65,2369,5.3047962613390301E-2,1946,4.3575911880817872E-2,4315.01,9.6624098419757415E-2,7941,0.1778192786462357,36716.83,0.82218363238590442,2113,2722,3573,8408,0.18827660179543507,3644,3383,3139,10166,0.22764271335066519,2892,6.4759268838296649E-2,3261,3166,2945,2123,1606,1844,805,561,137,17,2,19359,0.43349747076092143,21466,0.48067858398439689,16467,0.3687382019226248,5530.58,0.12384381640792071,20249.830000000002,0.45344543046327962]
[146,null,924,"Northern Europe",15,103097.29,2419.69,2.3469967057330024E-2,6248.82,6.0610904515530917E-2,18057.490000000002,0.17514999666819567,7344.6,2561.46,3823.69,1262.23,4907.92,6185,5.9991877575055565E-2,5623,5.4540715861687544E-2,11808.66,0.11453899515690472,21516,0.20869607726837439,81581.11,0.79130217680794523,5899,6662,6942,19503,0.18917083077547434,6850,6655,6815,20320,0.19709538436946308,7270,7.0515917537696676E-2,7152,6372,5716,5875,4448,3438,2508,1574,689,155,21,45218,0.43859542767806992,47093,0.45678213268263407,37948,0.36807951014037327,15267.18,0.14808517275284347,43633.11,0.42322266666757197]
[147,null,830,"Channel Islands",16,163.76,3.09,1.8869076697606253E-2,7.89,4.818026380068393E-2,24.08,0.14704445530043966,9.69,3.23,4.84,1.6099999999999999,6.46,8,4.8851978505129463E-2,8,4.8851978505129463E-2,16.190000000000001,9.8864191499755755E-2,29,0.17708842208109429,134.57,0.82175134342940892,9,10,10,29,0.17708842208109429,11,12,12,35,0.21372740595994139,13,7.9384465070835367E-2,13,12,10,9,7,5,4,2,1,0,0,76,0.46409379579872989,77,0.47020029311187106,63,0.38470933072789448,21.11,0.12890815828041036,71.569999999999993,0.43704201270151438]
[148,null,208,"Denmark",null,5688.7,107.8,1.8949847944170022E-2,295.08,5.1871253537715122E-2,958.16,0.1684321549738956,399.06,130.59,197.24,66.650000000000006,267.05,333,5.8537099864643942E-2,330,5.800973860460211E-2,663.08,0.1165609014361805,1170,0.20567089141631656,4519.1400000000003,0.79440645490182304,360,389,346,1095,0.19248685991527062,312,358,378,1048,0.18422486684128184,427,7.5061086012621514E-2,396,356,325,382,271,190,121,76,34,8,1,2587,0.45476119324274439,2570,0.45177281276917397,2160,0.37970010723012287,874.92000000000007,0.15379963787860146,2359.1400000000003,0.41470634767170012]
[149,null,233,"Estonia",null,1315.32,25.44,1.9341300976188306E-2,71.08,5.4040081501079584E-2,212.17,0.16130675424991636,90.98,31.65,47.47,15.82,61.1,77,5.8540887388620261E-2,64,4.8657360946385675E-2,141.09,0.10726667274883679,246,0.18702673113766993,1069.21,0.81288963902320355,58,76,99,233,0.17714320469543535,93,90,92,275,0.20907459781650095,84,6.3862786242131195E-2,90,90,83,70,56,55,36,22,7,1,0,594,0.45160113128364204,592,0.45008058875406748,510,0.38773834504151083,174.92000000000002,0.13298664963659035,559.21,0.42515129398169271]
[150,null,246,"Finland",17,5481.97,115.9,2.1142034706501493E-2,300.17,5.4755863311911596E-2,898.53,0.16390640590882474,366.04,124.3,186.29,61.989999999999995,244.52,307,5.6001765788576005E-2,292,5.3265523160469681E-2,598.36,0.10915054259691315,1076,0.19627980452282665,4406.37,0.80379316194725614,303,347,340,990,0.18059201345501708,355,343,314,1012,0.18460516930957302,354,6.4575326023309135E-2,376,368,373,384,252,195,142,92,37,7,1,2581,0.47081614820949402,2356,0.42977250878789924,2227,0.4062408221861849,775.82999999999993,0.14152394121091502,2179.37,0.39755233976107124]
[151,null,352,"Iceland",null,330.24,8.6,2.6041666666666664E-2,22.59,6.8404796511627911E-2,67.08,0.203125,27.58,9.4700000000000006,14.19,4.7199999999999989,18.45,23,6.9646317829457363E-2,21,6.3590116279069769E-2,44.49,0.1347202034883721,80,0.24224806201550386,250.39,0.7582061531007751,22,25,23,70,0.21196705426356588,23,22,21,66,0.19985465116279069,21,6.3590116279069769E-2,22,21,18,15,11,8,6,4,2,0,0,128,0.38759689922480617,157,0.47541182170542634,107,0.32400678294573643,57.41,0.17384326550387597,143.38999999999999,0.43419937015503873]
[152,null,372,"Ireland",null,4700.1099999999997,136.02000000000001,2.8939748218658717E-2,352.88,7.507909389354718E-2,1021.58,0.21735235983838677,422.33,146.07,218.54,72.47,282.66000000000003,356,7.5742908144702997E-2,313,6.6594186093516972E-2,668.7,0.14227326594483961,1188,0.25276004178625611,3512.4,0.74730165889734501,270,254,295,819,0.17425124092840383,364,383,370,1117,0.2376540123529024,310,6.5955903159713294E-2,304,260,245,214,155,115,74,40,18,4,0,1739,0.36999134062819811,2246,0.47786115644101951,1429,0.30403543746848483,835.12,0.17768094789270891,2083.4,0.44326622142886024]
[153,null,428,"Latvia",null,1992.66,37.36,1.8748808125821765E-2,100.81,5.0590667750644865E-2,301.51,0.15131030883341864,126.79,43.53,65.3,21.769999999999996,84.95,107,5.3697068240442423E-2,94,4.7173125370108294E-2,200.7,0.10071964108277377,351,0.17614645749902141,1641.38,0.82371302680838676,87,125,146,358,0.1796593498138167,137,130,138,405,0.20324591249887083,133,6.6744953981110675E-2,146,142,122,103,97,88,55,31,9,1,0,927,0.46520731083074884,896,0.4496502162937982,794,0.39846235684963816,250.19,0.12555578974837653,847.38000000000011,0.42525066995874866]
[154,null,440,"Lithuania",null,2931.93,61.93,2.1122605246373549E-2,151.44999999999999,5.1655394228375166E-2,427.95,0.14596187494244406,165.62,58.01,86.17,28.160000000000004,110.1,139,4.7409044554269718E-2,138,4.706797229128936E-2,276.5,9.4306480714068899E-2,525,0.17906293806468779,2407.39,0.82109395517628325,170,207,196,573,0.19543440668774495,179,180,201,560,0.1910004672690003,208,7.0943030699914394E-2,232,213,171,144,132,122,86,46,15,2,0,1371,0.46761007254607034,1341,0.45737790465665962,1163,0.39666704184615598,373.55,0.12740754383631261,1244.3899999999999,0.42442691333012722]
[155,null,578,"Norway",18,5199.84,118.9,2.286608818732884E-2,308.95,5.941528970122157E-2,934.01,0.17962283454875533,380.26,128.51,192.73,64.22,254.02,318,6.1155727868549802E-2,307,5.9040278162404994E-2,625.07000000000005,0.12020946798363027,1127,0.21673743807501769,4072.76,0.78324717683621037,327,348,359,1034,0.19885227237761161,350,340,374,1064,0.20462168066709743,378,7.2694544447521464E-2,338,318,286,285,202,140,106,70,36,8,1,2168,0.41693590572017597,2476,0.4761684974922305,1790,0.34424136127265453,818.05,0.1573221483737961,2282.7600000000002,0.43900581556355583]
[156,null,752,"Sweden",null,9763.57,227.62,2.3313193842006561E-2,587.41,6.0163444313913864E-2,1688.81,0.1729705425372072,690.8,240.85,359.64,118.78999999999999,461.71,582,5.96093437134163E-2,520,5.3259207441540342E-2,1101.4100000000001,0.11280812243882106,1976,0.20238498827785328,7787.83,0.79764164132586746,506,698,667,1871,0.19163072523677302,610,599,650,1859,0.19040166660350671,680,6.964665588509121E-2,623,579,548,602,481,331,241,162,77,17,2,4343,0.44481680368963405,4410,0.45167904772537099,3663,0.37517014780454283,1388.5900000000001,0.14222154396393943,4124.83,0.42247149352132468]
[157,null,826,"United Kingdom",null,65397.08,1574.06,2.4069270371093021E-2,4042.92,6.1821108832382121E-2,11499.86,0.17584668917939456,4655.83,1642.11,2446.52,804.41000000000008,3110.49,3928,6.006384382911286E-2,3529,5.3962653990055821E-2,7456.95,0.11402573325903848,13721,0.20981059093158289,51676.47,0.79019537263743278,3780,4175,4454,12409,0.18974853311493417,4408,4191,4255,12854,0.19655311827378225,4651,7.111938331191546E-2,4602,4004,3527,3659,2777,2184,1632,1027,452,105,15,28635,0.43786358656992025,29914,0.45742103470063189,23984,0.36674420325800478,9678.08,0.14798948209920076,27692.47,0.42345116937942795]
[158,null,925,"Southern Europe",19,152440.65,2616.0500000000002,1.7161104993976346E-2,6966.4,4.5699096664833162E-2,22180.44,0.14550213476523485,9185.01,3003.78,4533.6499999999996,1529.8699999999994,6142.76,7657,5.0229384353845254E-2,7557,4.9573391349354651E-2,15214.04,9.9803038100401711E-2,26694,0.17511077261872079,125746.55,0.82488857138827476,7556,7880,8438,23874,0.15661176989208589,9603,11235,12037,32875,0.2156577002262848,11855,7.7767970682360646E-2,11518,10397,9287,8539,6794,6139,4786,2810,1134,218,32,73509,0.48221389767099526,68604,0.45003744080073133,{"$f":"SUM(AN168:AX168)","v":61654},0.40444592698863463,19727.599999999999,0.12941167595388761,64092.55,0.42044264439964013]
[159,null,8,"Albania",null,2923.35,74.69,2.5549455248259703E-2,171.78,5.8761352557853148E-2,526.99,0.18026921169206561,194.39,62.04,92.96,30.919999999999995,128.44,159,5.4389655703217202E-2,196,6.7046368036670259E-2,355.21,0.12150785913421246,676,0.23124155506525049,2247.31,0.7687447620024972,250,225,205,680,0.23260984829048867,208,190,188,586,0.2004549574973917,194,6.6362221424051182E-2,214,201,155,114,104,82,43,19,5,1,0,1132,0.38722698274240169,1460,0.49942702721193155,938,0.32086476131835051,504.22,0.17248020250739735,1309.31,0.44788000068414663]
[160,null,70,"Bosnia and Herzegovina",null,3535.96,60.9,1.7223045509564588E-2,162.36000000000001,4.5916809013676632E-2,511.93,0.14477822147309358,206.6,69.260000000000005,103.99,34.72999999999999,137.91999999999999,173,4.8925892826841934E-2,177,5.0057127343069489E-2,349.57,9.8861412459416959E-2,649,0.18354280025792147,2887.36,0.81657032319370126,233,237,246,716,0.2024909784047331,245,245,249,739,0.20899557687304154,241,6.8156879602710441E-2,278,258,235,177,114,137,80,36,10,1,0,1567,0.44316112173214628,1696,0.47964343488048505,1326,0.37500424212943584,486.64,0.13762599124424485,1561.3600000000001,0.44156608106426548]
[161,null,191,"Croatia",null,4236.0200000000004,75.930000000000007,1.7924844547476167E-2,204.98,4.8389762087997688E-2,628.12,0.14828069744713196,258.83999999999997,88.36,132.52000000000001,44.160000000000011,173.18,217,5.1227331315716162E-2,206,4.863055415224668E-2,423.14,9.9890935359134264E-2,771,0.1820104720940883,3464.76,0.81792814953659332,241,242,274,757,0.17870548297694533,289,291,289,869,0.20514539591408915,276,6.5155499737961572E-2,304,307,295,247,171,177,123,60,20,3,1,1984,0.46836417202940489,1902,0.44900637862899606,1708,0.40320867229144336,566.02,0.1336207100060906,1756.7600000000002,0.41471947724514996]
[162,null,300,"Greece",null,11217.8,179.59,1.6009377952896291E-2,503.53,4.4886697926509657E-2,1631.74,0.14545989409688176,691.76,227.88,344.35,116.47000000000003,463.79,579,5.161439854516929E-2,549,4.8940077377025805E-2,1128.21,0.1005731961703721,1966,0.17525718055233647,9251.36,0.8247035960705309,559,566,620,1745,0.15555634794701279,785,868,869,2522,0.2248212662019291,877,7.8179322148727914E-2,793,763,647,608,463,483,388,208,71,14,2,5317,0.47397885503396392,5144,0.4585569362976698,4440,0.39579953288523601,1462.47,0.13037048262582682,4811.3600000000006,0.42890406318529489]
[163,null,380,"Italy",null,59504.21,963.29,1.6188602453507072E-2,2553.6799999999998,4.2915955022342113E-2,8167.97,0.13726709421064492,3375.39,1097.75,1657.89,560.1400000000001,2256.71,2810,4.7223549392555589E-2,2804,4.7122716191005644E-2,5614.29,9.4351139188302818E-2,9834,0.16526561734035289,49670.42,0.83473791182170132,2788,2909,3053,8750,0.14704841892699694,3345,3947,4663,11955,0.20091015408825696,4843,8.1389199184393843E-2,4691,4083,3708,3643,2931,2758,2035,1266,554,101,17,30630,0.51475349391244751,25548,0.4293477721996477,25787,0.43336429472805371,7280.32,0.12234966231801077,23883.42,0.40137361709364766]
[164,null,470,"Malta",null,427.62,8.6300000000000008,2.0181469529021095E-2,21.31,4.983396473504513E-2,61.63,0.14412328703054114,24.08,8.3000000000000007,12.37,4.0699999999999985,16.02,20,4.6770497170384923E-2,20,4.6770497170384923E-2,40.32,9.4289322295495998E-2,75,0.17538936438894345,352.16,0.82353491417613778,24,29,31,84,0.19643608811561666,32,31,28,91,0.2128057621252514,25,5.8463121462981153E-2,29,31,29,30,19,15,8,5,2,0,0,193,0.45133529769421449,200,0.46770497170384923,168,0.39287217623123333,53.69,0.12555539965389831,184.16000000000003,0.43066273794490439]
[165,null,499,"Montenegro",null,628.17999999999995,14.25,2.2684580852621861E-2,37.18,5.9186857270209177E-2,115.95,0.18458085262186,47.29,15.63,23.52,7.8899999999999988,31.58,39,6.2084116017701939E-2,39,6.2084116017701939E-2,78.77,0.1253939953516508,141,0.22445795791015316,487.5,0.7760514502212742,42,43,43,128,0.20376325257091918,46,43,42,131,0.2085389538030501,39,6.2084116017701939E-2,44,42,41,28,20,20,13,5,1,0,0,253,0.40275080390970747,298,0.47438632239167122,214,0.34066668789200549,103.82,0.16527110063994396,273.5,0.4353847623292687]
[166,null,620,"Portugal",null,10418.469999999999,170.44,1.6359407859311396E-2,442.41,4.2464008630825834E-2,1466.6,0.14076923003089706,596.70000000000005,187.61,284.41000000000003,96.800000000000011,398.14,493,4.7319807994839938E-2,531,5.0967176562393524E-2,1024.19,9.8305221400071224E-2,1796,0.17238615650858524,8622.26,0.82759368698090996,549,543,570,1662,0.15952438313879103,664,775,821,2260,0.21692244638608166,758,7.2755404584358363E-2,759,699,653,606,506,439,343,182,69,14,2,5030,0.48279641828406672,4680,0.44920223410923105,4272,0.41004101369970836,1353.59,0.12992214787775941,4350.26,0.4175526732812016]
[167,null,688,"Serbia",20,8851.2800000000007,189.15,2.1369790583960737E-2,467.96,5.2869189540947742E-2,1475.29,0.16667532831409693,584.98,186.93,281.93,95,389.33,483,5.4568378810748275E-2,524,5.9200477219114069E-2,1007.33,0.11380613877314918,1796,0.20290850588841386,7055.64,0.7971321661951718,539,577,614,1730,0.19545195723104453,594,624,606,1824,0.20607189016729782,566,6.3945553637440006E-2,562,591,660,526,314,284,200,94,24,2,0,3823,0.43191493207762038,4120,0.46546940103578238,3257,0.36796937844018035,1328.04,0.15003931634746612,3798.6400000000003,0.42916278775499139]
[168,null,705,"Slovenia",null,2074.79,42.38,2.0426163611739021E-2,108.98,5.2525797791583728E-2,305.19,0.14709440473493704,124,44.22,65.790000000000006,21.570000000000007,82.88,105,5.0607531364620033E-2,91,4.3859860516004032E-2,196.22,9.4573426708245173E-2,361,0.17399351259645554,1713.66,0.82594383045995023,95,108,133,336,0.16194410036678411,149,158,148,455,0.21929930258002014,153,7.3742402845589194E-2,153,151,147,106,91,75,58,32,11,1,0,978,0.47137300642474661,944,0.45498580579239345,825,0.39763060357915742,252.01999999999998,0.12146771480487181,888.66000000000008,0.42831322688079282]
[169,null,724,"Spain",21,46397.66,786.24,1.6945682174488972E-2,2169.48,4.6758392556866014E-2,6916.92,0.14907906993585451,2935.78,968.27,1462.6,494.32999999999993,1968.26,2457,5.2955256795278037E-2,2290,4.935593734684033E-2,4747.45,0.10232089290709918,8176,0.17621578329596793,38221.97,0.82379089807546324,2096,2239,2475,6810,0.14677464337641163,3071,3895,3976,10942,0.23583085871140913,3723,8.02411156079854E-2,3538,3126,2584,2356,1986,1612,1462,889,364,79,10,21729,0.46832103170720246,21475,0.46284661769580615,18006,0.38807991609921705,6006.52,0.12945739073910192,20215.97,0.43571098197624619]
[170,null,807,"TFYR Macedonia",22,2079.31,48.16,2.3161529545858962E-2,116.01,5.5792546565928122E-2,350.16,0.16840201797711743,135.91999999999999,44.48,66.709999999999994,22.229999999999997,90.28,112,5.3864022199672006E-2,122,5.8673309896071293E-2,234.15,0.11260947141118929,427,0.20535658463624953,1652.66,0.79481174043312453,131,154,163,448,0.21545608879868802,165,156,147,468,0.22507466419148661,148,7.1177457906709443E-2,142,136,126,91,70,54,31,12,3,0,0,813,0.39099508971726199,1064,0.51170821089688412,665,0.31981763181055256,310.99,0.14956403807032143,987.66000000000008,0.47499410862257196]
[171,null,926,"Western Europe",23,192032.31,3903.36,2.0326579417807349E-2,9796.7000000000007,5.1015894148229539E-2,29809.18,0.15523002353093601,11915.31,3942.22,5919.92,1977.7000000000003,7941.5,9915,5.1631936313217289E-2,10098,5.258490094713749E-2,20012.48,0.10421412938270648,36030,0.18762467628494392,156002.69,0.8123773025487222,10473,11143,12088,33704,0.1755121312658271,12099,11621,12710,36430,0.18970765909132686,14701,7.6554825591589243E-2,14740,13171,11703,10530,8605,7920,5496,3416,1524,242,42,92090,0.47955471659951393,84835,0.44177461594874323,77389,0.40299989100792466,26233.3,0.13660878213671437,78613.69,0.40937741154079749]
[172,null,40,"Austria",null,8678.66,164.36,1.8938407542178171E-2,407.01,4.6897792977256859E-2,1225.42,0.14119921739070318,483.45,160.79,240.98,80.19,321.75,402,4.6320514918201661E-2,416,4.793366717903455E-2,818.41,9.4301424413446314E-2,1490,0.17168549061721511,7189.04,0.82835829494415036,457,552,576,1585,0.18263188095858116,594,547,603,1744,0.20095268163518332,712,8.2040314979501441E-2,702,600,475,442,433,322,215,147,65,9,1,4123,0.47507334081528718,4041,0.46562487757326593,3411,0.3930330258357857,1082.99,0.12478769763995824,3778.04,0.43532526910836467]
[173,null,56,"Belgium",null,11287.94,251.41,2.2272442978966932E-2,644.95000000000005,5.7136200227853796E-2,1919.42,0.17004165507612548,779.12,264.41000000000003,396.15,131.73999999999995,520.29,653,5.7849350722983993E-2,622,5.510305689080558E-2,1274.47,0.11290545484827169,2292,0.20304856333396526,8996.0300000000007,0.7969594097771604,631,695,716,2042,0.18090103242930064,738,741,763,2242,0.19861905715303235,799,7.0783508771308137E-2,816,758,665,598,431,396,324,200,84,13,2,5086,0.4505693687244971,5083,0.45030359835364114,4287,0.37978585995318898,1647.05,0.14591236310611147,4709.0300000000007,0.41717354982397148]
[174,null,250,"France",null,64457.2,1522.69,2.3623272497098852E-2,3873.55,6.0094915695996731E-2,11773.19,0.18265127867794445,4770.1000000000004,1583.57,2379.5700000000002,796.00000000000023,3184.08,3978,6.1715370819706725E-2,3922,6.0846577263672638E-2,7899.65,0.12255651812365415,14071,0.21829989512420647,50386.64,0.78170693111087675,3801,3713,3907,11421,0.17718734291902224,4046,3945,4365,12356,0.19169309247066271,4369,6.7781411541301823E-2,4330,4070,3930,3777,2407,2168,1873,1238,632,94,20,28908,0.44848364496130766,28146,0.43666184693098681,24539,0.38070223342000586,10197.450000000001,0.15820497942820974,25847.64,0.40100469769087083]
[175,null,276,"Germany",null,81707.789999999994,1419.72,1.7375577041063038E-2,3517.8,4.3053422446011583E-2,10719.05,0.13118761381258751,4224.58,1393.46,2090.9299999999998,697.4699999999998,2811.3,3508,4.2933482841721701E-2,3693,4.5197648841071338E-2,7201.25,8.8134191366575951E-2,13128,0.16067011480790266,68580.19,0.83933478068615008,4102,4571,5213,13886,0.16994707603767034,5058,4782,5191,15031,0.18396042776337485,6805,8.3284592570671667E-2,6921,5998,5092,4217,4226,4194,2464,1460,587,92,15,42071,0.51489582572236992,35722,0.43719209637171685,35266,0.4316112331516983,9610.2000000000007,0.1176166923618911,33314.19,0.40772354753445178]
[176,null,442,"Luxembourg",null,566.74,12.93,2.2814694568938136E-2,31.41,5.5422239474891485E-2,92.82,0.16377880509581111,36.200000000000003,12.11,18.11,6,24.07,30,5.2934326146028159E-2,31,5.4698803684229101E-2,61.41,0.10835656562091964,113,0.19938596181670606,453.83,0.80077284116173197,34,36,40,110,0.19409252920210326,45,42,44,131,0.23114655750432297,47,8.293044429544412E-2,42,36,29,24,18,14,12,7,3,0,0,232,0.40935878886261778,288,0.50816953100187034,185,0.32642834456717368,81.59,0.14396372234181459,268.83,0.4743444965945583]
[177,null,528,"Netherlands",null,16938.5,357.19,2.1087463470791393E-2,890.69,5.2583758892463917E-2,2838.15,0.16755615904596038,1133.6300000000001,360.02,543.84,183.82000000000005,754.98,936,5.5258730111875314E-2,1011,5.9686512973403785E-2,1947.46,0.11497240015349647,3440,0.20308764058210585,13498.29,0.79689996162588195,1010,1063,1066,3139,0.1853174720311716,1014,1002,1150,3166,0.18691147386132184,1285,7.5862679694187793E-2,1271,1156,1049,1023,724,549,396,226,95,20,2,7796,0.4602532691796794,7590,0.44809162558668125,6511,0.38439058948549165,2549.31,0.15050388168964193,6987.2900000000009,0.4125093721403903]
[178,null,756,"Switzerland",null,8319.77,173.25,2.0823892968195035E-2,427.27,5.1355987004448433E-2,1230.06,0.1478478371397286,484.19,166.51,248.31,81.800000000000011,322.36,405,4.867923031526112E-2,398,4.7837860902404751E-2,802.79,9.6491850135280166E-2,1483,0.17825011989514133,6836.37,0.82170180185269537,435,510,565,1510,0.18149540191615873,600,558,589,1747,0.20998176632286708,677,8.1372441786251304E-2,652,548,458,445,362,273,209,136,58,12,2,3832,0.46058965572365579,3934,0.47284961002527709,3155,0.37921721393740448,1055.73,0.1268941328906929,3681.37,0.44248458791529088]
[179,null,904,"LATIN AMERICA AND THE CARIBBEAN",null,632380.82999999996,21545.06,3.4069755087294477E-2,53446.01,8.4515544217240113E-2,161787.95000000001,0.25583942827615447,64319.17,21231.89,31875.599999999999,10643.71,42846.99,53466,8.4547154916128631E-2,54876,8.6776824022322119E-2,108341.94,0.17132388405891433,195262,0.30877280071883267,437119.26,0.69122787925117846,55744,54678,52958,163380,0.25835697770914406,50294,46263,41759,138316,0.21872263268954564,37471,5.9253851828493923E-2,33223,27526,22547,16723,12274,8782,5622,3121,1232,321,54,168896,0.26707956975862157,339167,0.53633346222718359,131425,0.20782571793012766,141815.99,0.22425725650159256,305694.26,0.48340216132105085]
[180,null,915,"Caribbean",24,43309.61,1443.5,3.3329785237040922E-2,3611.5,8.3387959392846073E-2,10826.39,0.24997662181672842,4329.67,1445.2,2167.38,722.18000000000006,2886.55,3609,8.3330235483533563E-2,3606,8.3260966792358559E-2,7214.89,0.16658866242388237,13010,0.30039522406228086,30299.94,0.69961239549374832,3634,3566,3463,10663,0.24620401799970029,3122,2752,2839,8713,0.20117936873594566,2759,6.3704106317281545E-2,2596,1992,1708,1311,1024,766,495,280,127,42,9,13109,0.3026810908710561,22135,0.51108749305292756,10350,0.23897698455377456,9398.5,0.21700726466943479,19949.939999999999,0.46063541093997379]
[181,null,28,"Antigua and Barbuda",null,99.92,3.24,3.2425940752602085E-2,8.0399999999999991,8.0464371497197748E-2,24.54,0.24559647718174538,9.75,3.2,4.8099999999999996,1.6099999999999994,6.49,8,8.0064051240992792E-2,8,8.0064051240992792E-2,16.5,0.16513210568454764,30,0.300240192153723,70.19,0.70246196957566054,9,8,8,25,0.25020016012810248,7,6,8,21,0.21016813450760607,9,9.0072057646116893E-2,6,5,4,2,2,1,1,0,0,0,0,30,0.300240192153723,55,0.55044035228182542,21,0.21016813450760607,21.96,0.21977582065652523,49.19,0.49229383506805441]
[182,null,533,"Aruba",null,104.34,2.0499999999999998,1.9647306881349431E-2,5.63,5.3958213532681612E-2,19.52,0.18708069771899558,8.1300000000000008,2.5299999999999998,3.85,1.3200000000000003,5.44,7,6.7088364960705388E-2,7,6.7088364960705388E-2,13.89,0.13312248418631398,24,0.23001725129384704,80.33,0.76988690818478045,8,7,5,20,0.19168104274487252,6,7,8,21,0.20126509488211616,8,7.6672417097949017E-2,9,8,7,5,3,2,1,1,0,0,0,44,0.42169829403871956,49,0.46961855472493769,36,0.34502587694077053,18.37,0.17605903776116544,44.33,0.42486103124400992]
[183,null,44,"Bahamas",null,386.84,10.79,2.7892668803639747E-2,27.93,7.2200392927308454E-2,80,0.20680384655154588,32.15,11.4,16.97,5.5699999999999985,21.47,27,6.9796298211146732E-2,25,6.4626202047358083E-2,52.07,0.13460345362423742,98,0.25333471202564367,289.2,0.74759590528383835,31,34,33,98,0.25333471202564367,32,27,29,88,0.22748423120670047,26,6.7211250129252414E-2,26,21,17,12,8,6,3,2,1,0,0,122,0.31537586599110745,212,0.54803019336159653,96,0.24816461586185504,70.069999999999993,0.18113431909833522,193.2,0.49943128942198323]
[184,null,52,"Barbados",null,284.22000000000003,6.78,2.385476039687566E-2,17.36,6.1079445499964809E-2,55.04,0.19365280416578703,22.39,7.21,10.89,3.6800000000000006,14.95,19,6.6849623531067479E-2,19,6.6849623531067479E-2,37.68,0.13257335866582223,66,0.23221448173949755,218.09,0.7673281260995003,18,18,18,54,0.18999366687777072,19,19,20,58,0.20406727183167966,20,7.0368024769544707E-2,21,19,16,13,10,8,6,3,1,0,0,117,0.41165294490183657,132,0.46442896347899509,97,0.34128492013229184,48.64,0.17113503623953275,121.09,0.42604320596720846]
[185,null,192,"Cuba",null,11461.43,260.32,2.2712698153720783E-2,629.37,5.4911996147077632E-2,1866.85,0.16288107155913353,724.69,241.27,360.98,119.71000000000001,481.59,602,5.2523986971957252E-2,636,5.5490457996951514E-2,1237.49,0.10796994790353386,2281,0.19901530611799748,9180.1200000000008,0.80095764664618641,700,741,828,2269,0.1979683163444701,692,688,996,2376,0.20730397515842264,1049,9.1524356035852419E-2,1017,665,625,480,401,311,203,120,57,19,3,4950,0.43188328158004713,5694,0.49679664753874514,3901,0.34035892554419472,1651.63,0.14410330997091986,5279.1200000000008,0.46059872110199168]
[186,null,531,"Curaçao",null,158.01,4.18,2.645402189734827E-2,9.9600000000000009,6.3033985190810715E-2,29.81,0.18865894563635213,11.54,3.77,5.66,1.8900000000000001,7.67,10,6.3287133725713568E-2,10,6.3287133725713568E-2,19.850000000000001,0.12562496044554144,36,0.22783368141256885,121.8,0.77083728877919122,11,9,9,29,0.18353268780456933,9,9,11,29,0.18353268780456933,12,7.5944560470856279E-2,13,12,10,9,6,5,3,2,1,0,0,73,0.46199607619770905,70,0.44300993607999495,61,0.38605151572685276,26.04,0.16479969622175811,60.8,0.38478577305233846]
[187,null,214,"Dominican Republic",null,10528.39,424.04,4.0275863641069533E-2,1062.22,0.10089101942462239,3154.19,0.2995890159844003,1268.96,425.58,638.05999999999995,212.47999999999996,846.56,1059,0.10058517969034203,1033,9.8115666307954028E-2,2091.96,0.19869704674693853,3744,0.35560992706387207,6784.78,0.64442711563686372,975,943,865,2783,0.26433291319945407,785,690,622,2097,0.19917575241798605,559,5.3094537721342011E-2,496,415,322,235,170,131,86,47,21,8,3,2493,0.23678834085743405,5439,0.51660320333878207,1934,0.18369380313609204,2681.7799999999997,0.2547189076392497,4850.78,0.46073331250077171]
[188,null,308,"Grenada",null,106.82,3.96,3.707170941771204E-2,9.94,9.3053735255570119E-2,28.29,0.2648380453098671,11.26,3.93,5.86,1.9300000000000002,7.51,9,8.4253885040254634E-2,9,8.4253885040254634E-2,18.36,0.17187792548211947,34,0.3182924545965175,72.78,0.68133308369219248,10,10,11,31,0.29020782624976599,9,7,6,22,0.20595394120951135,5,4.6807713911252574E-2,6,4,3,2,2,2,1,1,0,0,0,26,0.24340011233851341,58,0.54296948137052992,21,0.19659239842726081,24.060000000000002,0.22523871934094741,51.78,0.48474068526493169]
[189,null,312,"Guadeloupe",25,450.42,10.65,2.364459837485014E-2,26.57,5.8989387682607343E-2,87.52,0.19430753518937879,34.770000000000003,10.81,16.37,5.5600000000000005,23.14,29,6.4384352382221038E-2,32,7.1044802628657699E-2,60.95,0.13531814750677146,108,0.23977620887171971,342.19,0.75971315660938676,34,30,19,83,0.18427245681808088,20,24,33,77,0.17095155632520759,34,7.5485102792948802E-2,36,31,27,23,18,13,10,6,3,1,0,202,0.4484703165934017,194,0.43070911593623729,168,0.37298521380045291,81.430000000000007,0.18078682118911241,174.19,0.38672794280893386]
[190,null,332,"Haiti",null,10711.06,495.36,4.6247523587768159E-2,1237.54,0.1155385181298583,3614.06,0.33741385072999314,1449.29,492.4,736.68,244.27999999999997,966.81,1212,0.11315406691774671,1164,0.10867271773288545,2376.52,0.22187533260013481,4294,0.40089402916237982,6417.07,0.59910690445203374,1121,1043,965,3129,0.29212794998814312,868,657,513,2038,0.19027061747390081,459,4.2852901580235761E-2,398,319,259,180,145,95,49,20,6,1,0,1931,0.18028094324931426,5626,0.52525146904227971,1472,0.13742804166907852,3056.46,0.28535551103252155,4945.07,0.46167886278295517]
[191,null,388,"Jamaica",null,2871.93,80.17,2.7915025784054626E-2,206.59,7.1934204524483542E-2,673.58,0.2345391426671263,270.54000000000002,86.36,130.5,44.14,180.35,224,7.799632999411546E-2,243,8.4612090127544892E-2,466.99,0.16260493814264276,838,0.29178984167441407,2033.52,0.70806739718586464,277,269,247,793,0.27612093609523913,214,185,178,577,0.20091018931519919,169,5.8845445397346041E-2,155,132,105,84,64,50,36,22,9,3,0,829,0.28865606055857906,1539,0.53587657080778439,660,0.22981061516123305,631.41,0.21985563714993053,1373.52,0.47825678202463157]
[192,null,474,"Martinique",null,385.84,6.71,1.7390628239684843E-2,19.89,5.1549865229110516E-2,70.83,0.18357350196972838,30.77,9.6199999999999992,14.68,5.0600000000000005,20.67,26,6.7385444743935319E-2,25,6.4793696869168568E-2,50.94,0.13202363674061787,86,0.22289031722993988,300.16000000000003,0.77793904208998566,24,18,21,63,0.1632801161103048,19,20,27,66,0.17105535973460503,31,8.034418411776903E-2,32,29,25,20,16,13,10,6,3,1,0,186,0.48206510470661418,160,0.41467965996267886,155,0.40172092058884512,66.11,0.17134045200082937,145.16000000000003,0.37621812150114048]
[193,null,630,"Puerto Rico",null,3673.73,77.64,2.1133834005220852E-2,204.21,{"$f":"I203/F203","v":5.5586556442634598E-2},685.76,{"$f":"K203/F203","v":0.18666586820479458},279.23,87.74,133.07,45.33,186.34,231,{"$f":"R203/F203","v":6.2878872426661736E-2},251,{"$f":"T203/F203","v":6.8322930645420318E-2},481.55,{"$f":"V203/F203","v":0.13107931176215998},849,{"$f":"X203/F203","v":0.23110027138630221},2824.6,{"$f":"Z203/F203","v":0.76886434223527589},275,280,264,819,{"$f":"AE203/F203","v":0.22293418405816431},260,260,246,766,{"$f":"AJ203/F203","v":0.20850742977845405},239,{"$f":"AL203/F203","v":6.5056495714165163E-2},232,208,190,172,128,96,66,41,21,7,2,1402,{"$f":"AY203/F203","v":0.38162848113497727},{"$f":"AE203+AJ203+AL203","v":1824},{"$f":"BA203/F203","v":0.49649810955078355},1163,{"$f":"BC203/F203","v":0.31657198542081211},{"$f":"X203-I203","v":644.79},{"$f":"BE203/F203","v":0.1755137149436676},{"$f":"Z203-BC203","v":1661.6},{"$f":"BG203/F203","v":0.45229235681446373}]
[194,null,662,"Saint Lucia",null,177.21,4.51,{"$f":"G204/F204","v":2.5450031036623213E-2},10.78,6.0831781502172555E-2,34.99,0.19744935387393489,13.36,4.1500000000000004,6.26,{"$f":"O204-N204","v":2.1099999999999994},8.86,11,6.2073246430788327E-2,13,7.3359291236386209E-2,24.21,0.13661757237176231,44,0.24829298572315331,132.86000000000001,0.7497319564358671,16,16,14,{"$f":"AB204+AC204+AD204","v":46},0.2595790305287512,14,13,13,40,0.22572089611195756,13,7.3359291236386209E-2,11,9,7,5,4,3,2,1,1,0,0,{"$f":"SUM(AN204:AX204)+AL204","v":56},0.31600925455674056,99,0.55865921787709494,43,0.24264996332035438,33.22,0.18746120422098075,89.860000000000014,0.50708199311551272]
[195,null,670,"Saint Vincent and the Grenadines",null,109.46,3.28,2.996528412205372E-2,8.51,7.7745295084962543E-2,26.85,0.24529508496254343,10.93,3.57,5.39,1.8199999999999998,7.3,9,8.222181618856203E-2,9,8.222181618856203E-2,18.34,0.16754978987758085,33,0.30147999269139414,76.760000000000005,0.70126073451489135,10,10,9,29,0.26493696327425548,8,8,7,23,0.21012241914854743,7,6.3950301479992699E-2,7,6,4,3,2,2,1,0,0,0,0,32,0.29234423533710946,59,0.53900968390279558,25,0.22839393385711676,24.490000000000002,0.22373469760643161,51.760000000000005,0.47286680065777459]
[196,null,780,"Trinidad and Tobago",null,1360.09,37.6,2.764522935982178E-2,96.1,7.065708886911895E-2,282.63,0.20780242483953268,114.99,39.22,58.73,19.509999999999998,76.81,96,7.0583564322949224E-2,90,6.6172091552764892E-2,186.52,0.13713798351579676,334,0.2455719842069275,1026.03,0.75438390106537068,86,97,116,299,0.21983839304751893,127,103,92,322,0.23674903866655886,85,6.2495864244277957E-2,97,81,65,49,35,22,13,6,2,1,0,456,0.33527193053400878,706,0.51908329595835578,371,0.27277606628973083,237.9,0.17491489533780855,655.03,0.48160783477563984]
[197,null,850,"United States Virgin Islands",null,104.98,2.69,2.5623928367308056E-2,7.02,6.6869879977138502E-2,21.41,0.20394360830634406,8.7899999999999991,2.95,4.43,1.4799999999999995,5.88,7,6.667936749857116E-2,7,6.667936749857116E-2,14.39,0.13707372832920556,26,0.24766622213754999,79.400000000000006,0.75633453991236432,7,7,5,19,0.18098685463897884,5,6,6,17,0.16193560678224422,7,6.667936749857116E-2,8,8,7,7,5,3,2,1,0,0,0,48,0.45722994856163079,43,0.40960182891979424,41,0.39055058106305962,18.98,0.18079634216041152,38.400000000000006,0.36578395884930465]
[198,null,916,"Central America",null,172635.11,6654.25,3.8545171952565155E-2,16443.03,9.5247310932289497E-2,49338.71,0.28579765726682133,19590.259999999998,6495.44,9743.81,3248.37,13049.92,16296,9.4395630182064358E-2,16600,9.6156569773089617E-2,32895.68,0.19055034633453186,59365,0.34387558822767861,113270.43,0.6561262653929435,16622,15799,14557,46978,0.27212309245784361,13326,12452,11547,37325,0.2162074678783476,9171,5.312360851740993E-2,7542,6304,5138,3614,2784,1944,1335,753,316,81,13,38995,0.22588105050009818,93474,0.54145416885360109,29824,0.17275744198268825,42921.97,0.24862827729538914,83446.429999999993,0.48336882341025533]
[199,null,84,"Belize",null,359.29,16.38,4.5589913440396333E-2,39.450000000000003,0.10979988310278606,116.6,0.32452893206045252,45.63,15.11,22.64,7.5300000000000011,30.35,38,0.10576414595452141,39,0.10854741295332461,77.150000000000006,0.21472904895766651,140,0.3896573798324473,219.43,0.61073227754738513,38,36,32,106,0.29502630187313866,28,23,21,72,0.20039522391383005,18,5.0098805978457513E-2,15,11,8,5,3,2,1,1,0,0,0,64,0.17812908792340448,196,0.54552033176542625,46,0.12803028194494698,100.55,0.27985749672966126,173.43,0.48270199560243815]
[200,null,188,"Costa Rica",null,4807.8500000000004,136.55000000000001,2.8401468431835435E-2,350.33,7.286624998700042E-2,1072.57,0.22308724273843816,432.11,144.11000000000001,216.36,72.25,288.3,360,7.4877544016556247E-2,362,7.5293530372203779E-2,722.24,0.15022099275143774,1308,0.27205507659348771,3500.31,0.72804060026831108,397,413,414,1224,0.25458364965629127,390,346,305,1041,0.21652089811454184,312,6.4893871481015414E-2,298,246,185,154,108,76,49,27,11,3,0,1469,0.30554197822311424,2577,0.53599841925184855,1157,0.24064810674209883,957.67000000000007,0.19918882660648732,2343.31,0.48739249352621228]
[201,null,222,"El Salvador",null,6312.48,231.3,3.664170025093149E-2,580.05999999999995,9.1890984209058876E-2,1786.92,0.28307733252224171,710.42,233.43,350.78,117.34999999999997,473.31,590,9.3465642663422305E-2,617,9.7742883937850106E-2,1206.8699999999999,0.19118793247661775,2190,0.34693179225914383,4122.26,0.6530333561452869,673,621,502,1796,0.28451575292119741,428,399,360,1187,0.18804019973132591,319,5.0534813575646972E-2,282,239,202,159,132,102,65,30,10,2,0,1542,0.24427800167287661,3302,0.5230907662281703,1223,0.19374318809722962,1609.94,0.25504080805008494,2899.26,0.45929016804805722]
[202,null,320,"Guatemala",null,16252.43,820.41,5.0479220645774196E-2,1994.03,0.12269119140953076,5888.53,0.36231689661176819,2326.46,772.39,1157.6500000000001,385.2600000000001,1548.98,1934,0.11899758989886436,1960,0.12059735067309935,3894.5,0.23962570520223744,7005,0.43101247013523514,9247.6299999999992,0.56899983571687429,1827,1639,1380,4846,0.29817079661318335,1201,976,763,2940,0.18089602600964902,600,3.6917556328499801E-2,486,411,349,242,188,143,96,47,14,2,0,2578,0.15862243369145412,8386,0.5159843789513322,1978,0.12170487736295434,5010.97,0.30832127872570442,7269.6299999999992,0.44729495835391991]
[203,null,340,"Honduras",null,8960.83,378.89,4.2282913524751616E-2,954.68,0.10653923799469468,2956.28,0.32991140329634644,1191.25,388.08,584.47,196.39000000000004,794.53,989,0.11036924034938728,1012,0.11293596686914047,2001.59,0.22337104933359966,3549,0.39605706167843829,5411.67,0.60392508283272872,977,908,801,2686,0.29974901878509025,702,592,479,1773,0.19786113563140914,393,4.3857544446217596E-2,310,250,197,137,98,72,49,26,11,2,0,1545,0.17241706404429055,4852,0.54146769886271695,1152,0.12855951959807294,2594.3200000000002,0.28951782368374362,4259.67,0.47536556323465573]
[204,null,484,"Mexico",null,125890.95,4676.4799999999996,3.7147070540018957E-2,11533.07,9.1611589236557517E-2,34585.25,0.2747238780865503,13706.16,4544.3599999999997,6815.87,2271.5100000000002,9128.41,11399,9.0546619911915829E-2,11653,9.2564239129182838E-2,23052.19,0.18311236828382024,41670,0.3310007589902213,84221.03,0.66899987648039827,11762,11269,10552,33583,0.26676262273022805,9770,9403,9000,28173,0.22378892207898979,7009,5.5675169660726206E-2,5709,4768,3903,2720,2097,1433,1001,581,251,65,11,29548,0.23471107335356514,68765,0.54622671446994409,22539,0.17903590369283892,30136.93,0.23938916975366378,61682.03,0.48996397278755938]
[205,null,558,"Nicaragua",null,6082.04,237.63,3.9070772306660263E-2,605.54999999999995,9.9563633254631662E-2,1826.7,0.30034330586447971,739.14,247.39,371.28,123.88999999999999,493.4,617,0.10144622527967589,604,9.9308784552551446E-2,1221.1500000000001,0.20077967260984803,2189,0.35991213474426342,3892.71,0.64003360714497115,603,591,564,1758,0.28904775371421432,512,428,351,1291,0.21226430605520516,282,4.636602192685349E-2,238,213,163,95,82,60,39,21,9,2,0,1204,0.19795989503521844,3331,0.54767808169627297,922,0.15159387310836495,1583.45,0.26034850148963179,2970.71,0.48843973403660612]
[206,null,591,"Panama",null,3969.25,156.62,3.9458335957674624E-2,385.87,9.7214839075392079E-2,1105.8599999999999,0.27860678969578634,439.09,150.58000000000001,224.78,74.199999999999989,292.64999999999998,368,9.2712729104994646E-2,352,8.868174088303836E-2,720,0.18139446998803299,1314,0.33104490772816025,2655.4,0.66899288278642066,343,323,311,977,0.2461422183032059,296,284,268,848,0.21364237576368331,238,5.99609498015998E-2,204,166,130,100,76,54,36,20,10,3,1,1038,0.26151036089941426,2063,0.51974554386848903,800,0.20154941109781443,928.13,0.23383006865276815,1855.4,0.46744347168860617]
[207,null,931,"South America",26,416436.11,13447.32,3.2291436014038263E-2,33391.480000000003,8.0183920649916751E-2,101622.86,0.2440298945257173,40399.25,13291.26,19964.41,6673.15,26910.52,33562,8.0593395226941297E-2,34670,8.3254067472679064E-2,68231.37,0.16384594986251311,122887,0.29509208507398649,293548.90000000002,0.70490741064697782,35489,35313,34939,105741,0.25391890246981702,33846,31059,27373,{"$f":"AG217+AH217+AI217","v":92278},0.22158981362110985,25541,6.1332337390242166E-2,23085,19231,15702,11799,8465,6072,3792,2088,789,199,32,116795,0.28046319037991208,223560,0.53684105348116906,91254,0.21913085298966989,89495.51999999999,0.21490816442406974,202294.90000000002,0.48577655765730793]
[208,null,32,"Argentina",null,43417.77,1502.58,3.460748905344517E-2,3718.14,8.5636365018286295E-2,10939.51,0.25195927842447924,4362.1400000000003,1466.66,2196.31,729.64999999999986,2907.43,3639,8.3813609036115858E-2,3582,8.2500782513703491E-2,7221.37,0.1663229134061929,13007,0.29957779959680103,30411,0.70042749777337721,3438,3457,3336,10231,0.23564084475089347,3189,3222,2693,9104,0.20968373087793318,2360,5.4355624436722573E-2,2193,2031,1815,1513,1173,874,617,368,153,40,6,13143,0.30271015761518844,21695,0.49968020006554925,10783,0.2483545331784659,9288.86,0.21394143457851478,19628,0.45207296459491131]
[209,null,68,"Bolivia (Plurinational State of)",null,10724.71,478.29,4.4597010082323911E-2,1185.56,0.11054471402956351,3479.66,0.32445259592100861,1389.49,468.37,701.22,232.85000000000002,926.4,1160,0.10816143280331124,1134,0.10573712482668531,2294.09,0.21390694946530026,4138,0.38583793874146716,6586.49,0.61414154788334607,1082,986,889,2957,0.27571841103395806,801,697,579,2077,0.19366491028661847,480,4.4756454953094306E-2,401,342,295,222,184,128,88,48,18,4,0,2210,0.20606617801320504,5514,0.5141397762736708,1730,0.16130972306011074,2952.44,0.27529322471190365,4856.49,0.45283182482323531]
[210,null,76,"Brazil",null,205962.11,6028.35,2.9269218498489846E-2,14875.03,7.222216746565667E-2,46362.65,0.22510281138603602,18294.759999999998,5903.19,8887.06,2983.87,12173.71,15132,7.3469824134157494E-2,16355,7.9407809523800277E-2,31487.62,0.15288064392037934,56775,0.27565749836219877,149186.79999999999,0.72434099650659045,17405,17211,17490,52106,0.2529882802229983,17682,16069,14174,47925,0.23268842992529065,13168,6.3934089624543083E-2,12040,9936,8029,5973,4172,3047,1800,974,343,77,10,59569,0.28922310030713905,113199,0.549610799772832,46401,0.22528901068259596,41899.97,0.20343533089654212,102785.79999999999,0.49905198582399452]
[211,null,152,"Chile",null,17762.68,467.56,2.6322604471847717E-2,1196.96,6.7386227753920017E-2,3701.44,0.20838296923662419,1494.26,492.96,741.35,248.39000000000004,996.91,1244,7.0034476779404914E-2,1260,7.093524175405963E-2,2504.48,0.14099674148270419,4489,0.25272087320156644,13273.41,0.74726392638948624,1331,1414,1443,4188,0.23577523211587439,1324,1234,1236,3794,0.21359389461500178,1247,7.0203370212152671E-2,1142,1000,841,618,479,325,222,129,56,18,4,6081,0.3423469881797116,9229,0.51957249694302887,4834,0.27214361796755893,3292.04,0.18533464544764641,8439.41,0.47512030842192732]
[212,null,170,"Colombia",null,48228.7,1481.82,3.0724858849606147E-2,3738.28,7.7511523221650183E-2,11713.19,0.24286762861117966,4709.7299999999996,1523.72,2296.87,773.14999999999986,3139.84,3905,8.0968386043994561E-2,4070,8.4389585454304181E-2,7974.92,0.1653563127349483,14144,0.29326936036011753,34084.74,0.7067314690215577,4070,4198,4094,12362,0.25632040672877354,3933,3553,3154,10640,0.22061552561026943,3196,6.6267595850603489E-2,2807,2285,1831,1315,862,574,358,188,75,18,3,13512,0.28016512989153763,26198,0.54320352818964646,10316,0.21389753404093415,10405.719999999999,0.21575783713846736,23768.739999999998,0.49283393498062356]
[213,null,218,"Ecuador",null,16144.37,644.99,3.9951388626499516E-2,1610.33,9.9745607911612522E-2,4684.9799999999996,0.29019280405491199,1873.28,639.20000000000005,955.52,316.31999999999994,1249.3499999999999,1568,9.7123641244594855E-2,1507,9.3345234282910999E-2,3074.65,0.1904471961432995,5588,0.34612685412933425,10556.61,0.65388801173412159,1499,1442,1356,4297,0.26616089695664802,1220,1097,993,3310,0.2050250334946486,875,5.4198460515956955E-2,745,630,520,363,287,200,128,69,27,7,1,3852,0.23859710846567564,8482,0.52538439096725353,2977,0.18439864794971869,3977.67,0.2463812462177217,7579.6100000000006,0.46948936378440287]
[214,null,254,"French Guiana",null,268.69,12.88,4.7936283449328224E-2,32.28,0.12013844951431017,91.18,0.33935018050541521,36.869999999999997,12.82,19.13,6.3099999999999987,24.63,31,0.11537459525847631,28,0.1042093118463657,58.91,0.21924894860247868,106,0.39450668056124161,162.41,0.6044512263202948,24,21,18,63,0.23447095165432283,18,19,18,55,0.20469686255536121,16,5.9548178197923254E-2,13,10,8,5,4,2,1,1,0,0,0,60,0.22330566824221221,134,0.49871599240760728,44,0.16375749004428897,73.72,0.27436823104693142,118.41,0.44069373627600578]
[215,null,328,"Guyana",null,768.51,31.38,4.0832259827458327E-2,75.17,9.7812650453474911E-2,229.21,0.29825246255741633,88.91,28.74,43.17,14.430000000000003,59.06,73,9.4989004697401472E-2,81,0.10539875863684273,154.04,0.20043981210394138,280,0.36434138788044396,488.85,0.63610102666198232,84,77,48,209,0.2719548216679028,51,52,49,152,0.19778532484938388,45,5.8554865909357066E-2,39,33,24,17,9,8,3,1,0,0,0,179,0.23291824439499811,406,0.52829501242664378,134,0.17436337848564104,204.82999999999998,0.26652873742696903,354.85,0.46173764817634128]
[216,null,600,"Paraguay",null,6639.12,267.48,4.0288471966164197E-2,673.79,0.10148784778705611,2000.62,0.30133812914964631,801.25,270.76,405.44,134.68,534.41999999999996,670,0.10091698899854197,657,9.8958898167226986E-2,1326.83,0.19985028136259023,2412,0.36330116039475113,4227.2,0.63671088939498,685,652,605,1942,0.2925086457241321,530,421,336,1287,0.19385099230018438,307,4.6241068093361773E-2,271,234,198,145,104,74,43,23,8,2,0,1409,0.21222692164021739,3536,0.53260070611767829,1102,0.16598585354685561,1738.21,0.26181331260769503,3125.2,0.47072503584812442]
[217,null,604,"Peru",null,31376.67,1225.28,3.9050670450369654E-2,3020.03,9.6250813104131208E-2,8752.7199999999993,0.27895630734555321,3474.84,1181.6300000000001,1765.94,584.30999999999995,2315.4299999999998,2904,9.2552842605668484E-2,2829,9.0162531587960101E-2,5732.69,0.18270549424142205,10417,0.33199826495290929,20959.580000000002,0.66799886667386954,2777,2810,2711,8298,0.26446401099925521,2444,2269,1979,6692,0.21327948440672642,1771,5.644321083148722E-2,1516,1220,986,744,548,400,255,137,43,11,2,7633,0.24326991997557423,16761,0.53418670623746878,5862,0.186826709144087,7396.9699999999993,0.23574745184877807,15097.580000000002,0.48117215752978254]
[218,null,740,"Suriname",null,553.21,20.260000000000002,3.6622620704614882E-2,50.22,9.0779270078270455E-2,149.04,0.26940944668389938,59.29,19.86,29.75,9.89,39.51,49,8.8573959255978732E-2,49,8.8573959255978732E-2,98.82,0.17863017660562894,179,0.32356609605755499,374.36,0.6767050487156776,50,48,44,142,0.2566837186601833,40,36,39,115,0.20787765947831743,34,6.1459481932719939E-2,34,24,18,14,10,7,4,2,1,0,0,148,0.26752950958948679,291,0.52602086007122062,114,0.20607002765676685,128.78,0.23278682597928452,260.36,0.4706350210589107]
[219,null,858,"Uruguay",null,3431.55,95.81,2.7920327548775332E-2,240.76,7.0160714545904904E-2,734.87,0.21415103961766549,294.02,97.09,145.85,48.759999999999991,195.99,245,7.1396307790939945E-2,250,7.2853375296877507E-2,494.11,0.14399032507176057,889,0.25906660255569641,2542.91,0.741038306304731,258,262,243,763,0.22234850140607013,225,238,224,687,0.20020107531581938,201,5.8574113738689509E-2,201,188,161,140,116,93,73,46,21,6,1,1247,0.363392635980825,1651,0.48112369046057901,1046,0.30481852224213546,648.24,0.18890588800979149,1496.9099999999999,0.43621978406259554]
[220,null,862,"Venezuela (Bolivarian Republic of)",null,31155.13,1190.5899999999999,3.8214894304726056E-2,2974.78,9.548283059643789E-2,8783.2999999999993,0.28192146847084248,3520.23,1186.2,1776.71,590.51,2347.7199999999998,2940,9.4366481539316316E-2,2868,9.2055465664884081E-2,5808.52,0.18643863787440465,10463,0.33583554297478457,20692.23,0.66416766676948547,2787,2735,2662,8184,0.26268547106046419,2390,2151,1900,6441,0.20673962843358382,1842,5.9123489454224715E-2,1684,1297,975,730,517,341,199,101,43,15,4,7748,0.248690986043069,16467,0.52854858894827272,5906,0.18956749658884428,7488.2199999999993,0.24035271237834666,14786.23,0.47460017018064116]
[221,null,905,"NORTHERN AMERICA",27,356003.54,8404.1299999999992,2.3606871999081805E-2,21801.48,6.1239503404938056E-2,67234.460000000006,0.18885896471703628,27393.23,9097.92,13679.78,4581.8600000000006,18294.03,22860,6.421284462508435E-2,22573,6.3406672866230487E-2,45432.98,0.1276194613120982,81056,0.22768312921832184,274947.67,0.77231723594658641,23422,25454,24896,73772,0.20722265851626084,23792,22528,22418,68738,0.19308234968674751,23283,6.5401035057123316E-2,24941,24198,21177,17633,12564,9092,6479,4365,1948,509,69,146258,0.41083299340225665,165793,0.46570604326013165,122975,0.34543195834513335,59254.520000000004,0.16644362581338379,151972.66999999998,0.42688527760145306]
[222,null,124,"Canada",null,35949.71,751.03,2.0891128189907512E-2,1943.66,5.4066082869653191E-2,5744.02,0.15977931393605124,2320.7399999999998,799.85,1195.55,395.69999999999993,1549.41,1949,5.4214623706283029E-2,1852,5.1516410007201731E-2,3800.36,0.10571323106639804,6965,0.19374287024846654,28984.35,0.80624711576254715,2117,2494,2451,7062,0.19644108394754783,2528,2388,2345,7261,0.20197659452607547,2420,6.7316259296667486E-2,2791,2627,2240,1924,1374,989,745,493,219,53,7,15882,0.44178381411143514,16743,0.46573393777029076,{"$f":"SUM(AN232:AX232)","v":13462},0.37446755481476762,5021.34,0.13967678737881337,15522.349999999999,0.43177956094777953]
[223,null,840,"United States of America",null,319929.15999999997,7650.31,2.3912512382428662E-2,19850.650000000001,6.2047016908368099E-2,61467.54,0.19212859496771101,25063.200000000001,8295.09,12479.72,4184.6299999999992,16738.419999999998,20904,6.5339464523959001E-2,20713,6.4742457361498404E-2,41616.89,0.13008157805934289,74063,0.23149812289695634,245866.36,0.76850250224143368,21297,22952,22436,66685,0.20843676768944727,21257,20133,20065,61455,0.19208939879065728,20853,6.5180054234506166E-2,22139,21562,18929,15704,11185,8100,5732,3871,1729,456,62,130322,0.40734642631512552,148993,0.46570622071461071,109469,0.3421663720806194,54212.35,0.16945110598858823,136397.35999999999,0.42633613016081434]
[224,null,909,"OCEANIA",null,39542.980000000003,1276.46,3.2280318782246555E-2,3225.11,8.1559609316242732E-2,9313.56,0.23553004856993576,3752.04,1294.3699999999999,1933.27,638.90000000000009,2504.5700000000002,3150,7.966015712523436E-2,2939,7.4324191044782148E-2,6088.45,0.15397043925369305,11063,0.27977152961157703,28479.81,0.72022417126883198,2928,2991,2954,8873,0.22438875370546174,2844,2559,2587,7990,0.2020586207716262,2404,6.0794608802877272E-2,2340,2102,1808,1573,1140,828,592,377,163,35,5,13367,0.33803724453746276,19267,0.48724198327996521,10963,0.27724263573458546,7837.8899999999994,0.1982119202953343,17516.810000000001,0.44298153553424652]
[225,null,927,"Australia/New Zealand",null,28414.09,723.7,2.5469758137600045E-2,1853.8,6.524227944657035E-2,5404.27,0.19019683544326074,2186.54,754.95,1128.04,373.08999999999992,1460.11,1837,6.4651023488698736E-2,1714,6.0322185225710201E-2,3550.47,0.12495455599669036,6462,0.22742238093847103,21952.34,0.77258641751328305,1799,2003,2079,5881,0.20697477906207801,2041,1848,1968,5857,0.20613012769368999,1873,6.5918000541280747E-2,1890,1739,1530,1381,1009,747,548,359,157,34,4,11271,0.39666939887921804,13611,0.47902290729704877,9398,0.33075139833793726,4608.2,0.16218010149190065,12554.34,0.44183501917534573]
[226,null,36,"Australia",28,23799.56,605.41,2.543786523784473E-2,1545.12,6.4922208645874113E-2,4482.71,0.18835264181354613,1810.5,626.38,935.49,309.11,1208.8,1521,6.3908744531411502E-2,1416,5.949689826198467E-2,2937.59,0.12343043316767201,5352,0.22487810699021324,18447.259999999998,0.77510928773473109,1480,1664,1763,4907,0.20618028232454716,1753,1574,1656,4983,0.20937361867194182,1560,6.5547430288627181E-2,1569,1452,1282,1154,844,629,467,303,135,29,4,9428,0.39614177741101092,11450,0.48110133128511617,7868,0.33059434712238378,3806.88,0.15995589834433913,10579.259999999998,0.44451494061234736]
[227,null,554,"New Zealand",null,4614.53,118.3,2.5636413675932328E-2,308.68,6.6893053030319449E-2,921.56,0.19970831265589345,376.04,128.58000000000001,192.56,63.97999999999999,251.31,316,6.8479346759041548E-2,297,6.4361917681757405E-2,612.88,0.132815259625574,1109,0.24032783403726926,3505.08,0.75957464790563722,319,339,316,974,0.2110724169091977,288,274,312,874,0.18940173755507062,313,6.7829226378417734E-2,320,287,249,227,165,118,81,56,22,5,1,1844,0.39960732729010323,2161,0.46830338084268608,1531,0.33177810091168553,800.31999999999994,0.17343478100694978,1974.08,0.4277965469939517]
[228,null,928,"Melanesia",null,9933.15,505.15,5.0854965443993094E-2,1251.26,0.12596809672661743,3546.83,0.35707001303715336,1419.54,490.86,732.32,241.46000000000004,947.07,1191,0.11990154180697966,1104,0.11114299089412724,2295.58,0.2311029230405259,4167,0.41950438682593139,5766.22,0.58050266028399855,1010,884,787,2681,0.26990431031445211,727,642,548,1917,0.19299013907974813,458,4.6108233541223079E-2,386,310,236,163,111,68,36,15,5,1,0,1789,0.18010399520796525,5056,0.50900268293542328,1331,0.13399576166674218,2915.74,0.29353629009931392,4435.22,0.4465068986172564]
[229,null,242,"Fiji",null,892.15,34.270000000000003,3.8412822955780981E-2,88.08,9.8727792411589979E-2,256.44,0.28744045283864822,104.73,36.08,53.96,17.880000000000003,70.010000000000005,88,9.8638121392142578E-2,80,8.9671019447402342E-2,168.36,0.18871266042705825,302,0.33850809841394386,589.74,0.66103233761138824,77,77,71,225,0.25219974219581909,71,62,52,185,0.20736423247211791,50,5.6044387154626465E-2,50,42,31,23,15,8,4,1,0,0,0,224,0.25107885445272654,460,0.51560836182256353,174,0.19503446729810009,213.92000000000002,0.23978030600235389,415.74,0.46599787031328815]
[230,null,540,"New Caledonia",null,269.08999999999997,8.76,3.2554164034337953E-2,21.23,7.8895536809245992E-2,61.44,0.22832509569289086,24.01,8.14,12.15,4.01,15.97,20,7.4324575420862918E-2,20,7.4324575420862918E-2,40.21,0.1494295588836449,74,0.27500092905719281,195.21,0.72544501839533249,21,22,20,63,0.23412241257571817,17,18,21,56,0.20810881117841618,19,7.060834664981977E-2,17,14,11,9,7,5,3,2,0,0,0,87,0.32331190308075369,138,0.51283957040395411,68,0.2527035564309339,52.769999999999996,0.19610539224794679,127.21000000000001,0.47274146196439859]
[231,null,598,"Papua New Guinea",null,7919.83,415.38,5.2448095476796852E-2,1024.51,0.12936009990113423,2899.94,0.36616189993977144,1157.72,399.96,596.64,196.68,772.19,971,0.12260364174483543,904,0.11414386419910529,1875.42,0.23680053738527218,3407,0.43018600146720321,4513.1000000000004,0.56984809017365279,824,709,630,2163,0.27311192285693003,579,508,429,1516,0.19141825013920755,354,4.4697929122216006E-2,289,232,178,119,79,49,26,11,4,1,0,1342,0.16944808158760985,4033,0.50922810211835356,988,0.12475015246539382,2382.4899999999998,0.30082590156606892,3525.1000000000004,0.44509793770825895]
[232,null,90,"Solomon Islands",null,587.48,33.19,5.6495540273711439E-2,82.68,0.14073670593041465,232.35,0.39550282562810646,93.52,32.6,48.61,16.009999999999998,62.44,79,0.13447266289916252,71,0.12085517804861441,149.66999999999999,0.25476611969769181,271,0.46129229931231702,316.14,0.53812895758153467,63,52,43,158,0.26894532579832503,40,37,32,109,0.18553823108871792,23,3.9150268945325799E-2,19,14,11,8,6,3,2,1,0,0,0,87,0.14809014774971063,290,0.49363382583236876,64,0.10893987880438483,188.32,0.32055559338190232,252.14,0.42918907877714985]
[233,null,548,"Vanuatu",null,264.60000000000002,13.56,5.1247165532879814E-2,34.75,0.13133030990173847,96.66,0.36530612244897953,39.549999999999997,14.08,20.97,6.8899999999999988,26.46,33,0.12471655328798185,28,0.10582010582010581,61.91,0.23397581254724109,113,0.42705971277399846,152.03,0.57456538170823879,26,23,23,72,0.27210884353741494,20,16,13,49,0.18518518518518517,12,4.5351473922902494E-2,10,7,6,4,4,2,1,0,0,0,0,46,0.17384731670445955,133,0.50264550264550256,34,0.12849584278155707,78.25,0.29572940287226002,118.03,0.44606953892668177]
[234,null,954,"Micronesia",29,519,20.45,3.9402697495183041E-2,51.37,9.8978805394990363E-2,155.69,0.29998073217726395,62.39,20.69,31.07,10.379999999999999,41.61,52,0.1001926782273603,52,0.1001926782273603,104.31,0.20098265895953757,188,0.3622350674373796,331.07,0.63789980732177265,53,46,40,139,0.26782273603082851,32,27,29,88,0.16955684007707128,32,6.1657032755298651E-2,30,24,19,13,8,5,3,1,0,0,0,135,0.26011560693641617,259,0.49903660886319845,103,0.19845857418111754,136.63,0.26325626204238922,228.07,0.43944123314065509]
[235,null,316,"Guam",null,161.80000000000001,5.49,3.3930778739184174E-2,13.52,8.3559950556242268E-2,41.17,0.25444993819530282,16.32,5.34,8.02,2.6799999999999997,10.86,14,8.6526576019777493E-2,14,8.6526576019777493E-2,27.65,0.17088998763906055,50,0.30902348578491962,112.14,0.6930778739184178,14,13,12,39,0.24103831891223731,10,10,11,31,0.19159456118665016,11,6.7985166872682315E-2,10,8,7,6,3,3,2,1,0,0,0,51,0.31520395550061803,81,0.50061804697156975,40,0.2472187886279357,36.480000000000004,0.22546353522867738,72.14,0.44585908529048207]
[236,null,296,"Kiribati",null,112.41,5.66,5.0351392224891024E-2,14.75,0.13121608397829376,39.28,0.34943510363846636,16.059999999999999,6,8.8800000000000008,2.8800000000000008,10.75,14,0.12454407970821102,11,9.7856062627880089E-2,24.53,0.2182190196601726,46,0.40921626189840765,65.98,0.58695845565341165,12,10,10,32,0.28467218219019663,8,6,5,19,0.16902410817542923,6,5.3376034160661862E-2,5,4,3,2,1,1,0,0,0,0,0,22,0.19571212525576018,57,0.5070723245262877,16,0.14233609109509832,31.25,0.27800017792011389,49.980000000000004,0.44462236455831339]
[237,null,583,"Micronesia (Fed. States of)",null,104.43,4.74,4.5389255960930769E-2,11.56,0.11069616010724888,35.58,0.34070669347888533,13.97,4.5199999999999996,6.8,2.2800000000000002,9.2899999999999991,12,0.11490950876185003,12,0.11490950876185003,24.02,0.23001053337163649,43,0.41175907306329596,61.03,0.58441060997797567,13,12,10,35,0.33515273388872929,8,4,3,15,0.14363688595231255,4,3.8303169587283345E-2,4,4,3,2,1,1,1,0,0,0,0,20,0.19151584793641674,54,0.51709278942832515,16,0.15321267834913338,31.439999999999998,0.30106291295604709,45.03,0.43119793162884229]
[238,null,957,"Polynesia",30,676.75,27.16,4.0132988548208348E-2,68.69,0.10149981529368304,206.77,0.30553380125600299,83.57,27.87,41.83,13.959999999999997,55.78,70,0.10343553749538234,68,0.1004802364240857,138.09,0.20404876246767639,247,0.36497968230513483,430.19,0.63567048393055037,65,59,48,172,0.25415589213151091,44,42,42,128,0.18913926856298485,41,6.0583671961581084E-2,35,29,22,15,12,8,5,2,1,0,0,170,0.25120059106021425,341,0.5038788326560768,129,0.19061691909863318,178.31,0.26347986701145182,301.19,0.44505356483191727]
[239,null,258,"French Polynesia",null,277.69,9.07,3.2662321293528758E-2,21.98,7.915301235190321E-2,66.44,0.23925960603550722,26.01,8.51,12.77,4.26,17.3,22,7.9225035111095105E-2,23,8.2826173070690345E-2,44.46,0.16010659368360403,81,0.29169217472721382,197.17,0.71003637149339183,23,23,22,68,0.2448773812524758,21,20,20,61,0.21966941553530916,20,7.2022759191904637E-2,17,14,11,7,6,4,2,1,0,0,0,82,0.29529331268680903,149,0.53656955597968958,62,0.22327055349490438,59.019999999999996,0.21253916237531059,135.16999999999999,0.4867658179984875]
[240,null,882,"Samoa",null,193.76,9.17,4.7326589595375723E-2,24.23,0.12505161023947151,72.17,0.37247109826589597,30.03,10.26,15.39,5.1300000000000008,20.11,25,0.12902559867877789,23,0.11870355078447564,47.93,0.24736787778695293,85,0.43868703550784477,108.89,0.56198389760528489,21,17,12,50,0.25805119735755577,11,10,10,31,0.15999174236168456,10,5.1610239471511152E-2,8,7,5,3,3,2,1,1,0,0,0,40,0.20644095788604461,91,0.46965317919075145,30,0.15483071841453344,60.769999999999996,0.31363542526837324,78.89,0.40715317919075145]
[241,null,776,"Tonga",null,106.36,5.07,4.7668296352012036E-2,12.94,0.12166227905227529,39.06,0.3672433245581046,15.94,5.31,7.97,2.66,10.65,13,0.12222640090259496,13,0.12222640090259496,26.12,0.24558104550582927,46,0.43249341857841295,60.24,0.5663783377209477,11,10,7,28,0.2632568634825122,7,6,6,19,0.17863858593456186,5,4.7010154193305752E-2,4,4,2,2,2,1,1,0,0,0,0,21,0.19744264761188418,52,0.48890560361037982,16,0.15043249341857842,33.06,0.31083113952613767,44.24,0.41594584430236931]
[null,null,null,null,null,null,null,null,"",null,null,null,null,null,null,null,"",{"$f":"SUBSTITUTE(Q252,\" \",\"\")","v":""}]

{"sheet":"Annual growth rate","index":6,"n_rows":282,"n_cols":9,"rows_kept":282,"cut":false,"hidden":true,"merged":[[6,1,8,1],[6,2,8,2],[6,3,8,3],[6,4,8,4],[0,8,0,16]]}
[null,null,"MSF-OCBA. Emergency Preparedness",null,null,null,null,null,"File POP/2: Average annual rate of population change by major area, region and country, 1950-2100 (percentage)"]
[null,null,"Average annual rate of population change by major area, region and country, 2005-2100 (percentage)"]
[null,null,"Estimates 2015 (as of 1 July)"]
[null,null,"Source: United Nations, Department of Economic and Social Affairs, Population Division (2017). World Population Prospects: The 2017 Revision, DVD Edition."]
[null,null,"http://esa.un.org/unpd/wpp/Excel-Data/population.htm"]
[null,null,1,2,3]
[null,"Index","Major area, region, country or area","Notes","2010-2015"]
[]
[]
[1,1,"WORLD",null,1.19]
[2,2,"More developed regions","a",0.28999999999999998]
[3,3,"Less developed regions","b",1.37]
[4,4,"Least developed countries","c",2.39]
[5,5,"Less developed regions, excluding least developed countries","d",1.19]
[6,6,"Less developed regions, excluding China",null,1.63]
[7,7,"High-income countries","e",0.54]
[8,8,"Middle-income countries",null,1.1499999999999999]
[9,9,"Upper-middle-income countries",null,0.78]
[10,30,"Lower-middle-income countries",null,1.48]
[11,40,"Low-income countries",null,2.73]
[12,48,"Sub-Saharan Africa",null,2.74]
[13,54,"AFRICA",null,2.59]
[14,72,"Eastern Africa",null,2.82]
[15,73,"Burundi",null,3.03]
[16,82,"Comoros",7,2.4]
[17,83,"Djibouti",null,1.72]
[18,89,"Eritrea",null,1.98]
[19,99,"Ethiopia",null,2.6]
[20,111,"Kenya",null,2.66]
[21,130,"Madagascar",null,2.72]
[22,131,"Malawi",null,2.95]
[23,142,"Mauritius",null,0.18]
[24,156,"Mayotte",null,2.79]
[25,173,"Mozambique",null,2.91]
[26,183,"Réunion",null,0.78]
[27,184,"Rwanda",null,2.5299999999999998]
[28,211,"Seychelles",null,0.5]
[29,220,"Somalia",null,2.86]
[30,235,"South Sudan",null,3.32]
[31,241,"Uganda",null,3.37]
[32,242,"United Republic of Tanzania",null,3.12]
[33,245,"Zambia",null,3.01]
[34,251,"Zimbabwe",null,2.27]
[35,259,"Middle Africa",24,3.15]
[36,10,"Angola",null,3.52]
[37,11,"Cameroon",null,2.68]
[38,12,"Central African Republic",null,0.43]
[39,13,"Chad",null,3.29]
[40,14,"Congo",null,2.6]
[41,15,"Democratic Republic of the Congo",null,3.33]
[42,16,"Equatorial Guinea",null,4.24]
[43,17,"Gabon",null,3.26]
[44,18,"Sao Tome and Principe",1,2.25]
[45,19,"Northern Africa",null,1.94]
[46,20,"Algeria",null,1.98]
[47,21,"Egypt",null,2.1800000000000002]
[48,22,"Libya",null,0.21]
[49,23,"Morocco",null,1.43]
[50,24,"Sudan",null,2.34]
[51,25,"Tunisia",null,1.1599999999999999]
[52,26,"Western Sahara",null,1.83]
[53,27,"Southern Africa",2,1.44]
[54,28,"Botswana",null,1.84]
[55,29,"Lesotho",null,1.27]
[56,31,"Namibia",null,2.2000000000000002]
[57,32,"South Africa",null,1.39]
[58,33,"Swaziland",null,1.84]
[59,34,"Western Africa",null,2.72]
[60,35,"Benin",null,2.79]
[61,36,"Burkina Faso",null,2.98]
[62,37,"Cabo Verde",null,1.18]
[63,38,"Côte d'Ivoire",null,2.4900000000000002]
[64,39,"Gambia",null,3.12]
[65,41,"Ghana",null,2.36]
[66,42,"Guinea",null,2.27]
[67,43,"Guinea-Bissau",null,2.59]
[68,44,"Liberia",null,2.62]
[69,45,"Mali",null,2.95]
[70,46,"Mauritania",null,2.95]
[71,47,"Niger",null,3.84]
[72,49,"Nigeria",null,2.67]
[73,50,"Saint Helena",null,-0.67]
[74,51,"Senegal",null,2.96]
[75,52,"Sierra Leone",null,2.2799999999999998]
[76,53,"Togo",null,2.63]
[77,55,"ASIA",null,1.05]
[78,56,"Eastern Asia",null,0.49]
[79,57,"China",null,0.54]
[80,58,"China, Hong Kong SAR",null,0.62]
[81,59,"China, Macao SAR",null,2.25]
[82,60,"Dem. People's Republic of Korea",null,0.33]
[83,61,"Japan",null,0.52]
[84,62,"Mongolia",null,-0.09]
[85,63,"Republic of Korea",null,1.86]
[86,64,"Other non-specified areas",null,0.42]
[87,65,"South-Central Asia",null,1.35]
[88,66,"Central Asia",null,1.68]
[89,67,"Kazakhstan",null,1.58]
[90,68,"Kyrgyzstan",3,1.57]
[91,69,"Tajikistan",null,2.2400000000000002]
[92,70,"Turkmenistan",null,1.8]
[93,71,"Uzbekistan",null,1.59]
[94,74,"Southern Asia",4,1.34]
[95,75,"Afghanistan",5,3.16]
[96,76,"Bangladesh",6,1.1599999999999999]
[97,77,"Bhutan",null,1.58]
[98,78,"India",null,1.23]
[99,79,"Iran (Islamic Republic of)",null,1.25]
[100,80,"Maldives",null,2.76]
[101,81,"Nepal",null,1.17]
[102,84,"Pakistan",null,2.09]
[103,85,"Sri Lanka",null,0.5]
[104,86,"South-Eastern Asia",null,1.21]
[105,87,"Brunei Darussalam",null,1.43]
[106,88,"Cambodia",null,1.62]
[107,90,"Indonesia",null,1.25]
[108,91,"Lao People's Democratic Republic",null,1.3]
[109,92,"Malaysia",null,1.78]
[110,93,"Myanmar",null,0.88]
[111,94,"Philippines",null,1.64]
[112,95,"Singapore",null,1.74]
[113,96,"Thailand",null,0.43]
[114,97,"Timor-Leste",null,2.2400000000000002]
[115,98,"Viet Nam",null,1.1200000000000001]
[116,100,"Western Asia",null,2.0699999999999998]
[117,101,"Armenia",null,0.27]
[118,102,"Azerbaijan",null,1.26]
[119,103,"Bahrain",null,2.0099999999999998]
[120,104,"Cyprus",8,0.85]
[121,105,"Georgia",null,-1.37]
[122,106,"Iraq",null,3.21]
[123,107,"Israel",null,1.65]
[124,108,"Jordan",null,4.8600000000000003]
[125,109,"Kuwait",null,5.44]
[126,110,"Lebanon",null,5.99]
[127,112,"Oman",null,6.45]
[128,113,"Qatar",9,6.65]
[129,114,"Saudi Arabia",null,2.81]
[130,115,"State of Palestine",10,2.74]
[131,116,"Syrian Arab Republic",11,-2.2999999999999998]
[132,117,"Turkey",null,1.58]
[133,118,"United Arab Emirates",null,2.0299999999999998]
[134,119,"Yemen",null,2.62]
[135,120,"EUROPE",null,0.1]
[136,121,"Eastern Europe",null,-0.09]
[137,122,"Belarus",null,0.03]
[138,123,"Bulgaria",null,-0.62]
[139,124,"Czech Republic",null,0.13]
[140,125,"Hungary",12,-0.28999999999999998]
[141,126,"Poland",null,-0.03]
[142,127,"Republic of Moldova",null,-0.09]
[143,128,"Romania",null,-0.56000000000000005]
[144,129,"Russian Federation",null,0.1]
[145,132,"Slovakia",null,0.13]
[146,133,"Ukraine",null,-0.5]
[147,134,"Northern Europe",null,0.55000000000000004]
[148,135,"Channel Islands",null,0.52]
[149,136,"Denmark",null,0.48]
[150,137,"Estonia",13,-0.25]
[151,138,"Faeroe Islands",null,0.17]
[152,139,"Finland",null,0.43]
[153,140,"Iceland",null,0.61]
[154,141,"Ireland",null,0.31]
[155,143,"Isle of Man",14,0.76]
[156,144,"Latvia",null,-1.23]
[157,145,"Lithuania",null,-1.27]
[158,146,"Norway",null,1.25]
[159,147,"Sweden",15,0.78]
[160,148,"United Kingdom",null,0.65]
[161,149,"Southern Europe",null,-0.2]
[162,150,"Albania",null,-0.12]
[163,151,"Andorra",null,-1.59]
[164,152,"Bosnia and Herzegovina",null,-1.03]
[165,153,"Croatia",16,-0.43]
[166,154,"Gibraltar",null,0.62]
[167,155,"Greece",null,-0.4]
[168,157,"Holy See",null,0.03]
[169,158,"Italy",null,-0.08]
[170,159,"Malta",null,0.55000000000000004]
[171,160,"Montenegro",null,0.12]
[172,161,"Portugal",null,-0.44]
[173,162,"San Marino",null,1.1599999999999999]
[174,163,"Serbia",17,-0.4]
[175,164,"Slovenia",null,0.28999999999999998]
[176,165,"Spain",null,-0.17]
[177,166,"TFYR Macedonia",null,0.08]
[178,167,"Western Europe",null,0.39]
[179,168,"Austria",null,0.63]
[180,169,"Belgium",18,0.63]
[181,170,"France",null,0.45]
[182,171,"Germany",19,0.2]
[183,172,"Liechtenstein",20,0.76]
[184,174,"Luxembourg",null,2.19]
[185,175,"Monaco",null,0.65]
[186,176,"Netherlands",null,0.3]
[187,177,"Switzerland",null,1.21]
[188,178,"LATIN AMERICA AND THE CARIBBEAN",null,1.1299999999999999]
[189,179,"Caribbean",null,0.75]
[190,180,"Anguilla",null,1.19]
[191,181,"Antigua and Barbuda",null,1.08]
[192,182,"Aruba",null,0.52]
[193,185,"Bahamas",null,1.39]
[194,186,"Barbados",null,0.33]
[195,187,"British Virgin Islands",null,2.02]
[196,188,"Caribbean Netherlands",null,3.2]
[197,189,"Cayman Islands",null,1.55]
[198,190,"Cuba",null,0.23]
[199,191,"Curaçao",21,1.36]
[200,192,"Dominica",null,0.48]
[201,193,"Dominican Republic",null,1.24]
[202,194,"Grenada",null,0.41]
[203,195,"Guadeloupe",null,-0.01]
[204,196,"Haiti",null,1.38]
[205,197,"Jamaica",null,0.39]
[206,198,"Martinique",22,-0.46]
[207,199,"Montserrat",null,0.68]
[208,200,"Puerto Rico",null,-0.23]
[209,201,"Saint Kitts and Nevis",null,1.08]
[210,202,"Saint Lucia",null,0.53]
[211,203,"Saint Vincent and the Grenadines",null,0.03]
[212,204,"Sint Maarten (Dutch part)",null,3.13]
[213,205,"Trinidad and Tobago",null,0.48]
[214,206,"Turks and Caicos Islands",null,2.0499999999999998]
[215,207,"United States Virgin Islands",null,-0.22]
[216,208,"Central America",null,1.45]
[217,209,"Belize",null,2.2200000000000002]
[218,210,"Costa Rica",null,1.1200000000000001]
[219,212,"El Salvador",null,0.47]
[220,213,"Guatemala",null,2.1]
[221,214,"Honduras",null,1.79]
[222,215,"Mexico",null,1.41]
[223,216,"Nicaragua",null,1.17]
[224,217,"Panama",null,1.71]
[225,218,"South America",null,1.04]
[226,219,"Argentina",null,1.04]
[227,221,"Bolivia (Plurinational State of)",null,1.56]
[228,222,"Brazil",null,0.91]
[229,223,"Chile",null,0.89]
[230,224,"Colombia",null,0.98]
[231,225,"Ecuador",null,1.56]
[232,226,"Falkland Islands (Malvinas)",null,0.31]
[233,227,"French Guiana",null,2.75]
[234,228,"Guyana",null,0.57999999999999996]
[235,229,"Paraguay",null,1.34]
[236,230,"Peru",null,1.32]
[237,231,"Suriname",null,1.01]
[238,232,"Uruguay",null,0.34]
[239,233,"Venezuela (Bolivarian Republic of)",null,1.41]
[240,234,"NORTHERN AMERICA",null,0.75]
[241,236,"Bermuda",null,-0.62]
[242,237,"Canada",null,1.02]
[243,238,"Greenland",null,-0.09]
[244,239,"Saint Pierre and Miquelon",null,0.05]
[245,240,"United States of America",null,0.72]
[246,243,"OCEANIA",23,1.53]
[247,244,"Australia/New Zealand",null,1.4]
[248,246,"Australia",null,1.46]
[249,247,"New Zealand",null,1.0900000000000001]
[250,248,"Melanesia",null,2.0099999999999998]
[251,249,"Fiji",null,0.74]
[252,250,"New Caledonia",null,1.39]
[253,252,"Papua New Guinea",null,2.16]
[254,253,"Solomon Islands",null,2.14]
[255,254,"Vanuatu",null,2.2599999999999998]
[256,255,"Micronesia",null,0.62]
[257,256,"Guam",null,0.28999999999999998]
[258,257,"Kiribati",null,1.82]
[259,258,"Marshall Islands",null,0.21]
[260,260,"Micronesia (Fed. States of)",null,0.16]
[261,261,"Nauru",null,2.3199999999999998]
[262,262,"Northern Mariana Islands",null,0.14000000000000001]
[263,263,"Palau",null,0.79]
[264,264,"Polynesia",null,0.53]
[265,265,"American Samoa",null,-0.04]
[266,266,"Cook Islands",null,-1.22]
[267,267,"French Polynesia",null,0.72]
[268,268,"Niue",null,-0.15]
[269,269,"Samoa",null,0.8]
[270,270,"Tokelau",null,1.93]
[271,271,"Tonga",null,0.42]
[272,272,"Tuvalu",null,0.87]
[273,273,"Wallis and Futuna Islands",null,-2.13]

{"sheet":"Ratio males-females","index":7,"n_rows":250,"n_cols":9,"rows_kept":250,"cut":false,"hidden":true,"merged":[[6,1,8,1],[6,2,8,2],[6,3,8,3],[6,4,8,4],[0,8,0,17]]}
[null,null,"MSF-OCBA. Emergency Preparedness",null,null,null,null,null,"File POP/4: Sex ratio by region, subregion and country, 1950-2100 (males per 100 females)"]
[null,null,"Sex ratio of the total population by major area, region and country, 2015 (males per 100 females)"]
[null,null,"Estimates 2015"]
[null,null,"Source: United Nations, Department of Economic and Social Affairs, Population Division (2017). World Population Prospects: The 2017 Revision, DVD Edition."]
[null,null,"http://esa.un.org/unpd/wpp/Excel-Data/population.htm"]
[null,null,1,2,3]
[null,"Index","Major area, region, country or area",null,"Ratio Males per 100 females\n(2015)"]
[]
[]
[1,1,"WORLD",null,101.8]
[2,2,"More developed regions",null,95]
[3,3,"Less developed regions",null,103.2]
[4,4,"Least developed countries",null,99.3]
[5,5,"Less developed regions, excluding least developed countries",null,104]
[6,6,"Less developed regions, excluding China",null,102.4]
[7,7,"High-income countries",null,99]
[8,8,"Middle-income countries",null,102.7]
[9,9,"Upper-middle-income countries",null,101.8]
[10,30,"Lower-middle-income countries",null,103.6]
[11,40,"Low-income countries",null,98.8]
[12,48,"Sub-Saharan Africa",null,99.4]
[13,54,"AFRICA",null,99.7]
[14,71,"Eastern Africa",null,98.4]
[15,72,"Burundi",null,96.7]
[16,81,"Comoros",null,101.7]
[17,82,"Djibouti",null,100.8]
[18,88,"Eritrea",null,100.4]
[19,98,"Ethiopia",null,99.7]
[20,110,"Kenya",null,98.8]
[21,129,"Madagascar",null,99.4]
[22,130,"Malawi",null,98.1]
[23,141,"Mauritius",null,98.1]
[24,153,"Mayotte",null,96.5]
[25,166,"Mozambique",null,95.2]
[26,174,"Réunion",null,93.9]
[27,175,"Rwanda",null,96.2]
[28,193,"Seychelles",null,98.3]
[29,202,"Somalia",null,99.3]
[30,216,"South Sudan",null,100.3]
[31,219,"Uganda",null,98.9]
[32,220,"United Republic of Tanzania",null,97.7]
[33,223,"Zambia",null,98.5]
[34,233,"Zimbabwe",null,94.8]
[35,229,"Middle Africa",null,99.2]
[36,10,"Angola",null,96.1]
[37,11,"Cameroon",null,100.1]
[38,12,"Central African Republic",null,97.3]
[39,13,"Chad",null,100.2]
[40,14,"Congo",null,100.1]
[41,15,"Democratic Republic of the Congo",null,99.5]
[42,16,"Equatorial Guinea",null,123]
[43,17,"Gabon",null,105.7]
[44,18,"Sao Tome and Principe",null,99.2]
[45,19,"Northern Africa",null,100.9]
[46,20,"Algeria",null,102]
[47,21,"Egypt",null,102.2]
[48,22,"Libya",null,102]
[49,23,"Morocco",null,97.9]
[50,24,"Sudan",null,99.8]
[51,25,"Tunisia",null,97.7]
[52,26,"Western Sahara",null,110.5]
[53,27,"Southern Africa",null,96.3]
[54,28,"Botswana",null,97.7]
[55,29,"Lesotho",null,94.2]
[56,31,"Namibia",null,94.5]
[57,32,"South Africa",null,96.5]
[58,33,"Swaziland",null,94]
[59,34,"Western Africa",null,101.2]
[60,35,"Benin",null,99.3]
[61,36,"Burkina Faso",null,99.2]
[62,37,"Cabo Verde",null,99.2]
[63,38,"Côte d'Ivoire",null,103.1]
[64,39,"Gambia",null,98]
[65,41,"Ghana",null,99]
[66,42,"Guinea",null,100.5]
[67,43,"Guinea-Bissau",null,96.7]
[68,44,"Liberia",null,101.7]
[69,45,"Mali",null,100]
[70,46,"Mauritania",null,101.4]
[71,47,"Niger",null,100.4]
[72,49,"Nigeria",null,102.6]
[73,50,"Senegal",null,96.4]
[74,51,"Sierra Leone",null,98]
[75,52,"Togo",null,99.3]
[76,53,"ASIA",null,104.8]
[77,55,"Eastern Asia",null,104.8]
[78,56,"China",null,106.3]
[79,57,"China, Hong Kong SAR",null,85.9]
[80,58,"China, Macao SAR",null,92.2]
[81,59,"Dem. People's Republic of Korea",null,100.1]
[82,60,"Japan",null,95.7]
[83,61,"Mongolia",null,95.5]
[84,62,"Republic of Korea",null,98.1]
[85,63,"Other non-specified areas",null,100.2]
[86,64,"South-Central Asia",null,105.9]
[87,65,"Central Asia",null,97.8]
[88,66,"Kazakhstan",null,93.9]
[89,67,"Kyrgyzstan",null,98.3]
[90,68,"Tajikistan",null,101.1]
[91,69,"Turkmenistan",null,97]
[92,70,"Uzbekistan",null,99.3]
[93,73,"Southern Asia",null,106.2]
[94,74,"Afghanistan",null,106.4]
[95,75,"Bangladesh",null,101.9]
[96,76,"Bhutan",null,113.4]
[97,77,"India",null,107.6]
[98,78,"Iran (Islamic Republic of)",null,101.3]
[99,79,"Maldives",null,130.19999999999999]
[100,80,"Nepal",null,94.2]
[101,83,"Pakistan",null,105.6]
[102,84,"Sri Lanka",null,93]
[103,85,"South-Eastern Asia",null,99.8]
[104,86,"Brunei Darussalam",null,106.3]
[105,87,"Cambodia",null,95.2]
[106,89,"Indonesia",null,101.5]
[107,90,"Lao People's Democratic Republic",null,99.4]
[108,91,"Malaysia",null,106.9]
[109,92,"Myanmar",null,95.5]
[110,93,"Philippines",null,101.5]
[111,94,"Singapore",null,97.6]
[112,95,"Thailand",null,95.4]
[113,96,"Timor-Leste",null,103.2]
[114,97,"Viet Nam",null,97.9]
[115,99,"Western Asia",null,109.2]
[116,100,"Armenia",null,88.7]
[117,101,"Azerbaijan",null,99.1]
[118,102,"Bahrain",null,161.30000000000001]
[119,103,"Cyprus",null,100.3]
[120,104,"Georgia",null,91.3]
[121,105,"Iraq",null,102.4]
[122,106,"Israel",null,98.4]
[123,107,"Jordan",null,102.7]
[124,108,"Kuwait",null,135]
[125,109,"Lebanon",null,100.9]
[126,111,"Oman",null,184.4]
[127,112,"Qatar",null,306.60000000000002]
[128,113,"Saudi Arabia",null,130.9]
[129,114,"State of Palestine",null,102.9]
[130,115,"Syrian Arab Republic",null,102.3]
[131,116,"Turkey",null,96.8]
[132,117,"United Arab Emirates",null,272.2]
[133,118,"Yemen",null,102.1]
[134,119,"EUROPE",null,93.4]
[135,120,"Eastern Europe",null,88.8]
[136,121,"Belarus",null,87]
[137,122,"Bulgaria",null,94.7]
[138,123,"Czech Republic",null,96.6]
[139,124,"Hungary",null,90.6]
[140,125,"Poland",null,93.4]
[141,126,"Republic of Moldova",null,92.5]
[142,127,"Romania",null,94]
[143,128,"Russian Federation",null,86.8]
[144,131,"Slovakia",null,94.6]
[145,132,"Ukraine",null,85.9]
[146,133,"Northern Europe",null,97.1]
[147,134,"Channel Islands",null,98.3]
[148,135,"Denmark",null,98.9]
[149,136,"Estonia",null,87.9]
[150,137,"Finland",null,96.9]
[151,138,"Iceland",null,100.7]
[152,139,"Ireland",null,98.4]
[153,140,"Latvia",null,84.8]
[154,142,"Lithuania",null,85.4]
[155,143,"Norway",null,101.4]
[156,144,"Sweden",null,99.9]
[157,145,"United Kingdom",null,97.2]
[158,146,"Southern Europe",null,95.4]
[159,147,"Albania",null,102]
[160,148,"Bosnia and Herzegovina",null,96.4]
[161,149,"Croatia",null,93]
[162,150,"Greece",null,97]
[163,151,"Italy",null,94.8]
[164,152,"Malta",null,100.6]
[165,154,"Montenegro",null,97.3]
[166,155,"Portugal",null,90]
[167,156,"Serbia",null,95.6]
[168,157,"Slovenia",null,98.5]
[169,158,"Spain",null,96.4]
[170,159,"TFYR Macedonia",null,100]
[171,160,"Western Europe",null,96.9]
[172,161,"Austria",null,95.9]
[173,162,"Belgium",null,96.7]
[174,163,"France",null,96.6]
[175,164,"Germany",null,96.8]
[176,165,"Luxembourg",null,100.8]
[177,167,"Netherlands",null,98.9]
[178,168,"Switzerland",null,98]
[179,169,"LATIN AMERICA AND THE CARIBBEAN",null,97.8]
[180,170,"Caribbean",null,98]
[181,171,"Antigua and Barbuda",null,92.2]
[182,172,"Aruba",null,90.6]
[183,173,"Bahamas",null,95.9]
[184,176,"Barbados",null,92]
[185,177,"Cuba",null,100.2]
[186,178,"Curaçao",null,84.3]
[187,179,"Dominican Republic",null,99.3]
[188,180,"Grenada",null,100.6]
[189,181,"Guadeloupe",null,86.6]
[190,182,"Haiti",null,97.9]
[191,183,"Jamaica",null,99]
[192,184,"Martinique",null,83.9]
[193,185,"Puerto Rico",null,92.5]
[194,186,"Saint Lucia",null,96]
[195,187,"Saint Vincent and the Grenadines",null,101.8]
[196,188,"Trinidad and Tobago",null,97.4]
[197,189,"United States Virgin Islands",null,91.2]
[198,190,"Central America",null,98.5]
[199,191,"Belize",null,99.4]
[200,192,"Costa Rica",null,100.1]
[201,194,"El Salvador",null,88.9]
[202,195,"Guatemala",null,96.8]
[203,196,"Honduras",null,99.4]
[204,197,"Mexico",null,99.2]
[205,198,"Nicaragua",null,97.2]
[206,199,"Panama",null,100.6]
[207,200,"South America",null,97.4]
[208,201,"Argentina",null,95.8]
[209,203,"Bolivia (Plurinational State of)",null,100.3]
[210,204,"Brazil",null,96.8]
[211,205,"Chile",null,98.1]
[212,206,"Colombia",null,97]
[213,207,"Ecuador",null,100]
[214,208,"French Guiana",null,100]
[215,209,"Guyana",null,101.5]
[216,210,"Paraguay",null,103]
[217,211,"Peru",null,99.8]
[218,212,"Suriname",null,100.9]
[219,213,"Uruguay",null,93.3]
[220,214,"Venezuela (Bolivarian Republic of)",null,99.2]
[221,215,"NORTHERN AMERICA",null,98]
[222,217,"Canada",null,98.4]
[223,218,"United States of America",null,97.9]
[224,221,"OCEANIA",null,100.2]
[225,222,"Australia/New Zealand",null,98.9]
[226,224,"Australia",null,99.4]
[227,225,"New Zealand",null,96.7]
[228,226,"Melanesia",null,103.5]
[229,227,"Fiji",null,103.4]
[230,228,"New Caledonia",null,101.9]
[231,230,"Papua New Guinea",null,103.5]
[232,231,"Solomon Islands",null,103.4]
[233,232,"Vanuatu",null,102.6]
[234,234,"Micronesia",null,101.6]
[235,235,"Guam",null,102.7]
[236,236,"Kiribati",null,97.2]
[237,237,"Micronesia (Fed. States of)",null,105]
[238,238,"Polynesia",null,103.6]
[239,239,"French Polynesia",null,104]
[240,240,"Samoa",null,106.6]
[241,241,"Tonga",null,100.6]

{"sheet":"Notes UN","index":8,"n_rows":282,"n_cols":1,"rows_kept":282,"cut":false,"hidden":true,"merged":[]}
["Notes from UN Population Division:"]
["(*) Countries or areas listed individually are only those with 90,000 inhabitants or more in 2017; the rest are included in the aggregates but are not listed separately."]
["(a) More developed regions comprise Europe, Northern America, Australia/New Zealand and Japan."]
["(b) Less developed regions comprise all regions of Africa, Asia (except Japan), Latin America and the Caribbean plus Melanesia, Micronesia and Polynesia."]
["(c) The group of least developed countries, as defined by the United Nations General Assembly in its resolutions (59/209, 59/210, 60/33, 62/97, 64/L.55, 67/L.43, 64/295 and 68/18) included 47 countries in June  2017:  33 in Africa, 9 in Asia, 4 in Oceania and one in Latin America and the Caribbean."]
["(d) Other less developed countries comprise the less developed regions excluding the least developed countries."]
["(e) The country classification by income level is based on 2016 GNI per capita from the World Bank."]
["(f) Sub-Saharan Africa refers to all of Africa except Northern Africa."]
["Major area, region, country or area"]
["WORLD"]
["More developed regions"]
["Less developed regions"]
["Least developed countries"]
["Less developed regions, excluding least developed countries"]
["Less developed regions, excluding China"]
["High-income countries"]
["Middle-income countries"]
["Upper-middle-income countries"]
["Lower-middle-income countries"]
["Low-income countries"]
["Sub-Saharan Africa"]
["AFRICA"]
["Eastern Africa"]
["Burundi"]
["Comoros"]
["Djibouti"]
["Eritrea"]
["Ethiopia"]
["Kenya"]
["Madagascar"]
["Malawi"]
["Mauritius"]
["Mayotte"]
["Mozambique"]
["Réunion"]
["Rwanda"]
["Seychelles"]
["Somalia"]
["South Sudan"]
["Uganda"]
["United Republic of Tanzania"]
["Zambia"]
["Zimbabwe"]
["Middle Africa"]
["Angola"]
["Cameroon"]
["Central African Republic"]
["Chad"]
["Congo"]
["Democratic Republic of the Congo"]
["Equatorial Guinea"]
["Gabon"]
["Sao Tome and Principe"]
["Northern Africa"]
["Algeria"]
["Egypt"]
["Libya"]
["Morocco"]
["Sudan"]
["Tunisia"]
["Western Sahara"]
["Southern Africa"]
["Botswana"]
["Lesotho"]
["Namibia"]
["South Africa"]
["Swaziland"]
["Western Africa"]
["Benin"]
["Burkina Faso"]
["Cabo Verde"]
["Côte d'Ivoire"]
["Gambia"]
["Ghana"]
["Guinea"]
["Guinea-Bissau"]
["Liberia"]
["Mali"]
["Mauritania"]
["Niger"]
["Nigeria"]
["Saint Helena"]
["Senegal"]
["Sierra Leone"]
["Togo"]
["ASIA"]
["Eastern Asia"]
["China"]
["China, Hong Kong SAR"]
["China, Macao SAR"]
["Dem. People's Republic of Korea"]
["Japan"]
["Mongolia"]
["Republic of Korea"]
["Other non-specified areas"]
["South-Central Asia"]
["Central Asia"]
["Kazakhstan"]
["Kyrgyzstan"]
["Tajikistan"]
["Turkmenistan"]
["Uzbekistan"]
["Southern Asia"]
["Afghanistan"]
["Bangladesh"]
["Bhutan"]
["India"]
["Iran (Islamic Republic of)"]
["Maldives"]
["Nepal"]
["Pakistan"]
["Sri Lanka"]
["South-Eastern Asia"]
["Brunei Darussalam"]
["Cambodia"]
["Indonesia"]
["Lao People's Democratic Republic"]
["Malaysia"]
["Myanmar"]
["Philippines"]
["Singapore"]
["Thailand"]
["Timor-Leste"]
["Viet Nam"]
["Western Asia"]
["Armenia"]
["Azerbaijan"]
["Bahrain"]
["Cyprus"]
["Georgia"]
["Iraq"]
["Israel"]
["Jordan"]
["Kuwait"]
["Lebanon"]
["Oman"]
["Qatar"]
["Saudi Arabia"]
["State of Palestine"]
["Syrian Arab Republic"]
["Turkey"]
["United Arab Emirates"]
["Yemen"]
["EUROPE"]
["Eastern Europe"]
["Belarus"]
["Bulgaria"]
["Czech Republic"]
["Hungary"]
["Poland"]
["Republic of Moldova"]
["Romania"]
["Russian Federation"]
["Slovakia"]
["Ukraine"]
["Northern Europe"]
["Channel Islands"]
["Denmark"]
["Estonia"]
["Faeroe Islands"]
["Finland"]
["Iceland"]
["Ireland"]
["Isle of Man"]
["Latvia"]
["Lithuania"]
["Norway"]
["Sweden"]
["United Kingdom"]
["Southern Europe"]
["Albania"]
["Andorra"]
["Bosnia and Herzegovina"]
["Croatia"]
["Gibraltar"]
["Greece"]
["Holy See"]
["Italy"]
["Malta"]
["Montenegro"]
["Portugal"]
["San Marino"]
["Serbia"]
["Slovenia"]
["Spain"]
["TFYR Macedonia"]
["Western Europe"]
["Austria"]
["Belgium"]
["France"]
["Germany"]
["Liechtenstein"]
["Luxembourg"]
["Monaco"]
["Netherlands"]
["Switzerland"]
["LATIN AMERICA AND THE CARIBBEAN"]
["Caribbean"]
["Anguilla"]
["Antigua and Barbuda"]
["Aruba"]
["Bahamas"]
["Barbados"]
["British Virgin Islands"]
["Caribbean Netherlands"]
["Cayman Islands"]
["Cuba"]
["Curaçao"]
["Dominica"]
["Dominican Republic"]
["Grenada"]
["Guadeloupe"]
["Haiti"]
["Jamaica"]
["Martinique"]
["Montserrat"]
["Puerto Rico"]
["Saint Kitts and Nevis"]
["Saint Lucia"]
["Saint Vincent and the Grenadines"]
["Sint Maarten (Dutch part)"]
["Trinidad and Tobago"]
["Turks and Caicos Islands"]
["United States Virgin Islands"]
["Central America"]
["Belize"]
["Costa Rica"]
["El Salvador"]
["Guatemala"]
["Honduras"]
["Mexico"]
["Nicaragua"]
["Panama"]
["South America"]
["Argentina"]
["Bolivia (Plurinational State of)"]
["Brazil"]
["Chile"]
["Colombia"]
["Ecuador"]
["Falkland Islands (Malvinas)"]
["French Guiana"]
["Guyana"]
["Paraguay"]
["Peru"]
["Suriname"]
["Uruguay"]
["Venezuela (Bolivarian Republic of)"]
["NORTHERN AMERICA"]
["Bermuda"]
["Canada"]
["Greenland"]
["Saint Pierre and Miquelon"]
["United States of America"]
["OCEANIA"]
["Australia/New Zealand"]
["Australia"]
["New Zealand"]
["Melanesia"]
["Fiji"]
["New Caledonia"]
["Papua New Guinea"]
["Solomon Islands"]
["Vanuatu"]
["Micronesia"]
["Guam"]
["Kiribati"]
["Marshall Islands"]
["Micronesia (Fed. States of)"]
["Nauru"]
["Northern Mariana Islands"]
["Palau"]
["Polynesia"]
["American Samoa"]
["Cook Islands"]
["French Polynesia"]
["Niue"]
["Samoa"]
["Tokelau"]
["Tonga"]
["Tuvalu"]
["Wallis and Futuna Islands"]

{"sheet":"Country list","index":9,"n_rows":246,"n_cols":4,"rows_kept":246,"cut":false,"hidden":true,"merged":[[2,3,4,3]]}
["Country list (in order) for pull down list"]
[null,null,null,"Countries_regions"]
[null,null,null,"Major area, region, country"]
[]
[null,"Order","Code"]
[{"$f":"'General Table'!A11","v":1},1,{"$f":"'General Table'!C11","v":900},{"$f":"'General Table'!D11","v":"WORLD"}]
[{"$f":"'General Table'!A12","v":2},2,{"$f":"'General Table'!C12","v":901},{"$f":"'General Table'!D12","v":"More developed regions"}]
[{"$f":"'General Table'!A13","v":3},3,{"$f":"'General Table'!C13","v":902},{"$f":"'General Table'!D13","v":"Less developed regions"}]
[{"$f":"'General Table'!A14","v":4},4,{"$f":"'General Table'!C14","v":941},{"$f":"'General Table'!D14","v":"Least developed countries"}]
[{"$f":"'General Table'!A15","v":5},5,{"$f":"'General Table'!C15","v":934},{"$f":"'General Table'!D15","v":"Less developed regions, excluding least developed countries"}]
[{"$f":"'General Table'!A16","v":6},6,{"$f":"'General Table'!C16","v":948},{"$f":"'General Table'!D16","v":"Less developed regions, excluding China"}]
[{"$f":"'General Table'!A17","v":7},7,{"$f":"'General Table'!C17","v":1503},{"$f":"'General Table'!D17","v":"High-income countries"}]
[{"$f":"'General Table'!A18","v":8},8,{"$f":"'General Table'!C18","v":1517},{"$f":"'General Table'!D18","v":"Middle-income countries"}]
[{"$f":"'General Table'!A19","v":9},9,{"$f":"'General Table'!C19","v":1502},{"$f":"'General Table'!D19","v":"Upper-middle-income countries"}]
[{"$f":"'General Table'!A20","v":10},10,{"$f":"'General Table'!C20","v":1501},{"$f":"'General Table'!D20","v":"Lower-middle-income countries"}]
[{"$f":"'General Table'!A21","v":11},11,{"$f":"'General Table'!C21","v":1500},{"$f":"'General Table'!D21","v":"Low-income countries"}]
[{"$f":"'General Table'!A22","v":12},12,{"$f":"'General Table'!C22","v":947},{"$f":"'General Table'!D22","v":"Sub-Saharan Africa"}]
[{"$f":"'General Table'!A23","v":13},13,{"$f":"'General Table'!C23","v":903},{"$f":"'General Table'!D23","v":"AFRICA"}]
[{"$f":"'General Table'!A24","v":14},14,{"$f":"'General Table'!C24","v":910},{"$f":"'General Table'!D24","v":"Eastern Africa"}]
[{"$f":"'General Table'!A45","v":35},15,{"$f":"'General Table'!C45","v":911},{"$f":"'General Table'!D45","v":"Middle Africa"}]
[{"$f":"'General Table'!A55","v":45},16,{"$f":"'General Table'!C55","v":912},{"$f":"'General Table'!D55","v":"Northern Africa"}]
[{"$f":"'General Table'!A63","v":53},17,{"$f":"'General Table'!C63","v":913},{"$f":"'General Table'!D63","v":"Southern Africa"}]
[{"$f":"'General Table'!A69","v":59},18,{"$f":"'General Table'!C69","v":914},{"$f":"'General Table'!D69","v":"Western Africa"}]
[{"$f":"'General Table'!A86","v":76},19,{"$f":"'General Table'!C86","v":935},{"$f":"'General Table'!D86","v":"ASIA"}]
[{"$f":"'General Table'!A87","v":77},20,{"$f":"'General Table'!C87","v":906},{"$f":"'General Table'!D87","v":"Eastern Asia"}]
[{"$f":"'General Table'!A96","v":86},21,{"$f":"'General Table'!C96","v":921},{"$f":"'General Table'!D96","v":"South-Central Asia"}]
[{"$f":"'General Table'!A97","v":87},22,{"$f":"'General Table'!C97","v":5500},{"$f":"'General Table'!D97","v":"Central Asia"}]
[{"$f":"'General Table'!A103","v":93},23,{"$f":"'General Table'!C103","v":5501},{"$f":"'General Table'!D103","v":"Southern Asia"}]
[{"$f":"'General Table'!A113","v":103},24,{"$f":"'General Table'!C113","v":920},{"$f":"'General Table'!D113","v":"South-Eastern Asia"}]
[{"$f":"'General Table'!A125","v":115},25,{"$f":"'General Table'!C125","v":922},{"$f":"'General Table'!D125","v":"Western Asia"}]
[{"$f":"'General Table'!A144","v":134},26,{"$f":"'General Table'!C144","v":908},{"$f":"'General Table'!D144","v":"EUROPE"}]
[{"$f":"'General Table'!A145","v":135},27,{"$f":"'General Table'!C145","v":923},{"$f":"'General Table'!D145","v":"Eastern Europe"}]
[{"$f":"'General Table'!A156","v":146},28,{"$f":"'General Table'!C156","v":924},{"$f":"'General Table'!D156","v":"Northern Europe"}]
[{"$f":"'General Table'!A168","v":158},29,{"$f":"'General Table'!C168","v":925},{"$f":"'General Table'!D168","v":"Southern Europe"}]
[{"$f":"'General Table'!A181","v":171},30,{"$f":"'General Table'!C181","v":926},{"$f":"'General Table'!D181","v":"Western Europe"}]
[{"$f":"'General Table'!A189","v":179},31,{"$f":"'General Table'!C189","v":904},{"$f":"'General Table'!D189","v":"LATIN AMERICA AND THE CARIBBEAN"}]
[{"$f":"'General Table'!A190","v":180},32,{"$f":"'General Table'!C190","v":915},{"$f":"'General Table'!D190","v":"Caribbean"}]
[{"$f":"'General Table'!A208","v":198},33,{"$f":"'General Table'!C208","v":916},{"$f":"'General Table'!D208","v":"Central America"}]
[{"$f":"'General Table'!A217","v":207},34,{"$f":"'General Table'!C217","v":931},{"$f":"'General Table'!D217","v":"South America"}]
[{"$f":"'General Table'!A231","v":221},35,{"$f":"'General Table'!C231","v":905},{"$f":"'General Table'!D231","v":"NORTHERN AMERICA"}]
[{"$f":"'General Table'!A234","v":224},36,{"$f":"'General Table'!C234","v":909},{"$f":"'General Table'!D234","v":"OCEANIA"}]
[{"$f":"'General Table'!A235","v":225},37,{"$f":"'General Table'!C235","v":927},{"$f":"'General Table'!D235","v":"Australia/New Zealand"}]
[{"$f":"'General Table'!A238","v":228},38,{"$f":"'General Table'!C238","v":928},{"$f":"'General Table'!D238","v":"Melanesia"}]
[{"$f":"'General Table'!A244","v":234},39,{"$f":"'General Table'!C244","v":954},{"$f":"'General Table'!D244","v":"Micronesia"}]
[{"$f":"'General Table'!A248","v":238},40,{"$f":"'General Table'!C248","v":957},{"$f":"'General Table'!D248","v":"Polynesia"}]
[{"$f":"'General Table'!A104","v":94},41,{"$f":"'General Table'!C104","v":4},{"$f":"'General Table'!D104","v":"Afghanistan"}]
[{"$f":"'General Table'!A169","v":159},42,{"$f":"'General Table'!C169","v":8},{"$f":"'General Table'!D169","v":"Albania"}]
[{"$f":"'General Table'!A56","v":46},43,{"$f":"'General Table'!C56","v":12},{"$f":"'General Table'!D56","v":"Algeria"}]
[{"$f":"'General Table'!A46","v":36},44,{"$f":"'General Table'!C46","v":24},{"$f":"'General Table'!D46","v":"Angola"}]
[{"$f":"'General Table'!A191","v":181},45,{"$f":"'General Table'!C191","v":28},{"$f":"'General Table'!D191","v":"Antigua and Barbuda"}]
[{"$f":"'General Table'!A218","v":208},46,{"$f":"'General Table'!C218","v":32},{"$f":"'General Table'!D218","v":"Argentina"}]
[{"$f":"'General Table'!A126","v":116},47,{"$f":"'General Table'!C126","v":51},{"$f":"'General Table'!D126","v":"Armenia"}]
[{"$f":"'General Table'!A192","v":182},48,{"$f":"'General Table'!C192","v":533},{"$f":"'General Table'!D192","v":"Aruba"}]
[{"$f":"'General Table'!A236","v":226},49,{"$f":"'General Table'!C236","v":36},{"$f":"'General Table'!D236","v":"Australia"}]
[{"$f":"'General Table'!A182","v":172},50,{"$f":"'General Table'!C182","v":40},{"$f":"'General Table'!D182","v":"Austria"}]
[{"$f":"'General Table'!A127","v":117},51,{"$f":"'General Table'!C127","v":31},{"$f":"'General Table'!D127","v":"Azerbaijan"}]
[{"$f":"'General Table'!A193","v":183},52,{"$f":"'General Table'!C193","v":44},{"$f":"'General Table'!D193","v":"Bahamas"}]
[{"$f":"'General Table'!A128","v":118},53,{"$f":"'General Table'!C128","v":48},{"$f":"'General Table'!D128","v":"Bahrain"}]
[{"$f":"'General Table'!A105","v":95},54,{"$f":"'General Table'!C105","v":50},{"$f":"'General Table'!D105","v":"Bangladesh"}]
[{"$f":"'General Table'!A194","v":184},55,{"$f":"'General Table'!C194","v":52},{"$f":"'General Table'!D194","v":"Barbados"}]
[{"$f":"'General Table'!A146","v":136},56,{"$f":"'General Table'!C146","v":112},{"$f":"'General Table'!D146","v":"Belarus"}]
[{"$f":"'General Table'!A183","v":173},57,{"$f":"'General Table'!C183","v":56},{"$f":"'General Table'!D183","v":"Belgium"}]
[{"$f":"'General Table'!A209","v":199},58,{"$f":"'General Table'!C209","v":84},{"$f":"'General Table'!D209","v":"Belize"}]
[{"$f":"'General Table'!A70","v":60},59,{"$f":"'General Table'!C70","v":204},{"$f":"'General Table'!D70","v":"Benin"}]
[{"$f":"'General Table'!A106","v":96},60,{"$f":"'General Table'!C106","v":64},{"$f":"'General Table'!D106","v":"Bhutan"}]
[{"$f":"'General Table'!A219","v":209},61,{"$f":"'General Table'!C219","v":68},{"$f":"'General Table'!D219","v":"Bolivia (Plurinational State of)"}]
[{"$f":"'General Table'!A170","v":160},62,{"$f":"'General Table'!C170","v":70},{"$f":"'General Table'!D170","v":"Bosnia and Herzegovina"}]
[{"$f":"'General Table'!A64","v":54},63,{"$f":"'General Table'!C64","v":72},{"$f":"'General Table'!D64","v":"Botswana"}]
[{"$f":"'General Table'!A220","v":210},64,{"$f":"'General Table'!C220","v":76},{"$f":"'General Table'!D220","v":"Brazil"}]
[{"$f":"'General Table'!A114","v":104},65,{"$f":"'General Table'!C114","v":96},{"$f":"'General Table'!D114","v":"Brunei Darussalam"}]
[{"$f":"'General Table'!A147","v":137},66,{"$f":"'General Table'!C147","v":100},{"$f":"'General Table'!D147","v":"Bulgaria"}]
[{"$f":"'General Table'!A71","v":61},67,{"$f":"'General Table'!C71","v":854},{"$f":"'General Table'!D71","v":"Burkina Faso"}]
[{"$f":"'General Table'!A25","v":15},68,{"$f":"'General Table'!C25","v":108},{"$f":"'General Table'!D25","v":"Burundi"}]
[{"$f":"'General Table'!A72","v":62},69,{"$f":"'General Table'!C72","v":132},{"$f":"'General Table'!D72","v":"Cabo Verde"}]
[{"$f":"'General Table'!A115","v":105},70,{"$f":"'General Table'!C115","v":116},{"$f":"'General Table'!D115","v":"Cambodia"}]
[{"$f":"'General Table'!A47","v":37},71,{"$f":"'General Table'!C47","v":120},{"$f":"'General Table'!D47","v":"Cameroon"}]
[{"$f":"'General Table'!A232","v":222},72,{"$f":"'General Table'!C232","v":124},{"$f":"'General Table'!D232","v":"Canada"}]
[{"$f":"'General Table'!A48","v":38},73,{"$f":"'General Table'!C48","v":140},{"$f":"'General Table'!D48","v":"Central African Republic"}]
[{"$f":"'General Table'!A49","v":39},74,{"$f":"'General Table'!C49","v":148},{"$f":"'General Table'!D49","v":"Chad"}]
[{"$f":"'General Table'!A157","v":147},75,{"$f":"'General Table'!C157","v":830},{"$f":"'General Table'!D157","v":"Channel Islands"}]
[{"$f":"'General Table'!A221","v":211},76,{"$f":"'General Table'!C221","v":152},{"$f":"'General Table'!D221","v":"Chile"}]
[{"$f":"'General Table'!A88","v":78},77,{"$f":"'General Table'!C88","v":156},{"$f":"'General Table'!D88","v":"China"}]
[{"$f":"'General Table'!A89","v":79},78,{"$f":"'General Table'!C89","v":344},{"$f":"'General Table'!D89","v":"China, Hong Kong SAR"}]
[{"$f":"'General Table'!A90","v":80},79,{"$f":"'General Table'!C90","v":446},{"$f":"'General Table'!D90","v":"China, Macao SAR"}]
[{"$f":"'General Table'!A222","v":212},80,{"$f":"'General Table'!C222","v":170},{"$f":"'General Table'!D222","v":"Colombia"}]
[{"$f":"'General Table'!A26","v":16},81,{"$f":"'General Table'!C26","v":174},{"$f":"'General Table'!D26","v":"Comoros"}]
[{"$f":"'General Table'!A50","v":40},82,{"$f":"'General Table'!C50","v":178},{"$f":"'General Table'!D50","v":"Congo"}]
[{"$f":"'General Table'!A210","v":200},83,{"$f":"'General Table'!C210","v":188},{"$f":"'General Table'!D210","v":"Costa Rica"}]
[{"$f":"'General Table'!A73","v":63},84,{"$f":"'General Table'!C73","v":384},{"$f":"'General Table'!D73","v":"Côte d'Ivoire"}]
[{"$f":"'General Table'!A171","v":161},85,{"$f":"'General Table'!C171","v":191},{"$f":"'General Table'!D171","v":"Croatia"}]
[{"$f":"'General Table'!A195","v":185},86,{"$f":"'General Table'!C195","v":192},{"$f":"'General Table'!D195","v":"Cuba"}]
[{"$f":"'General Table'!A196","v":186},87,{"$f":"'General Table'!C196","v":531},{"$f":"'General Table'!D196","v":"Curaçao"}]
[{"$f":"'General Table'!A129","v":119},88,{"$f":"'General Table'!C129","v":196},{"$f":"'General Table'!D129","v":"Cyprus"}]
[{"$f":"'General Table'!A148","v":138},89,{"$f":"'General Table'!C148","v":203},{"$f":"'General Table'!D148","v":"Czech Republic"}]
[{"$f":"'General Table'!A91","v":81},90,{"$f":"'General Table'!C91","v":408},{"$f":"'General Table'!D91","v":"Dem. People's Republic of Korea"}]
[{"$f":"'General Table'!A51","v":41},91,{"$f":"'General Table'!C51","v":180},{"$f":"'General Table'!D51","v":"Democratic Republic of the Congo"}]
[{"$f":"'General Table'!A158","v":148},92,{"$f":"'General Table'!C158","v":208},{"$f":"'General Table'!D158","v":"Denmark"}]
[{"$f":"'General Table'!A27","v":17},93,{"$f":"'General Table'!C27","v":262},{"$f":"'General Table'!D27","v":"Djibouti"}]
[{"$f":"'General Table'!A197","v":187},94,{"$f":"'General Table'!C197","v":214},{"$f":"'General Table'!D197","v":"Dominican Republic"}]
[{"$f":"'General Table'!A223","v":213},95,{"$f":"'General Table'!C223","v":218},{"$f":"'General Table'!D223","v":"Ecuador"}]
[{"$f":"'General Table'!A57","v":47},96,{"$f":"'General Table'!C57","v":818},{"$f":"'General Table'!D57","v":"Egypt"}]
[{"$f":"'General Table'!A211","v":201},97,{"$f":"'General Table'!C211","v":222},{"$f":"'General Table'!D211","v":"El Salvador"}]
[{"$f":"'General Table'!A52","v":42},98,{"$f":"'General Table'!C52","v":226},{"$f":"'General Table'!D52","v":"Equatorial Guinea"}]
[{"$f":"'General Table'!A28","v":18},99,{"$f":"'General Table'!C28","v":232},{"$f":"'General Table'!D28","v":"Eritrea"}]
[{"$f":"'General Table'!A159","v":149},100,{"$f":"'General Table'!C159","v":233},{"$f":"'General Table'!D159","v":"Estonia"}]
[{"$f":"'General Table'!A29","v":19},101,{"$f":"'General Table'!C29","v":231},{"$f":"'General Table'!D29","v":"Ethiopia"}]
[{"$f":"'General Table'!A239","v":229},102,{"$f":"'General Table'!C239","v":242},{"$f":"'General Table'!D239","v":"Fiji"}]
[{"$f":"'General Table'!A160","v":150},103,{"$f":"'General Table'!C160","v":246},{"$f":"'General Table'!D160","v":"Finland"}]
[{"$f":"'General Table'!A184","v":174},104,{"$f":"'General Table'!C184","v":250},{"$f":"'General Table'!D184","v":"France"}]
[{"$f":"'General Table'!A224","v":214},105,{"$f":"'General Table'!C224","v":254},{"$f":"'General Table'!D224","v":"French Guiana"}]
[{"$f":"'General Table'!A249","v":239},106,{"$f":"'General Table'!C249","v":258},{"$f":"'General Table'!D249","v":"French Polynesia"}]
[{"$f":"'General Table'!A53","v":43},107,{"$f":"'General Table'!C53","v":266},{"$f":"'General Table'!D53","v":"Gabon"}]
[{"$f":"'General Table'!A74","v":64},108,{"$f":"'General Table'!C74","v":270},{"$f":"'General Table'!D74","v":"Gambia"}]
[{"$f":"'General Table'!A130","v":120},109,{"$f":"'General Table'!C130","v":268},{"$f":"'General Table'!D130","v":"Georgia"}]
[{"$f":"'General Table'!A185","v":175},110,{"$f":"'General Table'!C185","v":276},{"$f":"'General Table'!D185","v":"Germany"}]
[{"$f":"'General Table'!A75","v":65},111,{"$f":"'General Table'!C75","v":288},{"$f":"'General Table'!D75","v":"Ghana"}]
[{"$f":"'General Table'!A172","v":162},112,{"$f":"'General Table'!C172","v":300},{"$f":"'General Table'!D172","v":"Greece"}]
[{"$f":"'General Table'!A198","v":188},113,{"$f":"'General Table'!C198","v":308},{"$f":"'General Table'!D198","v":"Grenada"}]
[{"$f":"'General Table'!A199","v":189},114,{"$f":"'General Table'!C199","v":312},{"$f":"'General Table'!D199","v":"Guadeloupe"}]
[{"$f":"'General Table'!A245","v":235},115,{"$f":"'General Table'!C245","v":316},{"$f":"'General Table'!D245","v":"Guam"}]
[{"$f":"'General Table'!A212","v":202},116,{"$f":"'General Table'!C212","v":320},{"$f":"'General Table'!D212","v":"Guatemala"}]
[{"$f":"'General Table'!A76","v":66},117,{"$f":"'General Table'!C76","v":324},{"$f":"'General Table'!D76","v":"Guinea"}]
[{"$f":"'General Table'!A77","v":67},118,{"$f":"'General Table'!C77","v":624},{"$f":"'General Table'!D77","v":"Guinea-Bissau"}]
[{"$f":"'General Table'!A225","v":215},119,{"$f":"'General Table'!C225","v":328},{"$f":"'General Table'!D225","v":"Guyana"}]
[{"$f":"'General Table'!A200","v":190},120,{"$f":"'General Table'!C200","v":332},{"$f":"'General Table'!D200","v":"Haiti"}]
[{"$f":"'General Table'!A213","v":203},121,{"$f":"'General Table'!C213","v":340},{"$f":"'General Table'!D213","v":"Honduras"}]
[{"$f":"'General Table'!A149","v":139},122,{"$f":"'General Table'!C149","v":348},{"$f":"'General Table'!D149","v":"Hungary"}]
[{"$f":"'General Table'!A161","v":151},123,{"$f":"'General Table'!C161","v":352},{"$f":"'General Table'!D161","v":"Iceland"}]
[{"$f":"'General Table'!A107","v":97},124,{"$f":"'General Table'!C107","v":356},{"$f":"'General Table'!D107","v":"India"}]
[{"$f":"'General Table'!A116","v":106},125,{"$f":"'General Table'!C116","v":360},{"$f":"'General Table'!D116","v":"Indonesia"}]
[{"$f":"'General Table'!A108","v":98},126,{"$f":"'General Table'!C108","v":364},{"$f":"'General Table'!D108","v":"Iran (Islamic Republic of)"}]
[{"$f":"'General Table'!A131","v":121},127,{"$f":"'General Table'!C131","v":368},{"$f":"'General Table'!D131","v":"Iraq"}]
[{"$f":"'General Table'!A162","v":152},128,{"$f":"'General Table'!C162","v":372},{"$f":"'General Table'!D162","v":"Ireland"}]
[{"$f":"'General Table'!A132","v":122},129,{"$f":"'General Table'!C132","v":376},{"$f":"'General Table'!D132","v":"Israel"}]
[{"$f":"'General Table'!A173","v":163},130,{"$f":"'General Table'!C173","v":380},{"$f":"'General Table'!D173","v":"Italy"}]
[{"$f":"'General Table'!A201","v":191},131,{"$f":"'General Table'!C201","v":388},{"$f":"'General Table'!D201","v":"Jamaica"}]
[{"$f":"'General Table'!A92","v":82},132,{"$f":"'General Table'!C92","v":392},{"$f":"'General Table'!D92","v":"Japan"}]
[{"$f":"'General Table'!A133","v":123},133,{"$f":"'General Table'!C133","v":400},{"$f":"'General Table'!D133","v":"Jordan"}]
[{"$f":"'General Table'!A98","v":88},134,{"$f":"'General Table'!C98","v":398},{"$f":"'General Table'!D98","v":"Kazakhstan"}]
[{"$f":"'General Table'!A30","v":20},135,{"$f":"'General Table'!C30","v":404},{"$f":"'General Table'!D30","v":"Kenya"}]
[{"$f":"'General Table'!A246","v":236},136,{"$f":"'General Table'!C246","v":296},{"$f":"'General Table'!D246","v":"Kiribati"}]
[{"$f":"'General Table'!A134","v":124},137,{"$f":"'General Table'!C134","v":414},{"$f":"'General Table'!D134","v":"Kuwait"}]
[{"$f":"'General Table'!A99","v":89},138,{"$f":"'General Table'!C99","v":417},{"$f":"'General Table'!D99","v":"Kyrgyzstan"}]
[{"$f":"'General Table'!A117","v":107},139,{"$f":"'General Table'!C117","v":418},{"$f":"'General Table'!D117","v":"Lao People's Democratic Republic"}]
[{"$f":"'General Table'!A163","v":153},140,{"$f":"'General Table'!C163","v":428},{"$f":"'General Table'!D163","v":"Latvia"}]
[{"$f":"'General Table'!A135","v":125},141,{"$f":"'General Table'!C135","v":422},{"$f":"'General Table'!D135","v":"Lebanon"}]
[{"$f":"'General Table'!A65","v":55},142,{"$f":"'General Table'!C65","v":426},{"$f":"'General Table'!D65","v":"Lesotho"}]
[{"$f":"'General Table'!A78","v":68},143,{"$f":"'General Table'!C78","v":430},{"$f":"'General Table'!D78","v":"Liberia"}]
[{"$f":"'General Table'!A58","v":48},144,{"$f":"'General Table'!C58","v":434},{"$f":"'General Table'!D58","v":"Libya"}]
[{"$f":"'General Table'!A164","v":154},145,{"$f":"'General Table'!C164","v":440},{"$f":"'General Table'!D164","v":"Lithuania"}]
[{"$f":"'General Table'!A186","v":176},146,{"$f":"'General Table'!C186","v":442},{"$f":"'General Table'!D186","v":"Luxembourg"}]
[{"$f":"'General Table'!A31","v":21},147,{"$f":"'General Table'!C31","v":450},{"$f":"'General Table'!D31","v":"Madagascar"}]
[{"$f":"'General Table'!A32","v":22},148,{"$f":"'General Table'!C32","v":454},{"$f":"'General Table'!D32","v":"Malawi"}]
[{"$f":"'General Table'!A118","v":108},149,{"$f":"'General Table'!C118","v":458},{"$f":"'General Table'!D118","v":"Malaysia"}]
[{"$f":"'General Table'!A109","v":99},150,{"$f":"'General Table'!C109","v":462},{"$f":"'General Table'!D109","v":"Maldives"}]
[{"$f":"'General Table'!A79","v":69},151,{"$f":"'General Table'!C79","v":466},{"$f":"'General Table'!D79","v":"Mali"}]
[{"$f":"'General Table'!A174","v":164},152,{"$f":"'General Table'!C174","v":470},{"$f":"'General Table'!D174","v":"Malta"}]
[{"$f":"'General Table'!A202","v":192},153,{"$f":"'General Table'!C202","v":474},{"$f":"'General Table'!D202","v":"Martinique"}]
[{"$f":"'General Table'!A80","v":70},154,{"$f":"'General Table'!C80","v":478},{"$f":"'General Table'!D80","v":"Mauritania"}]
[{"$f":"'General Table'!A33","v":23},155,{"$f":"'General Table'!C33","v":480},{"$f":"'General Table'!D33","v":"Mauritius"}]
[{"$f":"'General Table'!A34","v":24},156,{"$f":"'General Table'!C34","v":175},{"$f":"'General Table'!D34","v":"Mayotte"}]
[{"$f":"'General Table'!A214","v":204},157,{"$f":"'General Table'!C214","v":484},{"$f":"'General Table'!D214","v":"Mexico"}]
[{"$f":"'General Table'!A247","v":237},158,{"$f":"'General Table'!C247","v":583},{"$f":"'General Table'!D247","v":"Micronesia (Fed. States of)"}]
[{"$f":"'General Table'!A93","v":83},159,{"$f":"'General Table'!C93","v":496},{"$f":"'General Table'!D93","v":"Mongolia"}]
[{"$f":"'General Table'!A175","v":165},160,{"$f":"'General Table'!C175","v":499},{"$f":"'General Table'!D175","v":"Montenegro"}]
[{"$f":"'General Table'!A59","v":49},161,{"$f":"'General Table'!C59","v":504},{"$f":"'General Table'!D59","v":"Morocco"}]
[{"$f":"'General Table'!A35","v":25},162,{"$f":"'General Table'!C35","v":508},{"$f":"'General Table'!D35","v":"Mozambique"}]
[{"$f":"'General Table'!A119","v":109},163,{"$f":"'General Table'!C119","v":104},{"$f":"'General Table'!D119","v":"Myanmar"}]
[{"$f":"'General Table'!A66","v":56},164,{"$f":"'General Table'!C66","v":516},{"$f":"'General Table'!D66","v":"Namibia"}]
[{"$f":"'General Table'!A110","v":100},165,{"$f":"'General Table'!C110","v":524},{"$f":"'General Table'!D110","v":"Nepal"}]
[{"$f":"'General Table'!A187","v":177},166,{"$f":"'General Table'!C187","v":528},{"$f":"'General Table'!D187","v":"Netherlands"}]
[{"$f":"'General Table'!A240","v":230},167,{"$f":"'General Table'!C240","v":540},{"$f":"'General Table'!D240","v":"New Caledonia"}]
[{"$f":"'General Table'!A237","v":227},168,{"$f":"'General Table'!C237","v":554},{"$f":"'General Table'!D237","v":"New Zealand"}]
[{"$f":"'General Table'!A215","v":205},169,{"$f":"'General Table'!C215","v":558},{"$f":"'General Table'!D215","v":"Nicaragua"}]
[{"$f":"'General Table'!A81","v":71},170,{"$f":"'General Table'!C81","v":562},{"$f":"'General Table'!D81","v":"Niger"}]
[{"$f":"'General Table'!A82","v":72},171,{"$f":"'General Table'!C82","v":566},{"$f":"'General Table'!D82","v":"Nigeria"}]
[{"$f":"'General Table'!A165","v":155},172,{"$f":"'General Table'!C165","v":578},{"$f":"'General Table'!D165","v":"Norway"}]
[{"$f":"'General Table'!A136","v":126},173,{"$f":"'General Table'!C136","v":512},{"$f":"'General Table'!D136","v":"Oman"}]
[{"$f":"'General Table'!A95","v":85},174,{"$f":"'General Table'!C95","v":158},{"$f":"'General Table'!D95","v":"Other non-specified areas"}]
[{"$f":"'General Table'!A111","v":101},175,{"$f":"'General Table'!C111","v":586},{"$f":"'General Table'!D111","v":"Pakistan"}]
[{"$f":"'General Table'!A216","v":206},176,{"$f":"'General Table'!C216","v":591},{"$f":"'General Table'!D216","v":"Panama"}]
[{"$f":"'General Table'!A241","v":231},177,{"$f":"'General Table'!C241","v":598},{"$f":"'General Table'!D241","v":"Papua New Guinea"}]
[{"$f":"'General Table'!A226","v":216},178,{"$f":"'General Table'!C226","v":600},{"$f":"'General Table'!D226","v":"Paraguay"}]
[{"$f":"'General Table'!A227","v":217},179,{"$f":"'General Table'!C227","v":604},{"$f":"'General Table'!D227","v":"Peru"}]
[{"$f":"'General Table'!A120","v":110},180,{"$f":"'General Table'!C120","v":608},{"$f":"'General Table'!D120","v":"Philippines"}]
[{"$f":"'General Table'!A150","v":140},181,{"$f":"'General Table'!C150","v":616},{"$f":"'General Table'!D150","v":"Poland"}]
[{"$f":"'General Table'!A176","v":166},182,{"$f":"'General Table'!C176","v":620},{"$f":"'General Table'!D176","v":"Portugal"}]
[{"$f":"'General Table'!A203","v":193},183,{"$f":"'General Table'!C203","v":630},{"$f":"'General Table'!D203","v":"Puerto Rico"}]
[{"$f":"'General Table'!A137","v":127},184,{"$f":"'General Table'!C137","v":634},{"$f":"'General Table'!D137","v":"Qatar"}]
[{"$f":"'General Table'!A94","v":84},185,{"$f":"'General Table'!C94","v":410},{"$f":"'General Table'!D94","v":"Republic of Korea"}]
[{"$f":"'General Table'!A151","v":141},186,{"$f":"'General Table'!C151","v":498},{"$f":"'General Table'!D151","v":"Republic of Moldova"}]
[{"$f":"'General Table'!A36","v":26},187,{"$f":"'General Table'!C36","v":638},{"$f":"'General Table'!D36","v":"Réunion"}]
[{"$f":"'General Table'!A152","v":142},188,{"$f":"'General Table'!C152","v":642},{"$f":"'General Table'!D152","v":"Romania"}]
[{"$f":"'General Table'!A153","v":143},189,{"$f":"'General Table'!C153","v":643},{"$f":"'General Table'!D153","v":"Russian Federation"}]
[{"$f":"'General Table'!A37","v":27},190,{"$f":"'General Table'!C37","v":646},{"$f":"'General Table'!D37","v":"Rwanda"}]
[{"$f":"'General Table'!A204","v":194},191,{"$f":"'General Table'!C204","v":662},{"$f":"'General Table'!D204","v":"Saint Lucia"}]
[{"$f":"'General Table'!A205","v":195},192,{"$f":"'General Table'!C205","v":670},{"$f":"'General Table'!D205","v":"Saint Vincent and the Grenadines"}]
[{"$f":"'General Table'!A250","v":240},193,{"$f":"'General Table'!C250","v":882},{"$f":"'General Table'!D250","v":"Samoa"}]
[{"$f":"'General Table'!A54","v":44},194,{"$f":"'General Table'!C54","v":678},{"$f":"'General Table'!D54","v":"Sao Tome and Principe"}]
[{"$f":"'General Table'!A138","v":128},195,{"$f":"'General Table'!C138","v":682},{"$f":"'General Table'!D138","v":"Saudi Arabia"}]
[{"$f":"'General Table'!A83","v":73},196,{"$f":"'General Table'!C83","v":686},{"$f":"'General Table'!D83","v":"Senegal"}]
[{"$f":"'General Table'!A177","v":167},197,{"$f":"'General Table'!C177","v":688},{"$f":"'General Table'!D177","v":"Serbia"}]
[{"$f":"'General Table'!A38","v":28},198,{"$f":"'General Table'!C38","v":690},{"$f":"'General Table'!D38","v":"Seychelles"}]
[{"$f":"'General Table'!A84","v":74},199,{"$f":"'General Table'!C84","v":694},{"$f":"'General Table'!D84","v":"Sierra Leone"}]
[{"$f":"'General Table'!A121","v":111},200,{"$f":"'General Table'!C121","v":702},{"$f":"'General Table'!D121","v":"Singapore"}]
[{"$f":"'General Table'!A154","v":144},201,{"$f":"'General Table'!C154","v":703},{"$f":"'General Table'!D154","v":"Slovakia"}]
[{"$f":"'General Table'!A178","v":168},202,{"$f":"'General Table'!C178","v":705},{"$f":"'General Table'!D178","v":"Slovenia"}]
[{"$f":"'General Table'!A242","v":232},203,{"$f":"'General Table'!C242","v":90},{"$f":"'General Table'!D242","v":"Solomon Islands"}]
[{"$f":"'General Table'!A39","v":29},204,{"$f":"'General Table'!C39","v":706},{"$f":"'General Table'!D39","v":"Somalia"}]
[{"$f":"'General Table'!A67","v":57},205,{"$f":"'General Table'!C67","v":710},{"$f":"'General Table'!D67","v":"South Africa"}]
[{"$f":"'General Table'!A40","v":30},206,{"$f":"'General Table'!C40","v":728},{"$f":"'General Table'!D40","v":"South Sudan"}]
[{"$f":"'General Table'!A179","v":169},207,{"$f":"'General Table'!C179","v":724},{"$f":"'General Table'!D179","v":"Spain"}]
[{"$f":"'General Table'!A112","v":102},208,{"$f":"'General Table'!C112","v":144},{"$f":"'General Table'!D112","v":"Sri Lanka"}]
[{"$f":"'General Table'!A139","v":129},209,{"$f":"'General Table'!C139","v":275},{"$f":"'General Table'!D139","v":"State of Palestine"}]
[{"$f":"'General Table'!A60","v":50},210,{"$f":"'General Table'!C60","v":729},{"$f":"'General Table'!D60","v":"Sudan"}]
[{"$f":"'General Table'!A228","v":218},211,{"$f":"'General Table'!C228","v":740},{"$f":"'General Table'!D228","v":"Suriname"}]
[{"$f":"'General Table'!A68","v":58},212,{"$f":"'General Table'!C68","v":748},{"$f":"'General Table'!D68","v":"Swaziland"}]
[{"$f":"'General Table'!A166","v":156},213,{"$f":"'General Table'!C166","v":752},{"$f":"'General Table'!D166","v":"Sweden"}]
[{"$f":"'General Table'!A188","v":178},214,{"$f":"'General Table'!C188","v":756},{"$f":"'General Table'!D188","v":"Switzerland"}]
[{"$f":"'General Table'!A140","v":130},215,{"$f":"'General Table'!C140","v":760},{"$f":"'General Table'!D140","v":"Syrian Arab Republic"}]
[{"$f":"'General Table'!A100","v":90},216,{"$f":"'General Table'!C100","v":762},{"$f":"'General Table'!D100","v":"Tajikistan"}]
[{"$f":"'General Table'!A180","v":170},217,{"$f":"'General Table'!C180","v":807},{"$f":"'General Table'!D180","v":"TFYR Macedonia"}]
[{"$f":"'General Table'!A122","v":112},218,{"$f":"'General Table'!C122","v":764},{"$f":"'General Table'!D122","v":"Thailand"}]
[{"$f":"'General Table'!A123","v":113},219,{"$f":"'General Table'!C123","v":626},{"$f":"'General Table'!D123","v":"Timor-Leste"}]
[{"$f":"'General Table'!A85","v":75},220,{"$f":"'General Table'!C85","v":768},{"$f":"'General Table'!D85","v":"Togo"}]
[{"$f":"'General Table'!A251","v":241},221,{"$f":"'General Table'!C251","v":776},{"$f":"'General Table'!D251","v":"Tonga"}]
[{"$f":"'General Table'!A206","v":196},222,{"$f":"'General Table'!C206","v":780},{"$f":"'General Table'!D206","v":"Trinidad and Tobago"}]
[{"$f":"'General Table'!A61","v":51},223,{"$f":"'General Table'!C61","v":788},{"$f":"'General Table'!D61","v":"Tunisia"}]
[{"$f":"'General Table'!A141","v":131},224,{"$f":"'General Table'!C141","v":792},{"$f":"'General Table'!D141","v":"Turkey"}]
[{"$f":"'General Table'!A101","v":91},225,{"$f":"'General Table'!C101","v":795},{"$f":"'General Table'!D101","v":"Turkmenistan"}]
[{"$f":"'General Table'!A41","v":31},226,{"$f":"'General Table'!C41","v":800},{"$f":"'General Table'!D41","v":"Uganda"}]
[{"$f":"'General Table'!A155","v":145},227,{"$f":"'General Table'!C155","v":804},{"$f":"'General Table'!D155","v":"Ukraine"}]
[{"$f":"'General Table'!A142","v":132},228,{"$f":"'General Table'!C142","v":784},{"$f":"'General Table'!D142","v":"United Arab Emirates"}]
[{"$f":"'General Table'!A167","v":157},229,{"$f":"'General Table'!C167","v":826},{"$f":"'General Table'!D167","v":"United Kingdom"}]
[{"$f":"'General Table'!A42","v":32},230,{"$f":"'General Table'!C42","v":834},{"$f":"'General Table'!D42","v":"United Republic of Tanzania"}]
[{"$f":"'General Table'!A233","v":223},231,{"$f":"'General Table'!C233","v":840},{"$f":"'General Table'!D233","v":"United States of America"}]
[{"$f":"'General Table'!A207","v":197},232,{"$f":"'General Table'!C207","v":850},{"$f":"'General Table'!D207","v":"United States Virgin Islands"}]
[{"$f":"'General Table'!A229","v":219},233,{"$f":"'General Table'!C229","v":858},{"$f":"'General Table'!D229","v":"Uruguay"}]
[{"$f":"'General Table'!A102","v":92},234,{"$f":"'General Table'!C102","v":860},{"$f":"'General Table'!D102","v":"Uzbekistan"}]
[{"$f":"'General Table'!A243","v":233},235,{"$f":"'General Table'!C243","v":548},{"$f":"'General Table'!D243","v":"Vanuatu"}]
[{"$f":"'General Table'!A230","v":220},236,{"$f":"'General Table'!C230","v":862},{"$f":"'General Table'!D230","v":"Venezuela (Bolivarian Republic of)"}]
[{"$f":"'General Table'!A124","v":114},237,{"$f":"'General Table'!C124","v":704},{"$f":"'General Table'!D124","v":"Viet Nam"}]
[{"$f":"'General Table'!A62","v":52},238,{"$f":"'General Table'!C62","v":732},{"$f":"'General Table'!D62","v":"Western Sahara"}]
[{"$f":"'General Table'!A143","v":133},239,{"$f":"'General Table'!C143","v":887},{"$f":"'General Table'!D143","v":"Yemen"}]
[{"$f":"'General Table'!A43","v":33},240,{"$f":"'General Table'!C43","v":894},{"$f":"'General Table'!D43","v":"Zambia"}]
[{"$f":"'General Table'!A44","v":34},241,{"$f":"'General Table'!C44","v":716},{"$f":"'General Table'!D44","v":"Zimbabwe"}]

{"sheet":"Vaccination-Ages for antigen","index":10,"n_rows":54,"n_cols":37,"rows_kept":54,"cut":false,"hidden":true,"merged":[[5,2,5,3],[24,2,24,3]]}
[null,null,null,null,null,null,null,null,null,null,null,null,null,null,null,null,null,null,null,null,null,null,null,null,null,null,null,null,"Measles","Meningitis_Polysacharide","Meningitis ( Conjugate )","Cholera ","PCV","Pertussis ( Penta )","Yellow fever ","Japanese encephalitis","Dengue"]
[null,null,null,null,null,null,null,null,null,null,null,null,null,null,null,null,null,null,null,null,null,null,null,null,null,null,"AGE",null,1,2,3,4,5,6,7,8,9]
[null,{"$f":"'Denominator estimations'!D8","v":0},null,null,null,null,null,null,null,null,null,null,null,null,null,null,null,null,null,null,null,null,null,null,null,null,"0m","5m"]
[null,null,null,null,null,null,null,null,null,null,null,null,null,null,null,null,null,null,null,null,null,null,null,null,null,null,"6w","11m",null,null,null,null,1,1]
[null,null,null,null,null,null,null,null,null,null,null,null,null,null,null,null,null,null,null,null,null,null,null,null,null,null,"6m","8m",1]
[null,null,"TABLAAGES",null,null,null,null,null,null,null,null,null,null,null,null,null,null,null,null,null,null,null,null,null,null,null,"9m","11m",1,null,null,null,null,null,1,1]
[null,"Antigens (pull-down list)","Column Age group","Column %",null,null,1,2,3,4,5,6,7,8,9,10,11,12,13,14,15,16,17,18,null,null,"9m","59m"]
[null,"Measles",1,{"$f":"C8+1","v":2},null,null,"Measles",null,"Meningitis_Polysacharide",null,"Meningitis_Conjugate",null,"Cholera ",null,"PCV",null,"Pertussis_Penta",null,"Yellow_Fever ",null,"Japanese_Encephalitis",null,"Dengue",null,null,null,"12m","23m",1,null,1,1,1,1,1,1]
[null,"Meningitis_Polysacharide",{"$f":"C8+2","v":3},{"$f":"C9+1","v":4},null,null,"Age group","%","Age group","%","Age group","%","Age group","%","Age group","%","Age group","%","Age group","%","Age group","%","Age group","%",null,null,"24m","59m"]
[null,"Meningitis_Conjugate",{"$f":"C9+2","v":5},6,null,1,{"$f":"\"6 m - \"&B21&\" y\"","v":"6 m - 99 y"},{"$f":"IF(G19<>\"\",H12+H17+H18+H19,IF(G18<>\"\",H12+H17+H18,H12+H17))","v":{"$error":"#N/A"}},{"$f":"\"2 - \"&B21&\" y\"","v":"2 - 99 y"},{"$f":"J11+J12+J13+J14+J15","v":{"$error":"#N/A"}},{"$f":"\"1 - \"&B21&\" y\"","v":"1 - 99 y"},{"$f":"L13+L14+L15+L16","v":{"$error":"#N/A"}},{"$f":"\"1 - \"&B21&\" y\"","v":"1 - 99 y"},{"$f":"N13+N14+N15+N16","v":{"$error":"#N/A"}},{"$f":"\"6 weeks - \"&B21&\" y\"","v":"6 weeks - 99 y"},{"$f":"P11+P12+P13","v":0.1591526923076923},{"$f":"IF(B19=\"23 m\",\"6 weeks - 23 m\",IF(B19=\"59 m\",\"6 weeks - 59 m\",\"6 weeks - \"&B21&\" y\"))","v":"6 weeks - 99 y"},{"$f":"R11+R12+R13+R15","v":{"$error":"#N/A"}},{"$f":"\"9 m - \"&B21&\" y\"","v":"9 m - 99 y"},{"$f":"T11+T12+T13+T15+T16+T18","v":{"$error":"#N/A"}},{"$f":"\"9 m - \"&B21&\" y\"","v":"9 m - 99 y"},{"$f":"V11+V12+V13+V15+V16+V18","v":{"$error":"#N/A"}},{"$f":"\"9 - \"&B21&\" y\"","v":"9 - 99 y"},{"$f":"X11+X12+X13+X14","v":{"$error":"#N/A"}},null,null,"12m","59m",1,null,1,1]
[null,"Cholera ",7,8,null,2,{"$f":"\"9 m - \"&B21&\" y\"","v":"9 m - 99 y"},{"$f":"IF(G19<>\"\",H17+H18+H19,IF(G18<>\"\",H17+H18,H17))","v":{"$error":"#N/A"}},"2 - 4 y (24 - 59m)",{"$f":"'Denominator estimations'!T42","v":9.9499999999999991E-2},"12 - 23 m",{"$f":"'Denominator estimations'!T35","v":3.61E-2},"12 - 23 m",{"$f":"'Denominator estimations'!T35","v":3.61E-2},"6 weeks - 11 m",{"$f":"'Denominator estimations'!T56+'Denominator estimations'!T51+'Denominator estimations'!T52","v":2.3552692307692309E-2},"6 weeks - 11 m",{"$f":"'Denominator estimations'!T56+'Denominator estimations'!T51+'Denominator estimations'!T52","v":2.3552692307692309E-2},{"$f":"\"9 - 11 m\"","v":"9 - 11 m"},{"$f":"'Denominator estimations'!T52","v":9.4649999999999995E-3},{"$f":"\"9 - 11 m\"","v":"9 - 11 m"},{"$f":"'Denominator estimations'!T52","v":9.4649999999999995E-3},{"$f":"\"9 - 14 y\"","v":"9 - 14 y"},{"$f":"IF(W11=\"\",0,VLOOKUP(B3,TABLAVACC,22,FALSE))","v":{"$error":"#N/A"}},null,null,"24m","59m",null,1,null,null,1,1,1,1]
[null,"PCV",9,10,null,3,"6-8 m",{"$f":"'Denominator estimations'!T51","v":9.4649999999999995E-3},"5 - 14 y",{"$f":"'Denominator estimations'!T12","v":{"$error":"#N/A"}},"24 - 59m",{"$f":"'Denominator estimations'!T42","v":9.9499999999999991E-2},"24 - 59m",{"$f":"'Denominator estimations'!T42","v":9.9499999999999991E-2},"12 - 23 m",{"$f":"'Denominator estimations'!T35","v":3.61E-2},"12 - 23 m",{"$f":"'Denominator estimations'!T35","v":3.61E-2},{"$f":"\"12 - 23 m\"","v":"12 - 23 m"},{"$f":"'Denominator estimations'!T35","v":3.61E-2},{"$f":"\"12 - 23 m\"","v":"12 - 23 m"},{"$f":"'Denominator estimations'!T35","v":3.61E-2},{"$f":"IF(B21<29,\"\",\"15 - 29 y\")","v":"15 - 29 y"},{"$f":"IF(W12=\"\",0,'Denominator estimations'!T13)","v":{"$error":"#N/A"}},null,null,"5y","10y",1,null,null,null,null,1]
[null,"Pertussis_Penta",11,12,null,4,"9-11 m",{"$f":"'Denominator estimations'!T52","v":9.4649999999999995E-3},"15- 29 y",{"$f":"'Denominator estimations'!T13","v":{"$error":"#N/A"}},"12 - 59m",{"$f":"H14","v":0.1356},"12 - 59m",{"$f":"'Denominator estimations'!T35+'Denominator estimations'!T36+'Denominator estimations'!T37+'Denominator estimations'!T38","v":0.1356},{"$f":"IF(B21<2,\"\",\"24 - 59 m\")","v":"24 - 59 m"},{"$f":"IF(O13=\"\",0,'Denominator estimations'!T42)","v":9.9499999999999991E-2},{"$f":"IF(B19=\"23 m\",\"\",\"24 - 59  m\")","v":"24 - 59  m"},{"$f":"IF(Q13=\"\",0,'Denominator estimations'!T42)","v":9.9499999999999991E-2},{"$f":"\"24 - 59 m\"","v":"24 - 59 m"},{"$f":"'Denominator estimations'!T42","v":9.9499999999999991E-2},{"$f":"\"24 - 59 m\"","v":"24 - 59 m"},{"$f":"'Denominator estimations'!T42","v":9.9499999999999991E-2},{"$f":"IF(B21>29,\"30 -44 y\",\"\")","v":"30 -44 y"},{"$f":"IF(W13=\"\",0,'Denominator estimations'!T14)","v":{"$error":"#N/A"}},null,null,"5y","12y",1,null,null,null,null,1]
[null,"Yellow_Fever ",13,14,null,5,"12-59 m",{"$f":"'Denominator estimations'!T28-'Denominator estimations'!T34","v":0.1356},{"$f":"IF(B21>29,\"30-44 y\",\"\")","v":"30-44 y"},{"$f":"IF(I14=\"\",0,'Denominator estimations'!T14)","v":{"$error":"#N/A"}},"5 - 14 y",{"$f":"IF(K14=\"\",0,'Denominator estimations'!T12)","v":{"$error":"#N/A"}},"5 - 14 y",{"$f":"'Denominator estimations'!T12","v":{"$error":"#N/A"}},null,null,{"$f":"IF(B21<5,\"\",\"6 weeks - 59 m\")","v":"6 weeks - 59 m"},{"$f":"IF(Q14=\"\",0,R11+R12+R13)","v":0.1591526923076923},{"$f":"IF(B21=4,\"\",\"9 - 59 m\")","v":"9 - 59 m"},{"$f":"IF(S14=\"\",0,T11+T12+T13)","v":0.145065},{"$f":"IF(B21=4,\"\",\"9 - 59 m\")","v":"9 - 59 m"},{"$f":"IF(U14=\"\",0,V11+V12+V13)","v":0.145065},{"$f":"IF(B21=99,\">= 45 y\",\"\")","v":">= 45 y"},{"$f":"IF(W14=\"\",0,'Denominator estimations'!T15)","v":{"$error":"#N/A"}},null,null,"5y","14y",1,1,1,1,null,1,1,1]
[null,"Japanese_Encephalitis",15,16,null,6,"12-23 m",{"$f":"'Denominator estimations'!T35","v":3.61E-2},{"$f":"IF(B21>44,\">= 45 y\",\"\")","v":">= 45 y"},{"$f":"IF(I15=\"\",0,'Denominator estimations'!T15)","v":{"$error":"#N/A"}},{"$f":"IF(B21<15,\"\",IF(B21<20,\"15 - 19 y\",\"15 - 29 y\"))","v":"15 - 29 y"},{"$f":"IF(K15=\"\",0,IF(K15=\"15-19 y\",VLOOKUP(B3,TABLAVACC,13,FALSE),IF(K15=\"15-29 y\",'Denominator estimations'!T13,'Denominator estimations'!T13+'Denominator estimations'!T14+'Denominator estimations'!T15)))","v":{"$error":"#N/A"}},{"$f":"IF(B21<15,\"\",\"15 - 29 y\")","v":"15 - 29 y"},{"$f":"IF(M15=\"\",0,'Denominator estimations'!T13)","v":{"$error":"#N/A"}},null,null,{"$f":"IF(Q14=\"\",\"\",\"5 - \"&B21&\" y\")","v":"5 - 99 y"},{"$f":"IF(Q15=\"\",0,IF(B21<5,\"\",IF(B21>11,'Denominator estimations'!T12,VLOOKUP(B3,TABLAVACC,C21,FALSE)-'Denominator estimations'!M16)))","v":{"$error":"#N/A"}},{"$f":"IF(S14=\"\",\"\",\"5 - 14 y\")","v":"5 - 14 y"},{"$f":"IF(S15=\"\",0,'Denominator estimations'!T12)","v":{"$error":"#N/A"}},{"$f":"IF(U14=\"\",\"\",\"5 - 14 y\")","v":"5 - 14 y"},{"$f":"IF(U15=\"\",0,'Denominator estimations'!T12)","v":{"$error":"#N/A"}},null,null,null,null,"14y","29y",null,1,1]
[null,"Dengue",17,18,null,7,"24-59 m",{"$f":"'Denominator estimations'!T42","v":9.9499999999999991E-2},null,null,{"$f":"IF(B21<99,\"\",\">= 30 y\")","v":">= 30 y"},{"$f":"IF(K16=\"\",0,'Denominator estimations'!T14+'Denominator estimations'!T15)","v":{"$error":"#N/A"}},{"$f":"IF(B21<99,\"\",\">= 30 y\")","v":">= 30 y"},{"$f":"IF(M16=\"\",0,'Denominator estimations'!T14+'Denominator estimations'!T15)","v":{"$error":"#N/A"}},null,null,null,null,{"$f":"IF(B21>28,\"15-29 y\",\"\")","v":"15-29 y"},{"$f":"IF(S16=\"\",0,'Denominator estimations'!T13)","v":{"$error":"#N/A"}},{"$f":"IF(B21>28,\"15-29 y\",\"\")","v":"15-29 y"},{"$f":"IF(U16=\"\",0,'Denominator estimations'!T13)","v":{"$error":"#N/A"}},null,null,null,null,"6m","12y",1]
[null,null,null,null,null,8,"9-59 m",{"$f":"'Denominator estimations'!T28-'Denominator estimations'!T50-'Denominator estimations'!T51","v":0.145065},null,null,null,null,null,null,null,null,null,null,{"$f":"IF(S16=\"\",\"\",\"5 - 29 y\")","v":"5 - 29 y"},{"$f":"IF(S17=\"\",0,T15+T16)","v":{"$error":"#N/A"}},{"$f":"IF(U16=\"\",\"\",\"5 - 29 y\")","v":"5 - 29 y"},{"$f":"IF(U17=\"\",0,V15+V16)","v":{"$error":"#N/A"}},null,null,null,null,"6m","14y",1]
[null,{"$f":"'Denominator estimations'!AE9","v":"Meningitis_Polysacharide"},null,null,null,9,{"$f":"IF(B21<5,\"\",IF(B21<15,\"5-\"&B21&\" y\",\"5-14 y\"))","v":"5-14 y"},{"$f":"IF(B21<5,\"\",IF(B21>11,'Denominator estimations'!T12,VLOOKUP(B3,TABLAVACC,C21,FALSE)-'Denominator estimations'!M16))","v":{"$error":"#N/A"}},null,null,null,null,null,null,null,null,null,null,{"$f":"IF(B21=99,\">= 30 y\",\"\")","v":">= 30 y"},{"$f":"IF(S18=\"\",0,'Denominator estimations'!T14+'Denominator estimations'!T15)","v":{"$error":"#N/A"}},{"$f":"IF(B21=99,\">= 30 y\",\"\")","v":">= 30 y"},{"$f":"IF(U18=\"\",0,'Denominator estimations'!T14+'Denominator estimations'!T15)","v":{"$error":"#N/A"}},null,null,null,null,"9y","14y",null,null,null,null,null,null,null,null,1]
[null,{"$f":"'Denominator estimations'!AE11","v":"<99 y.o."},null,null,null,10,{"$f":"IF(B21<15,\"\",\"15-\"&B21&\" y\")","v":"15-99 y"},{"$f":"IF(G19=\"\",0,IF(B21=29,'Denominator estimations'!T13,(VLOOKUP(B3,TABLAVACC,C21,FALSE)-'Denominator estimations'!$M$16)))","v":{"$error":"#N/A"}},null,null,null,null,null,null,null,null,null,null,null,null,null,null,null,null,null,null,"15y","99y",null,null,null,1,null,null,1,1,1]
[null,"User entered MAX AGE","COLUMN in TABLAVACC",null,null,null,null,null,null,null,null,null,null,null,null,null,null,null,null,null,null,null,null,null,null,null,"30y","44y",null,1]
[null,{"$f":"VLOOKUP(B19,G28:I37,2,FALSE)","v":99},{"$f":"VLOOKUP('Denominator estimations'!AE11,G30:I37,3,FALSE)","v":19},null,null,null,null,null,null,null,null,null,null,null,null,null,null,null,null,null,null,null,null,null,null,null,"30y","99y",null,1,1,1,null,null,1,1,1]
[]
[]
[null,null,null,null,null,null,"Measles\nmax age (visual)","Maximum\nage (real)","Column\nTABLAVACC"]
[null,null,"AGEGROUPVAC"]
[null,null,"ROW","COLUMN"]
[null,{"$f":"'Denominator estimations'!AE9","v":"Meningitis_Polysacharide"},{"$f":"VLOOKUP(B27,B8:D16,2,FALSE)","v":3},{"$f":"VLOOKUP(B27,B8:D16,3,FALSE)","v":4}]
[null,null,null,null,null,null,"23 m",1]
[1,{"$f":"INDEX(AGEGROUPVAC,A29,$C$27)","v":"2 - 99 y"},{"$f":"INDEX(AGEGROUPVAC,A29,$D$27)","v":{"$error":"#N/A"}},null,null,null,"59 m",4]
[2,{"$f":"INDEX(AGEGROUPVAC,A30,$C$27)","v":"2 - 4 y (24 - 59m)"},9.9499999999999991E-2,null,null,null,"<5 y.o.",4]
[3,{"$f":"INDEX(AGEGROUPVAC,A31,$C$27)","v":"5 - 14 y"},{"$error":"#N/A"},null,null,null,"<10 y.o.",9,5]
[4,"15- 29 y",{"$error":"#N/A"},null,null,null,"<12 y.o.",11,9]
[5,"30-44 y",{"$error":"#N/A"},null,null,null,"<15 y.o.",14,11]
[6,">= 45 y",{"$error":"#N/A"},null,null,null,"<20 y.o.",19,13]
[7,0,0,null,null,null,"<30 y.o.",29,15]
[8,0,0,null,null,null,"<45 y.o.",44,17]
[9,0,0,null,null,null,"<99 y.o.",99,19]
[10,0,0]
[]
[]
[]
[]
[]
[]
[]
[]
[null,null,null,null,null,null,"Measles","Mening_poly\nmax age (visual)","Meningitis ( Conjugate )","Cholera ","PCV","Pertussis ( Penta )","Yellow fever ","Japanese encephalitis","Dengue"]
[null,null,null,null,null,null,"<5 y.o.","<30 y.o.","<15 y.o.","<15 y.o.","23 m","23 m","<5 y.o.","<5 y.o.","<15 y.o."]
[null,null,null,null,null,null,"<10 y.o.","<45 y.o.","<20 y.o.","<30 y.o.","59 m","59 m","<15 y.o.","<15 y.o.","<30 y.o."]
[null,null,null,null,null,null,"<12 y.o.","<99 y.o.","<30 y.o.","<99 y.o.",null,"<10 y.o.","<30 y.o.","<30 y.o.","<45 y.o."]
[null,null,null,null,null,null,"<15 y.o.",null,"<99 y.o.",null,null,"<12 y.o.","<99 y.o.","<99 y.o.","<99 y.o."]
[null,null,null,null,null,null,"<20 y.o.",null,null,null,null,"<15 y.o."]
[null,null,null,null,null,null,"<30 y.o."]
[null,null,null,null,null,null,"6m","2 y","1 y","1 y","6 w","6 w","9 m","9 m","9 y"]